BEGIN:VCALENDAR
VERSION:2.0
PRODID:-//Activity Options - ECPv6.15.20//NONSGML v1.0//EN
CALSCALE:GREGORIAN
METHOD:PUBLISH
X-WR-CALNAME:Activity Options
X-ORIGINAL-URL:https://www.activityoptions.com
X-WR-CALDESC:Events for Activity Options
REFRESH-INTERVAL;VALUE=DURATION:PT1H
X-Robots-Tag:noindex
X-PUBLISHED-TTL:PT1H
BEGIN:VTIMEZONE
TZID:UTC
BEGIN:STANDARD
TZOFFSETFROM:+0000
TZOFFSETTO:+0000
TZNAME:UTC
DTSTART:20190101T000000
END:STANDARD
END:VTIMEZONE
BEGIN:VEVENT
DTSTART;TZID=UTC:20210625T160000
DTEND;TZID=UTC:20210625T200000
DTSTAMP:20260423T152420
CREATED:20210502T163745Z
LAST-MODIFIED:20210502T163745Z
UID:10000246-1624636800-1624651200@www.activityoptions.com
SUMMARY:• Wild Game Bowling and Dinner
DESCRIPTION:Our favorite bowling alley has reopened!! Two hours of bowling or video arcade and dinner at this Bergen Park boutique entertainment center. Free for Denver residents. $99 for non residents\, Medicaid waiver restrictions may apply. \nRegister Online
URL:https://www.activityoptions.com/event/wild-game-bowling-and-dinner-2/
LOCATION:Wild Game\, 1204 Bergen Pkwy\, Evergreen\, CO\, 80439
ATTACH;FMTTYPE=image/jpeg:https://www.activityoptions.com/wp-content/uploads/2017/12/Wild-Game-sq.jpg
ORGANIZER;CN="Activity Options LLC /Project World PBC":MAILTO:signup@activityoptions.com
GEO:39.6925253;-105.3546392
X-APPLE-STRUCTURED-LOCATION;VALUE=URI;X-ADDRESS=Wild Game 1204 Bergen Pkwy Evergreen CO 80439;X-APPLE-RADIUS=500;X-TITLE=1204 Bergen Pkwy:geo:-105.3546392,39.6925253
END:VEVENT
BEGIN:VEVENT
DTSTART;TZID=UTC:20210529T160000
DTEND;TZID=UTC:20210529T200000
DTSTAMP:20260423T152420
CREATED:20210410T031540Z
LAST-MODIFIED:20210410T031540Z
UID:10000118-1622304000-1622318400@www.activityoptions.com
SUMMARY:• Wild Game Bowling & Dinner
DESCRIPTION:Our favorite bowling alley has reopened!! Two hours of bowling or video arcade and dinner at this Bergen Park boutique entertainment center. Free for Denver residents. $99 for non residents\, Medicaid waiver restrictions may apply. \nRegister Online
URL:https://www.activityoptions.com/event/wild-game-bowling-dinner/
LOCATION:Wild Game\, 1204 Bergen Pkwy\, Evergreen\, CO\, 80439
ATTACH;FMTTYPE=image/jpeg:https://www.activityoptions.com/wp-content/uploads/2017/12/Wild-Game-sq-1.jpg
ORGANIZER;CN="Activity Options LLC /Project World PBC":MAILTO:signup@activityoptions.com
GEO:39.6925253;-105.3546392
X-APPLE-STRUCTURED-LOCATION;VALUE=URI;X-ADDRESS=Wild Game 1204 Bergen Pkwy Evergreen CO 80439;X-APPLE-RADIUS=500;X-TITLE=1204 Bergen Pkwy:geo:-105.3546392,39.6925253
END:VEVENT
BEGIN:VEVENT
DTSTART;TZID=UTC:20210423T160000
DTEND;TZID=UTC:20210423T200000
DTSTAMP:20260423T152420
CREATED:20210329T051106Z
LAST-MODIFIED:20210329T051115Z
UID:10000229-1619193600-1619208000@www.activityoptions.com
SUMMARY:• Wild Game Bowling and Dinner
DESCRIPTION:Our favorite bowling alley has reopened!! Two hours of bowling or video arcade and dinner at this Bergen Park boutique entertainment center. Free for Denver residents. $99 for non residents. \nRegister Online
URL:https://www.activityoptions.com/event/wild-game-bowling-and-dinner/
LOCATION:Wild Game\, 1204 Bergen Pkwy\, Evergreen\, CO\, 80439
ATTACH;FMTTYPE=image/jpeg:https://www.activityoptions.com/wp-content/uploads/2017/12/Wild-Game-sq-1.jpg
ORGANIZER;CN="Activity Options LLC /Project World PBC":MAILTO:signup@activityoptions.com
GEO:39.6925253;-105.3546392
X-APPLE-STRUCTURED-LOCATION;VALUE=URI;X-ADDRESS=Wild Game 1204 Bergen Pkwy Evergreen CO 80439;X-APPLE-RADIUS=500;X-TITLE=1204 Bergen Pkwy:geo:-105.3546392,39.6925253
END:VEVENT
BEGIN:VEVENT
DTSTART;TZID=UTC:20200619T100000
DTEND;TZID=UTC:20200619T150000
DTSTAMP:20260423T152420
CREATED:20191120T042732Z
LAST-MODIFIED:20200303T174115Z
UID:10000029-1592560800-1592578800@www.activityoptions.com
SUMMARY:• Games\, Prizes and Bowling! Fridays at WILD GAME!
DESCRIPTION:Take a scenic drive to Evergreen and enjoy the entertainment mountain style\, at the Wild Game in Bergen Park! Bowling\, diverse video games\, table games\, prizes and lunch. Free for Denver residents. $79 for non residents\, Medicaid waiver restrictions may apply. \nRegister Online
URL:https://www.activityoptions.com/event/%e2%80%a2-games-prizes-bowling-fridays-wild-game/2020-06-19/
LOCATION:Wild Game\, 1204 Bergen Pkwy\, Evergreen\, CO\, 80439
ATTACH;FMTTYPE=image/jpeg:https://www.activityoptions.com/wp-content/uploads/2017/12/Wild-Game-sq-1.jpg
ORGANIZER;CN="Activity Options LLC /Project World PBC":MAILTO:signup@activityoptions.com
GEO:39.6925253;-105.3546392
X-APPLE-STRUCTURED-LOCATION;VALUE=URI;X-ADDRESS=Wild Game 1204 Bergen Pkwy Evergreen CO 80439;X-APPLE-RADIUS=500;X-TITLE=1204 Bergen Pkwy:geo:-105.3546392,39.6925253
END:VEVENT
BEGIN:VEVENT
DTSTART;TZID=UTC:20200515T100000
DTEND;TZID=UTC:20200515T150000
DTSTAMP:20260423T152420
CREATED:20191120T042732Z
LAST-MODIFIED:20200303T174115Z
UID:10000028-1589536800-1589554800@www.activityoptions.com
SUMMARY:• Games\, Prizes and Bowling! Fridays at WILD GAME!
DESCRIPTION:Take a scenic drive to Evergreen and enjoy the entertainment mountain style\, at the Wild Game in Bergen Park! Bowling\, diverse video games\, table games\, prizes and lunch. Free for Denver residents. $79 for non residents\, Medicaid waiver restrictions may apply. \nRegister Online
URL:https://www.activityoptions.com/event/%e2%80%a2-games-prizes-bowling-fridays-wild-game/2020-05-15/
LOCATION:Wild Game\, 1204 Bergen Pkwy\, Evergreen\, CO\, 80439
ATTACH;FMTTYPE=image/jpeg:https://www.activityoptions.com/wp-content/uploads/2017/12/Wild-Game-sq-1.jpg
ORGANIZER;CN="Activity Options LLC /Project World PBC":MAILTO:signup@activityoptions.com
GEO:39.6925253;-105.3546392
X-APPLE-STRUCTURED-LOCATION;VALUE=URI;X-ADDRESS=Wild Game 1204 Bergen Pkwy Evergreen CO 80439;X-APPLE-RADIUS=500;X-TITLE=1204 Bergen Pkwy:geo:-105.3546392,39.6925253
END:VEVENT
BEGIN:VEVENT
DTSTART;TZID=UTC:20200417T100000
DTEND;TZID=UTC:20200417T150000
DTSTAMP:20260423T152420
CREATED:20191120T042732Z
LAST-MODIFIED:20200303T174115Z
UID:10000027-1587117600-1587135600@www.activityoptions.com
SUMMARY:• Games\, Prizes and Bowling! Fridays at WILD GAME!
DESCRIPTION:Take a scenic drive to Evergreen and enjoy the entertainment mountain style\, at the Wild Game in Bergen Park! Bowling\, diverse video games\, table games\, prizes and lunch. Free for Denver residents. $79 for non residents\, Medicaid waiver restrictions may apply. \nRegister Online
URL:https://www.activityoptions.com/event/%e2%80%a2-games-prizes-bowling-fridays-wild-game/2020-04-17/
LOCATION:Wild Game\, 1204 Bergen Pkwy\, Evergreen\, CO\, 80439
ATTACH;FMTTYPE=image/jpeg:https://www.activityoptions.com/wp-content/uploads/2017/12/Wild-Game-sq-1.jpg
ORGANIZER;CN="Activity Options LLC /Project World PBC":MAILTO:signup@activityoptions.com
GEO:39.6925253;-105.3546392
X-APPLE-STRUCTURED-LOCATION;VALUE=URI;X-ADDRESS=Wild Game 1204 Bergen Pkwy Evergreen CO 80439;X-APPLE-RADIUS=500;X-TITLE=1204 Bergen Pkwy:geo:-105.3546392,39.6925253
END:VEVENT
BEGIN:VEVENT
DTSTART;TZID=UTC:20200320T100000
DTEND;TZID=UTC:20200320T150000
DTSTAMP:20260423T152420
CREATED:20191120T042732Z
LAST-MODIFIED:20200303T174115Z
UID:10000026-1584698400-1584716400@www.activityoptions.com
SUMMARY:• Games\, Prizes and Bowling! Fridays at WILD GAME!
DESCRIPTION:Take a scenic drive to Evergreen and enjoy the entertainment mountain style\, at the Wild Game in Bergen Park! Bowling\, diverse video games\, table games\, prizes and lunch. Free for Denver residents. $79 for non residents\, Medicaid waiver restrictions may apply. \nRegister Online
URL:https://www.activityoptions.com/event/%e2%80%a2-games-prizes-bowling-fridays-wild-game/2020-03-20/
LOCATION:Wild Game\, 1204 Bergen Pkwy\, Evergreen\, CO\, 80439
ATTACH;FMTTYPE=image/jpeg:https://www.activityoptions.com/wp-content/uploads/2017/12/Wild-Game-sq-1.jpg
ORGANIZER;CN="Activity Options LLC /Project World PBC":MAILTO:signup@activityoptions.com
GEO:39.6925253;-105.3546392
X-APPLE-STRUCTURED-LOCATION;VALUE=URI;X-ADDRESS=Wild Game 1204 Bergen Pkwy Evergreen CO 80439;X-APPLE-RADIUS=500;X-TITLE=1204 Bergen Pkwy:geo:-105.3546392,39.6925253
END:VEVENT
BEGIN:VEVENT
DTSTART;TZID=UTC:20200221T100000
DTEND;TZID=UTC:20200221T150000
DTSTAMP:20260423T152420
CREATED:20191120T042732Z
LAST-MODIFIED:20200303T174115Z
UID:10000025-1582279200-1582297200@www.activityoptions.com
SUMMARY:• Games\, Prizes and Bowling! Fridays at WILD GAME!
DESCRIPTION:Take a scenic drive to Evergreen and enjoy the entertainment mountain style\, at the Wild Game in Bergen Park! Bowling\, diverse video games\, table games\, prizes and lunch. Free for Denver residents. $79 for non residents\, Medicaid waiver restrictions may apply. \nRegister Online
URL:https://www.activityoptions.com/event/%e2%80%a2-games-prizes-bowling-fridays-wild-game/2020-02-21/
LOCATION:Wild Game\, 1204 Bergen Pkwy\, Evergreen\, CO\, 80439
ATTACH;FMTTYPE=image/jpeg:https://www.activityoptions.com/wp-content/uploads/2017/12/Wild-Game-sq-1.jpg
ORGANIZER;CN="Activity Options LLC /Project World PBC":MAILTO:signup@activityoptions.com
GEO:39.6925253;-105.3546392
X-APPLE-STRUCTURED-LOCATION;VALUE=URI;X-ADDRESS=Wild Game 1204 Bergen Pkwy Evergreen CO 80439;X-APPLE-RADIUS=500;X-TITLE=1204 Bergen Pkwy:geo:-105.3546392,39.6925253
END:VEVENT
BEGIN:VEVENT
DTSTART;TZID=UTC:20200117T100000
DTEND;TZID=UTC:20200117T150000
DTSTAMP:20260423T152420
CREATED:20191120T042732Z
LAST-MODIFIED:20200303T174115Z
UID:10000024-1579255200-1579273200@www.activityoptions.com
SUMMARY:• Games\, Prizes and Bowling! Fridays at WILD GAME!
DESCRIPTION:Take a scenic drive to Evergreen and enjoy the entertainment mountain style\, at the Wild Game in Bergen Park! Bowling\, diverse video games\, table games\, prizes and lunch. Free for Denver residents. $79 for non residents\, Medicaid waiver restrictions may apply. \nRegister Online
URL:https://www.activityoptions.com/event/%e2%80%a2-games-prizes-bowling-fridays-wild-game/2020-01-17/
LOCATION:Wild Game\, 1204 Bergen Pkwy\, Evergreen\, CO\, 80439
ATTACH;FMTTYPE=image/jpeg:https://www.activityoptions.com/wp-content/uploads/2017/12/Wild-Game-sq-1.jpg
ORGANIZER;CN="Activity Options LLC /Project World PBC":MAILTO:signup@activityoptions.com
GEO:39.6925253;-105.3546392
X-APPLE-STRUCTURED-LOCATION;VALUE=URI;X-ADDRESS=Wild Game 1204 Bergen Pkwy Evergreen CO 80439;X-APPLE-RADIUS=500;X-TITLE=1204 Bergen Pkwy:geo:-105.3546392,39.6925253
END:VEVENT
END:VCALENDAR