BEGIN:VCALENDAR
VERSION:2.0
PRODID:-//Activity Options - ECPv6.15.20//NONSGML v1.0//EN
CALSCALE:GREGORIAN
METHOD:PUBLISH
X-WR-CALNAME:Activity Options
X-ORIGINAL-URL:https://www.activityoptions.com
X-WR-CALDESC:Events for Activity Options
REFRESH-INTERVAL;VALUE=DURATION:PT1H
X-Robots-Tag:noindex
X-PUBLISHED-TTL:PT1H
BEGIN:VTIMEZONE
TZID:UTC
BEGIN:STANDARD
TZOFFSETFROM:+0000
TZOFFSETTO:+0000
TZNAME:UTC
DTSTART:20230101T000000
END:STANDARD
END:VTIMEZONE
BEGIN:VEVENT
DTSTART;TZID=UTC:20240609T090000
DTEND;TZID=UTC:20240609T150000
DTSTAMP:20260423T152621
CREATED:20240518T161036Z
LAST-MODIFIED:20240529T031923Z
UID:10000608-1717923600-1717945200@www.activityoptions.com
SUMMARY:•Wild Animal Sanctuary
DESCRIPTION:Travel to Keensburg to visit the Wild Animal Sanctuary and walk the bridge over the animal habitats. See many amazing animal encounters not seen at the zoo!! Free for Denver residents. Private pay $159. If the activity is full please join the wait list so we know you are interested. \nRegister Online
URL:https://www.activityoptions.com/event/wild-animal-sanctuary/
LOCATION:Wild Animal Sanctuary\, 2999 Co Rd 53\, Keenesburg\, CO\, 80643
ATTACH;FMTTYPE=image/jpeg:https://www.activityoptions.com/wp-content/uploads/2018/02/Wild-life-Keensburg-sq.jpg
ORGANIZER;CN="Activity Options LLC /Project World PBC":MAILTO:signup@activityoptions.com
GEO:40.0437971;-104.5654994
X-APPLE-STRUCTURED-LOCATION;VALUE=URI;X-ADDRESS=Wild Animal Sanctuary 2999 Co Rd 53 Keenesburg CO 80643;X-APPLE-RADIUS=500;X-TITLE=2999 Co Rd 53:geo:-104.5654994,40.0437971
END:VEVENT
END:VCALENDAR