BEGIN:VCALENDAR
VERSION:2.0
PRODID:-//Activity Options - ECPv6.15.20//NONSGML v1.0//EN
CALSCALE:GREGORIAN
METHOD:PUBLISH
X-WR-CALNAME:Activity Options
X-ORIGINAL-URL:https://www.activityoptions.com
X-WR-CALDESC:Events for Activity Options
REFRESH-INTERVAL;VALUE=DURATION:PT1H
X-Robots-Tag:noindex
X-PUBLISHED-TTL:PT1H
BEGIN:VTIMEZONE
TZID:UTC
BEGIN:STANDARD
TZOFFSETFROM:+0000
TZOFFSETTO:+0000
TZNAME:UTC
DTSTART:20190101T000000
END:STANDARD
END:VTIMEZONE
BEGIN:VEVENT
DTSTART;TZID=UTC:20200209T103000
DTEND;TZID=UTC:20200209T163000
DTSTAMP:20260423T223048
CREATED:20200128T194245Z
LAST-MODIFIED:20200130T144948Z
UID:10000147-1581244200-1581265800@www.activityoptions.com
SUMMARY:•Denver's NEW Urban Putt Indoor Mini Golf
DESCRIPTION:Play putt -putt golf like you have never experienced before at the former Spaghetti Factory Building in downtown Denver. Unique features and fun! Lunch included. Free for Denver residents. $49 for non residents\, Medicaid waiver restrictions may apply. Register Online. \nRegister Online
URL:https://www.activityoptions.com/event/%e2%80%a2denvers-new-urban-putt-indoor-mini-golf/
LOCATION:Urban Putt\, 1201 18th St\, Denver\, Colorado\, 80202
ATTACH;FMTTYPE=image/png:https://www.activityoptions.com/wp-content/uploads/2020/01/UrbanPutt.png
ORGANIZER;CN="Activity Options LLC /Project World PBC":MAILTO:signup@activityoptions.com
END:VEVENT
END:VCALENDAR