BEGIN:VCALENDAR
VERSION:2.0
PRODID:-//Activity Options - ECPv6.15.20//NONSGML v1.0//EN
CALSCALE:GREGORIAN
METHOD:PUBLISH
X-WR-CALNAME:Activity Options
X-ORIGINAL-URL:https://www.activityoptions.com
X-WR-CALDESC:Events for Activity Options
REFRESH-INTERVAL;VALUE=DURATION:PT1H
X-Robots-Tag:noindex
X-PUBLISHED-TTL:PT1H
BEGIN:VTIMEZONE
TZID:UTC
BEGIN:STANDARD
TZOFFSETFROM:+0000
TZOFFSETTO:+0000
TZNAME:UTC
DTSTART:20210101T000000
END:STANDARD
END:VTIMEZONE
BEGIN:VEVENT
DTSTART;TZID=UTC:20220917T070000
DTEND;TZID=UTC:20220920T190000
DTSTAMP:20260423T184220
CREATED:20220607T162252Z
LAST-MODIFIED:20220815T122852Z
UID:10000376-1663398000-1663700400@www.activityoptions.com
SUMMARY:• Las Vegas and Southern Utah Trip
DESCRIPTION:Spend the first night visiting Las Vegas and then head up to Sand Hollow Utah and explore the sand dunes and Zion National Park. Free for Denver residents. $1899 for non residents\, contact us for private pay discounts if needed. Medicaid waiver restrictions may apply. \nRegister Online
URL:https://www.activityoptions.com/event/las-vegas-and-southern-utah/
LOCATION:Travel
ATTACH;FMTTYPE=image/png:https://www.activityoptions.com/wp-content/uploads/2022/06/LasVegasUtahTrip.png
ORGANIZER;CN="Activity Options LLC /Project World PBC":MAILTO:signup@activityoptions.com
END:VEVENT
END:VCALENDAR