BEGIN:VCALENDAR
VERSION:2.0
PRODID:-//Activity Options - ECPv6.15.20//NONSGML v1.0//EN
CALSCALE:GREGORIAN
METHOD:PUBLISH
X-WR-CALNAME:Activity Options
X-ORIGINAL-URL:https://www.activityoptions.com
X-WR-CALDESC:Events for Activity Options
REFRESH-INTERVAL;VALUE=DURATION:PT1H
X-Robots-Tag:noindex
X-PUBLISHED-TTL:PT1H
BEGIN:VTIMEZONE
TZID:UTC
BEGIN:STANDARD
TZOFFSETFROM:+0000
TZOFFSETTO:+0000
TZNAME:UTC
DTSTART:20180101T000000
END:STANDARD
END:VTIMEZONE
BEGIN:VEVENT
DTSTART;TZID=UTC:20200725T080000
DTEND;TZID=UTC:20200726T200000
DTSTAMP:20260423T232005
CREATED:20200129T011559Z
LAST-MODIFIED:20200129T011559Z
UID:10000175-1595664000-1595793600@www.activityoptions.com
SUMMARY:•Blake Shelton LIVE at Cheyenne Frontier Days
DESCRIPTION:Take a short road trip to Cheyenne\, WY and explore the grounds of Cheyenne Frontier Days before enjoying Blake Shelton at the Fair Stadium. Overnight at Tru by Hilton in Cheyenne. Free for Denver residents. $399 for non residents\, Medicaid waiver restrictions may apply. \nRegister Online
URL:https://www.activityoptions.com/event/%e2%80%a2blake-shelton-live-cheyenne-frontier-days/
LOCATION:The Cheyenne Frontier Days Arena\, 4610 Carey Avenue\, 1210 W 8th Ave\, Cheyenne\, WY\, 82001\, United States
ORGANIZER;CN="Activity Options LLC /Project World PBC":MAILTO:signup@activityoptions.com
END:VEVENT
BEGIN:VEVENT
DTSTART;TZID=UTC:20190727T080000
DTEND;TZID=UTC:20190728T150000
DTSTAMP:20260423T232005
CREATED:20190610T070521Z
LAST-MODIFIED:20190610T073022Z
UID:10000091-1564214400-1564326000@www.activityoptions.com
SUMMARY:• Tim McGraw Concert at Cheyenne Frontier Days
DESCRIPTION:Enjoy a short drive to Cheyenne to visit the rodeo grounds and fair. Attend the Tim McGraw concert and spend the night. Home mid afternoon on Sunday. Free for Denver residents. $329 for non residents\, Medicaid waiver restrictions may apply. \nRegister online
URL:https://www.activityoptions.com/event/%e2%80%a2-tim-mcgraw-concert-cheyenne-frontier-days/
LOCATION:The Cheyenne Frontier Days Arena\, 4610 Carey Avenue\, 1210 W 8th Ave\, Cheyenne\, WY\, 82001\, United States
ORGANIZER;CN="Activity Options LLC /Project World PBC":MAILTO:signup@activityoptions.com
END:VEVENT
END:VCALENDAR