BEGIN:VCALENDAR
VERSION:2.0
PRODID:-//Activity Options - ECPv6.15.20//NONSGML v1.0//EN
CALSCALE:GREGORIAN
METHOD:PUBLISH
X-WR-CALNAME:Activity Options
X-ORIGINAL-URL:https://www.activityoptions.com
X-WR-CALDESC:Events for Activity Options
REFRESH-INTERVAL;VALUE=DURATION:PT1H
X-Robots-Tag:noindex
X-PUBLISHED-TTL:PT1H
BEGIN:VTIMEZONE
TZID:UTC
BEGIN:STANDARD
TZOFFSETFROM:+0000
TZOFFSETTO:+0000
TZNAME:UTC
DTSTART:20220101T000000
END:STANDARD
END:VTIMEZONE
BEGIN:VEVENT
DTSTART;TZID=UTC:20251114T170000
DTEND;TZID=UTC:20251114T220000
DTSTAMP:20260423T122840
CREATED:20251015T021812Z
LAST-MODIFIED:20251015T021812Z
UID:10000785-1763139600-1763157600@www.activityoptions.com
SUMMARY:•Rocky Mountain Pro Wrestling
DESCRIPTION:Follow the wrestling school favorites to Stanley Market place for a knock out show. Denver residents use your free IML membership or inquire to set one up. Private pay $99. If the activity is full please join the waitlist so we know you are interested. \nRegister Online
URL:https://www.activityoptions.com/event/rocky-mountain-pro-wrestling-13/
LOCATION:Stanley Marketplace\, 801 S Yarrow St\, Lakewood\, CO\, 80226\, United States
ATTACH;FMTTYPE=image/png:https://www.activityoptions.com/wp-content/uploads/2022/04/RMProWresstling.png
ORGANIZER;CN="Activity Options LLC /Project World PBC":MAILTO:signup@activityoptions.com
END:VEVENT
BEGIN:VEVENT
DTSTART;TZID=UTC:20231223T160000
DTEND;TZID=UTC:20231223T210000
DTSTAMP:20260423T122840
CREATED:20231119T035557Z
LAST-MODIFIED:20231119T035557Z
UID:10000543-1703347200-1703365200@www.activityoptions.com
SUMMARY:•Camp Christmas
DESCRIPTION:The season’s campiest\, quirkiest holiday tradition is returning to Stanley Marketplace with a 360-degree kaleidoscope of yuletide cheer at this year’s Camp Christmas! Free for Denver residents and Colorado Respite. Private pay $39. \nRegister Online
URL:https://www.activityoptions.com/event/camp-christmas/
LOCATION:Stanley Marketplace\, 801 S Yarrow St\, Lakewood\, CO\, 80226\, United States
ATTACH;FMTTYPE=image/png:https://www.activityoptions.com/wp-content/uploads/2023/11/CampChristmas.png
ORGANIZER;CN="Activity Options LLC /Project World PBC":MAILTO:signup@activityoptions.com
END:VEVENT
END:VCALENDAR