BEGIN:VCALENDAR
VERSION:2.0
PRODID:-//Activity Options - ECPv6.15.20//NONSGML v1.0//EN
CALSCALE:GREGORIAN
METHOD:PUBLISH
X-ORIGINAL-URL:https://www.activityoptions.com
X-WR-CALDESC:Events for Activity Options
REFRESH-INTERVAL;VALUE=DURATION:PT1H
X-Robots-Tag:noindex
X-PUBLISHED-TTL:PT1H
BEGIN:VTIMEZONE
TZID:UTC
BEGIN:STANDARD
TZOFFSETFROM:+0000
TZOFFSETTO:+0000
TZNAME:UTC
DTSTART:20240101T000000
END:STANDARD
END:VTIMEZONE
BEGIN:VEVENT
DTSTART;TZID=UTC:20250425T170000
DTEND;TZID=UTC:20250425T220000
DTSTAMP:20260423T135755
CREATED:20250221T085110Z
LAST-MODIFIED:20250221T085110Z
UID:10000718-1745600400-1745618400@www.activityoptions.com
SUMMARY:•Candlelight Concerts - Queen vs. ABBA
DESCRIPTION:Fever presents candlelight concert featuring music from Queen and ABBA. Come an experience this unique setting! Denver residents use your free IML membership or inquire to set one up. Private pay $160. If the activity is full please join the wait list so we know you are interested. \nRegister Online
URL:https://www.activityoptions.com/event/candlelight-concerts-queen-vs-abba/
LOCATION:St. Cajetan’s\, 101 Lawrence Way\, Denver\, co\, 80204
ATTACH;FMTTYPE=image/png:https://www.activityoptions.com/wp-content/uploads/2025/02/Feverqueenabba.png
ORGANIZER;CN="Activity Options LLC /Project World PBC":MAILTO:signup@activityoptions.com
END:VEVENT
END:VCALENDAR