BEGIN:VCALENDAR
VERSION:2.0
PRODID:-//Activity Options - ECPv6.15.20//NONSGML v1.0//EN
CALSCALE:GREGORIAN
METHOD:PUBLISH
X-WR-CALNAME:Activity Options
X-ORIGINAL-URL:https://www.activityoptions.com
X-WR-CALDESC:Events for Activity Options
REFRESH-INTERVAL;VALUE=DURATION:PT1H
X-Robots-Tag:noindex
X-PUBLISHED-TTL:PT1H
BEGIN:VTIMEZONE
TZID:UTC
BEGIN:STANDARD
TZOFFSETFROM:+0000
TZOFFSETTO:+0000
TZNAME:UTC
DTSTART:20210101T000000
END:STANDARD
END:VTIMEZONE
BEGIN:VEVENT
DTSTART;TZID=UTC:20250905T080000
DTEND;TZID=UTC:20250906T170000
DTSTAMP:20260423T122651
CREATED:20250514T050658Z
LAST-MODIFIED:20250902T035703Z
UID:10000750-1757059200-1757178000@www.activityoptions.com
SUMMARY:•Horse Back Riding Mt Princeton - OVERNIGHT
DESCRIPTION:Enjoy a day long horse back ride from the Mt Princeton Stables. Stay overnight in Salida on Friday in order to get an early start and then return home Saturday night. Denver residents use your free membership. Private pay $499. If the activity is full please join the waitlist so we know that you are interested. \nRegister Online
URL:https://www.activityoptions.com/event/horse-back-riding-mt-princeton-overnight/
LOCATION:Salida Colorado
ATTACH;FMTTYPE=image/png:https://www.activityoptions.com/wp-content/uploads/2025/05/Princeton.png
ORGANIZER;CN="Activity Options LLC /Project World PBC":MAILTO:signup@activityoptions.com
END:VEVENT
BEGIN:VEVENT
DTSTART;TZID=UTC:20220812T070000
DTEND;TZID=UTC:20220813T190000
DTSTAMP:20260423T122651
CREATED:20220610T001501Z
LAST-MODIFIED:20220715T213422Z
UID:10000379-1660287600-1660417200@www.activityoptions.com
SUMMARY:• Mountain Trail Ride TRIP
DESCRIPTION:Hop on a trail horse and ride to the falls near Mt. Princeton Hot Springs. This will be a 5-6 hours ride. Must be experienced. We’ll spend the night before at a hotel in Salida in order to get an early start. Home Saturday evening after the ride. Free for Denver residents. $399 for nonresidents\, contact us for private pay discounts if needed. Medicaid waiver restrictions may apply. \nRegister Online\n 
URL:https://www.activityoptions.com/event/mountain-trail-ride-trip/
LOCATION:Salida Colorado
ATTACH;FMTTYPE=image/png:https://www.activityoptions.com/wp-content/uploads/2022/06/SalidaBiking.png
ORGANIZER;CN="Activity Options LLC /Project World PBC":MAILTO:signup@activityoptions.com
END:VEVENT
END:VCALENDAR