BEGIN:VCALENDAR
VERSION:2.0
PRODID:-//Activity Options - ECPv6.15.20//NONSGML v1.0//EN
CALSCALE:GREGORIAN
METHOD:PUBLISH
X-WR-CALNAME:Activity Options
X-ORIGINAL-URL:https://www.activityoptions.com
X-WR-CALDESC:Events for Activity Options
REFRESH-INTERVAL;VALUE=DURATION:PT1H
X-Robots-Tag:noindex
X-PUBLISHED-TTL:PT1H
BEGIN:VTIMEZONE
TZID:UTC
BEGIN:STANDARD
TZOFFSETFROM:+0000
TZOFFSETTO:+0000
TZNAME:UTC
DTSTART:20200101T000000
END:STANDARD
END:VTIMEZONE
BEGIN:VEVENT
DTSTART;TZID=UTC:20220805T170000
DTEND;TZID=UTC:20220805T230000
DTSTAMP:20260423T184254
CREATED:20220706T005829Z
LAST-MODIFIED:20220715T213656Z
UID:10000380-1659718800-1659740400@www.activityoptions.com
SUMMARY:• KLOVE Live at Red Rocks
DESCRIPTION:Outdoor concert at world famous Red Rocks featuring Tauren Wells\, Matthew West\, Mac Powell\, Cory Asbury. Free for Denver residents $129 for non residents\, contact us for private pay discounts if needed. Medicaid waiver restrictions may apply. \nRegister Online\n 
URL:https://www.activityoptions.com/event/klove-live-at-red-rocks/
LOCATION:Red Rocks
ATTACH;FMTTYPE=image/png:https://www.activityoptions.com/wp-content/uploads/2022/07/Klove.png
ORGANIZER;CN="Activity Options LLC /Project World PBC":MAILTO:signup@activityoptions.com
END:VEVENT
BEGIN:VEVENT
DTSTART;TZID=UTC:20210707T170000
DTEND;TZID=UTC:20210707T230000
DTSTAMP:20260423T184254
CREATED:20210615T055327Z
LAST-MODIFIED:20210615T055440Z
UID:10000253-1625677200-1625698800@www.activityoptions.com
SUMMARY:• Lindsay Sterling at Red Rocks
DESCRIPTION:See this brilliant contemporary violinist live under the stars at Red Rocks. Free for Denver residents $tbd for non residents\, Medicaid waiver restrictions may apply. \nRegister Online
URL:https://www.activityoptions.com/event/lindsay-sterling-at-red-rocks/
LOCATION:Red Rocks
ORGANIZER;CN="Activity Options LLC /Project World PBC":MAILTO:signup@activityoptions.com
END:VEVENT
END:VCALENDAR