BEGIN:VCALENDAR
VERSION:2.0
PRODID:-//Activity Options - ECPv6.15.20//NONSGML v1.0//EN
CALSCALE:GREGORIAN
METHOD:PUBLISH
X-WR-CALNAME:Activity Options
X-ORIGINAL-URL:https://www.activityoptions.com
X-WR-CALDESC:Events for Activity Options
REFRESH-INTERVAL;VALUE=DURATION:PT1H
X-Robots-Tag:noindex
X-PUBLISHED-TTL:PT1H
BEGIN:VTIMEZONE
TZID:UTC
BEGIN:STANDARD
TZOFFSETFROM:+0000
TZOFFSETTO:+0000
TZNAME:UTC
DTSTART:20180101T000000
END:STANDARD
END:VTIMEZONE
BEGIN:VEVENT
DTSTART;TZID=UTC:20250823T170000
DTEND;TZID=UTC:20250823T230000
DTSTAMP:20260423T123604
CREATED:20250514T061524Z
LAST-MODIFIED:20250514T063140Z
UID:10000757-1755968400-1755990000@www.activityoptions.com
SUMMARY:•Pippin The Musical - Phamaly Theater
DESCRIPTION:Phamaly Theater performance of the great American Musician Pippin. Performance at the Kilstrom Theater at the DCPA. Denver residents use your free IML membership or inquire to set one up. Private pay $99. If the activity is full please join the waitlist so we know you are interested. \nRegister Online
URL:https://www.activityoptions.com/event/pippin-the-musical-phamaly-theater/
LOCATION:Phamaly Theater Company\, 711 Park Avenue West\, Denver\, CO\, 80205\, United States
ATTACH;FMTTYPE=image/jpeg:https://www.activityoptions.com/wp-content/uploads/2025/05/Phamaly.jpeg
ORGANIZER;CN="Activity Options LLC /Project World PBC":MAILTO:signup@activityoptions.com
END:VEVENT
BEGIN:VEVENT
DTSTART;TZID=UTC:20250524T170000
DTEND;TZID=UTC:20250524T230000
DTSTAMP:20260423T123604
CREATED:20250428T041439Z
LAST-MODIFIED:20250428T041439Z
UID:10000732-1748106000-1748127600@www.activityoptions.com
SUMMARY:•Periceles - Phamaly Adaptive Version
DESCRIPTION:Be part of the audience or part of the performance for the Phamaly Adaptive production of Shakespeare’s Pericles. Help solve the Greek riddle! Denver residents use your free membership. Private pay $99. If the activity is full please join the wait list so we know you are interested. \nRegister Online
URL:https://www.activityoptions.com/event/periceles-phamaly-adaptive-version/
LOCATION:Phamaly Theater Company\, 711 Park Avenue West\, Denver\, CO\, 80205\, United States
ATTACH;FMTTYPE=image/jpeg:https://www.activityoptions.com/wp-content/uploads/2024/06/Phamaly30Anni.jpg
ORGANIZER;CN="Activity Options LLC /Project World PBC":MAILTO:signup@activityoptions.com
END:VEVENT
BEGIN:VEVENT
DTSTART;TZID=UTC:20240809T170000
DTEND;TZID=UTC:20240809T230000
DTSTAMP:20260423T123604
CREATED:20240619T054927Z
LAST-MODIFIED:20240619T054927Z
UID:10000627-1723222800-1723244400@www.activityoptions.com
SUMMARY:•Phamily Theater Chorus Line
DESCRIPTION:Experience their award winning talent for\, performing plays and musicals that exclusively feature actors with all nature of disabilities: physical\, cognitive\, intellectual\, emotional\, and neurodiverse. Phamily’s mission is to inspire people to re-envision disability through professional theatre. Free for Denver residents. Private pay $159. If the activity is full please join the waitlist so we know you are interested. \nRegister Online\n 
URL:https://www.activityoptions.com/event/phamily-theater-chorus-line/
LOCATION:Phamaly Theater Company\, 711 Park Avenue West\, Denver\, CO\, 80205\, United States
ATTACH;FMTTYPE=image/jpeg:https://www.activityoptions.com/wp-content/uploads/2024/06/Phamaly30Anni.jpg
ORGANIZER;CN="Activity Options LLC /Project World PBC":MAILTO:signup@activityoptions.com
END:VEVENT
BEGIN:VEVENT
DTSTART;TZID=UTC:20190525T100000
DTEND;TZID=UTC:20190525T150000
DTSTAMP:20260423T123604
CREATED:20190404T031019Z
LAST-MODIFIED:20190404T031019Z
UID:10000075-1558778400-1558796400@www.activityoptions.com
SUMMARY:Phamaly Theater Company 30th Anniversary Concert
DESCRIPTION:Experience their award winning talent for\, performing plays and musicals that exclusively feature actors with all nature of disabilities: physical\, cognitive\, intellectual\, emotional\, and neurodiverse. Phamaly’s mission is to inspire people to re-envision disability through professional theatre. Free for Denver residents. $6 or $25 w/ transportation for non residents. Medicaid waiver restrictions may apply. \nRegister Online
URL:https://www.activityoptions.com/event/phamaly-theater-company-30th-anniversary-concert/
LOCATION:Phamaly Theater Company\, 711 Park Avenue West\, Denver\, CO\, 80205\, United States
ORGANIZER;CN="Activity Options LLC /Project World PBC":MAILTO:signup@activityoptions.com
END:VEVENT
END:VCALENDAR