BEGIN:VCALENDAR
VERSION:2.0
PRODID:-//Activity Options - ECPv6.15.20//NONSGML v1.0//EN
CALSCALE:GREGORIAN
METHOD:PUBLISH
X-WR-CALNAME:Activity Options
X-ORIGINAL-URL:https://www.activityoptions.com
X-WR-CALDESC:Events for Activity Options
REFRESH-INTERVAL;VALUE=DURATION:PT1H
X-Robots-Tag:noindex
X-PUBLISHED-TTL:PT1H
BEGIN:VTIMEZONE
TZID:UTC
BEGIN:STANDARD
TZOFFSETFROM:+0000
TZOFFSETTO:+0000
TZNAME:UTC
DTSTART:20180101T000000
END:STANDARD
END:VTIMEZONE
BEGIN:VEVENT
DTSTART;TZID=UTC:20220312T170000
DTEND;TZID=UTC:20220312T220000
DTSTAMP:20260423T171939
CREATED:20220118T183926Z
LAST-MODIFIED:20220118T183926Z
UID:10000336-1647104400-1647122400@www.activityoptions.com
SUMMARY:• Harlem Globe Trotters
DESCRIPTION:For 90 years The Original Harlem Globetrotters’ show features amazing basketball skills and wizardry\, with a continued focus on family entertainment. Basketball’s greatest innovators will debut basketball’s first-ever 4-point line\, a move that comes six years after the team unveiled the first 4-point shot in the history of the sport. See all the Action Live at PEPSI Center! Free for Denver residents. $tbd for non residents\, Medicaid waiver restrictions may apply. \nRegister Online\n 
URL:https://www.activityoptions.com/event/harlem-globe-trotters/
LOCATION:Pepsi Center\, 1000 Chopper Cir\, Denver\, CO\, 80204
ORGANIZER;CN="Activity Options LLC /Project World PBC":MAILTO:signup@activityoptions.com
GEO:39.7486389;-105.0075285
X-APPLE-STRUCTURED-LOCATION;VALUE=URI;X-ADDRESS=Pepsi Center 1000 Chopper Cir Denver CO 80204;X-APPLE-RADIUS=500;X-TITLE=1000 Chopper Cir:geo:-105.0075285,39.7486389
END:VEVENT
BEGIN:VEVENT
DTSTART;TZID=UTC:20200614T160000
DTEND;TZID=UTC:20200614T220000
DTSTAMP:20260423T171939
CREATED:20200303T182450Z
LAST-MODIFIED:20200303T182450Z
UID:10000191-1592150400-1592172000@www.activityoptions.com
SUMMARY:•Hall and Oates Kool Koncert 2020!
DESCRIPTION:Pepsi Center concert featuring the original Hall and Oats duo and new and old music. Dinner included. Free for Denver residents. $129 for non residents\, Medicaid waiver restrictions may apply. Register Online. \nRegister Online
URL:https://www.activityoptions.com/event/%e2%80%a2hall-oates-kool-koncert-2020/
LOCATION:Pepsi Center\, 1000 Chopper Cir\, Denver\, CO\, 80204
ORGANIZER;CN="Activity Options LLC /Project World PBC":MAILTO:signup@activityoptions.com
GEO:39.7486389;-105.0075285
X-APPLE-STRUCTURED-LOCATION;VALUE=URI;X-ADDRESS=Pepsi Center 1000 Chopper Cir Denver CO 80204;X-APPLE-RADIUS=500;X-TITLE=1000 Chopper Cir:geo:-105.0075285,39.7486389
END:VEVENT
BEGIN:VEVENT
DTSTART;TZID=UTC:20200314T170000
DTEND;TZID=UTC:20200315T000000
DTSTAMP:20260423T171939
CREATED:20191120T065921Z
LAST-MODIFIED:20200129T032359Z
UID:10000069-1584205200-1584230400@www.activityoptions.com
SUMMARY:• Blake Shelton Live at PEPSI Center
DESCRIPTION:Blake Shelton’s Friends and Heroes Tour\, jam-packed with openers The Bellamy Brothers\, John Anderson\, Trace Adkins and Lauren Alaina\, is planning a stop at the Pepsi Center. Join us for a great concert and good times! Free for Denver residents. $149 for non residents\, Medicaid waiver restrictions may apply. \nRegister Online
URL:https://www.activityoptions.com/event/%e2%80%a2-blake-shelton-live-pepsi-center/
LOCATION:Pepsi Center\, 1000 Chopper Cir\, Denver\, CO\, 80204
ORGANIZER;CN="Activity Options LLC /Project World PBC":MAILTO:signup@activityoptions.com
GEO:39.7486389;-105.0075285
X-APPLE-STRUCTURED-LOCATION;VALUE=URI;X-ADDRESS=Pepsi Center 1000 Chopper Cir Denver CO 80204;X-APPLE-RADIUS=500;X-TITLE=1000 Chopper Cir:geo:-105.0075285,39.7486389
END:VEVENT
BEGIN:VEVENT
DTSTART;TZID=UTC:20200229T110000
DTEND;TZID=UTC:20200229T160000
DTSTAMP:20260423T171939
CREATED:20200128T202418Z
LAST-MODIFIED:20200129T032159Z
UID:10000168-1582974000-1582992000@www.activityoptions.com
SUMMARY:•Harlem Globetrotters LIVE
DESCRIPTION:Join the fun at the Pepsi Center with the Harlem Globetrotters’. This world famous basketball exhibition show features amazing basketball skills and wizardry. Lunch provided. Free for Denver residents. $129 for non residents\, Medicaid waiver restrictions may apply. Register online. \nRegister Online
URL:https://www.activityoptions.com/event/%e2%80%a2harlem-globetrotters-live/
LOCATION:Pepsi Center\, 1000 Chopper Cir\, Denver\, CO\, 80204
ORGANIZER;CN="Activity Options LLC /Project World PBC":MAILTO:signup@activityoptions.com
GEO:39.7486389;-105.0075285
X-APPLE-STRUCTURED-LOCATION;VALUE=URI;X-ADDRESS=Pepsi Center 1000 Chopper Cir Denver CO 80204;X-APPLE-RADIUS=500;X-TITLE=1000 Chopper Cir:geo:-105.0075285,39.7486389
END:VEVENT
BEGIN:VEVENT
DTSTART;TZID=UTC:20191208T110000
DTEND;TZID=UTC:20191208T160000
DTSTAMP:20260423T171939
CREATED:20191029T021532Z
LAST-MODIFIED:20191029T024928Z
UID:10000136-1575802800-1575820800@www.activityoptions.com
SUMMARY:• Disney on Ice Mickey's Search Party
DESCRIPTION:See your favorite characters performing in this new adventure at Pepsi Center. Captain Hook\, Tinkerbell\, Belle\, Elsa\, Coco and more! Free for Denver residents. $99 for non residents. Medicaid waiver restrictions may apply. \nRegister Online.
URL:https://www.activityoptions.com/event/%e2%80%a2-disney-ice-mickeys-search-party/
LOCATION:Pepsi Center\, 1000 Chopper Cir\, Denver\, CO\, 80204
ATTACH;FMTTYPE=image/png:https://www.activityoptions.com/wp-content/uploads/2019/10/DisneyMickeysSearchParty.png
ORGANIZER;CN="Activity Options LLC /Project World PBC":MAILTO:signup@activityoptions.com
GEO:39.7486389;-105.0075285
X-APPLE-STRUCTURED-LOCATION;VALUE=URI;X-ADDRESS=Pepsi Center 1000 Chopper Cir Denver CO 80204;X-APPLE-RADIUS=500;X-TITLE=1000 Chopper Cir:geo:-105.0075285,39.7486389
END:VEVENT
BEGIN:VEVENT
DTSTART;TZID=UTC:20191014T160000
DTEND;TZID=UTC:20191014T220000
DTSTAMP:20260423T171939
CREATED:20190910T024530Z
LAST-MODIFIED:20190910T024646Z
UID:10000115-1571068800-1571090400@www.activityoptions.com
SUMMARY:• WWE RAW! at Pepsi Center
DESCRIPTION:See your favorite wrestlers live at Monday Night RAW at the Pepsi Center. Includes dinner. Free for Denver Residents. $179 for non residents\, Medicaid waiver restrictions may apply. \nRegister Online
URL:https://www.activityoptions.com/event/%e2%80%a2-wwe-raw-pepsi-center/
LOCATION:Pepsi Center\, 1000 Chopper Cir\, Denver\, CO\, 80204
ORGANIZER;CN="Activity Options LLC /Project World PBC":MAILTO:signup@activityoptions.com
GEO:39.7486389;-105.0075285
X-APPLE-STRUCTURED-LOCATION;VALUE=URI;X-ADDRESS=Pepsi Center 1000 Chopper Cir Denver CO 80204;X-APPLE-RADIUS=500;X-TITLE=1000 Chopper Cir:geo:-105.0075285,39.7486389
END:VEVENT
BEGIN:VEVENT
DTSTART;TZID=UTC:20190818T130000
DTEND;TZID=UTC:20190818T170000
DTSTAMP:20260423T171939
CREATED:20190624T034421Z
LAST-MODIFIED:20190624T034421Z
UID:10000099-1566133200-1566147600@www.activityoptions.com
SUMMARY:• CIRQUE DU Soleil Corteo
DESCRIPTION:A theatrical world of comedy and spontaneity situated in a mysterious space between heaven and earth. Corteo reveals the strength and fragility of a clown\, as well as his wisdom and kindness\, to illustrate the portion of humanity that is within each of us. Free for Denver residents. $149 for non residents\, Medicaid waiver restrictions may apply. \nRegister Online
URL:https://www.activityoptions.com/event/%e2%80%a2-cirque-du-soleil-corteo/
LOCATION:Pepsi Center\, 1000 Chopper Cir\, Denver\, CO\, 80204
ORGANIZER;CN="Activity Options LLC /Project World PBC":MAILTO:signup@activityoptions.com
GEO:39.7486389;-105.0075285
X-APPLE-STRUCTURED-LOCATION;VALUE=URI;X-ADDRESS=Pepsi Center 1000 Chopper Cir Denver CO 80204;X-APPLE-RADIUS=500;X-TITLE=1000 Chopper Cir:geo:-105.0075285,39.7486389
END:VEVENT
END:VCALENDAR