BEGIN:VCALENDAR
VERSION:2.0
PRODID:-//Activity Options - ECPv6.15.20//NONSGML v1.0//EN
CALSCALE:GREGORIAN
METHOD:PUBLISH
X-WR-CALNAME:Activity Options
X-ORIGINAL-URL:https://www.activityoptions.com
X-WR-CALDESC:Events for Activity Options
REFRESH-INTERVAL;VALUE=DURATION:PT1H
X-Robots-Tag:noindex
X-PUBLISHED-TTL:PT1H
BEGIN:VTIMEZONE
TZID:UTC
BEGIN:STANDARD
TZOFFSETFROM:+0000
TZOFFSETTO:+0000
TZNAME:UTC
DTSTART:20180101T000000
END:STANDARD
END:VTIMEZONE
BEGIN:VEVENT
DTSTART;TZID=UTC:20250412T080000
DTEND;TZID=UTC:20250416T200000
DTSTAMP:20260423T105018
CREATED:20241227T040159Z
LAST-MODIFIED:20241227T040159Z
UID:10000692-1744444800-1744833600@www.activityoptions.com
SUMMARY:•Orlando & Disney World Trip!
DESCRIPTION:Spend the days between Disney World theme parks. Harry Potter-Universal upon request. Denver residents use your free membership or inquire to set one up through us using Mill Levy funding. Private pay $3\,200. If the activity is full please join the waitlist so we know you are interested. \nRegister Online
URL:https://www.activityoptions.com/event/orlando-disney-world-trip/
LOCATION:Orlando Florida
ATTACH;FMTTYPE=image/jpeg:https://www.activityoptions.com/wp-content/uploads/2019/01/Orlando.jpg
ORGANIZER;CN="Activity Options LLC /Project World PBC":MAILTO:signup@activityoptions.com
END:VEVENT
BEGIN:VEVENT
DTSTART;TZID=UTC:20231021T070000
DTEND;TZID=UTC:20231025T190000
DTSTAMP:20260423T105018
CREATED:20230131T005515Z
LAST-MODIFIED:20230913T214729Z
UID:10000449-1697871600-1698260400@www.activityoptions.com
SUMMARY:TRAVEL•Orlando FL
DESCRIPTION:Spend your days visiting\, Harry Potter World\, DisneyWorld & Animal Kingdom! Free for Denver residents and Colorado Respite! Private Pay cost $2\,700 \nRegister Online\n 
URL:https://www.activityoptions.com/event/travelorlando-fl/
LOCATION:Orlando Florida
ATTACH;FMTTYPE=image/jpeg:https://www.activityoptions.com/wp-content/uploads/2019/01/Orlando.jpg
ORGANIZER;CN="Activity Options LLC /Project World PBC":MAILTO:signup@activityoptions.com
END:VEVENT
BEGIN:VEVENT
DTSTART;TZID=UTC:20190409T080000
DTEND;TZID=UTC:20190413T200000
DTSTAMP:20260423T105018
CREATED:20190128T004108Z
LAST-MODIFIED:20190404T042547Z
UID:10000004-1554796800-1555185600@www.activityoptions.com
SUMMARY:• Orlando Florida
DESCRIPTION:THIS EVENT IS FULL. See the best of Orlando! Stay at B Resort and Spa in Disney Springs and visit Disney World\, Coco Beach\, Kennedy Space Center and Universal Studios with a possible visit to Harry Potter World. Free for Denver residents. $2\,795 for non residents\, Medicaid waiver restrictions may apply. \n 
URL:https://www.activityoptions.com/event/orlando-florida/
LOCATION:Orlando Florida
ATTACH;FMTTYPE=image/jpeg:https://www.activityoptions.com/wp-content/uploads/2019/01/Orlando.jpg
ORGANIZER;CN="Activity Options LLC /Project World PBC":MAILTO:signup@activityoptions.com
END:VEVENT
END:VCALENDAR