BEGIN:VCALENDAR
VERSION:2.0
PRODID:-//Activity Options - ECPv6.15.20//NONSGML v1.0//EN
CALSCALE:GREGORIAN
METHOD:PUBLISH
X-ORIGINAL-URL:https://www.activityoptions.com
X-WR-CALDESC:Events for Activity Options
REFRESH-INTERVAL;VALUE=DURATION:PT1H
X-Robots-Tag:noindex
X-PUBLISHED-TTL:PT1H
BEGIN:VTIMEZONE
TZID:UTC
BEGIN:STANDARD
TZOFFSETFROM:+0000
TZOFFSETTO:+0000
TZNAME:UTC
DTSTART:20190101T000000
END:STANDARD
END:VTIMEZONE
BEGIN:VEVENT
DTSTART;TZID=UTC:20201222T190000
DTEND;TZID=UTC:20201222T210000
DTSTAMP:20260423T184433
CREATED:20201213T164243Z
LAST-MODIFIED:20201214T065934Z
UID:10000220-1608663600-1608670800@www.activityoptions.com
SUMMARY:• Online access to Hip Hop Ballet\, DCPA
DESCRIPTION:Free to attend! Enjoy this holiday favorite Streaming Live from the comfort of home. This is a single use access to watch during the live streaming performance only\, show starts at 7pm MST. Register to receive a streaming access code.\n\n\nRegister Online\n 
URL:https://www.activityoptions.com/event/online-access-to-hip-hop-ballet-dcpa/
LOCATION:Online Streaming
ORGANIZER;CN="Activity Options LLC /Project World PBC":MAILTO:signup@activityoptions.com
END:VEVENT
BEGIN:VEVENT
DTSTART;TZID=UTC:20201219T180000
DTEND;TZID=UTC:20201219T193000
DTSTAMP:20260423T184433
CREATED:20201213T163015Z
LAST-MODIFIED:20201214T065520Z
UID:10000219-1608400800-1608406200@www.activityoptions.com
SUMMARY:• Online access to Moscow Ballet
DESCRIPTION:Free to attend! Enjoy this holiday favorite Streaming Live from the comfort of home. One ticket per household. Watch the performance as many times as you like between December 19 at 8 p.m. ET and January 1 11:59 p.m. ET. Feel free to buy more tickets if you would like to gift the stream to someone else! Register to receive a streaming access code. \nRegister Online
URL:https://www.activityoptions.com/event/online-access-to-moscow-ballet/
LOCATION:Online Streaming
ORGANIZER;CN="Activity Options LLC /Project World PBC":MAILTO:signup@activityoptions.com
END:VEVENT
END:VCALENDAR