BEGIN:VCALENDAR
VERSION:2.0
PRODID:-//Activity Options - ECPv6.15.20//NONSGML v1.0//EN
CALSCALE:GREGORIAN
METHOD:PUBLISH
X-WR-CALNAME:Activity Options
X-ORIGINAL-URL:https://www.activityoptions.com
X-WR-CALDESC:Events for Activity Options
REFRESH-INTERVAL;VALUE=DURATION:PT1H
X-Robots-Tag:noindex
X-PUBLISHED-TTL:PT1H
BEGIN:VTIMEZONE
TZID:UTC
BEGIN:STANDARD
TZOFFSETFROM:+0000
TZOFFSETTO:+0000
TZNAME:UTC
DTSTART:20190101T000000
END:STANDARD
END:VTIMEZONE
BEGIN:VEVENT
DTSTART;TZID=UTC:20200207T170000
DTEND;TZID=UTC:20200207T230000
DTSTAMP:20260424T000511
CREATED:20191120T055130Z
LAST-MODIFIED:20191120T055130Z
UID:10000067-1581094800-1581116400@www.activityoptions.com
SUMMARY:• Tim Tebow's Night to Shine
DESCRIPTION:Attend this very special prom experience sponsored by the Tim Tebow Foundation. Walk the red carpet\, dance to live music\, ride in a limo. Free for Denver residents and non residents! Register early openings fill up fast. \nRegister Online\n 
URL:https://www.activityoptions.com/event/%e2%80%a2-tim-tebows-night-shine/
LOCATION:Northern Colorado Collaboration\, Loveland\, Colorado
ORGANIZER;CN="Activity Options LLC /Project World PBC":MAILTO:signup@activityoptions.com
END:VEVENT
END:VCALENDAR