BEGIN:VCALENDAR
VERSION:2.0
PRODID:-//Activity Options - ECPv6.15.20//NONSGML v1.0//EN
CALSCALE:GREGORIAN
METHOD:PUBLISH
X-ORIGINAL-URL:https://www.activityoptions.com
X-WR-CALDESC:Events for Activity Options
REFRESH-INTERVAL;VALUE=DURATION:PT1H
X-Robots-Tag:noindex
X-PUBLISHED-TTL:PT1H
BEGIN:VTIMEZONE
TZID:UTC
BEGIN:STANDARD
TZOFFSETFROM:+0000
TZOFFSETTO:+0000
TZNAME:UTC
DTSTART:20230101T000000
END:STANDARD
END:VTIMEZONE
BEGIN:VEVENT
DTSTART;TZID=UTC:20240612T070000
DTEND;TZID=UTC:20240616T190000
DTSTAMP:20260423T105902
CREATED:20240319T045029Z
LAST-MODIFIED:20240319T045029Z
UID:10000592-1718175600-1718564400@www.activityoptions.com
SUMMARY:•Travel to New York City!
DESCRIPTION:Take off to the Big Apple for 5 days and 4 nights. Stay in the heart of downtown and visit the many exciting sights of NYC. Possible show or concert. Free for Denver residents. Private pay $3000. *New to Activity Options? If the activity is full please join the wait list and we will do our best to make sure you can attend. \nRegister Online\n 
URL:https://www.activityoptions.com/event/travel-to-new-york-city/
LOCATION:New York City\, New York\, NY\, United States
ATTACH;FMTTYPE=image/png:https://www.activityoptions.com/wp-content/uploads/2024/03/NewYork.png
ORGANIZER;CN="Activity Options LLC /Project World PBC":MAILTO:signup@activityoptions.com
END:VEVENT
END:VCALENDAR