BEGIN:VCALENDAR
VERSION:2.0
PRODID:-//Activity Options - ECPv6.15.20//NONSGML v1.0//EN
CALSCALE:GREGORIAN
METHOD:PUBLISH
X-ORIGINAL-URL:https://www.activityoptions.com
X-WR-CALDESC:Events for Activity Options
REFRESH-INTERVAL;VALUE=DURATION:PT1H
X-Robots-Tag:noindex
X-PUBLISHED-TTL:PT1H
BEGIN:VTIMEZONE
TZID:UTC
BEGIN:STANDARD
TZOFFSETFROM:+0000
TZOFFSETTO:+0000
TZNAME:UTC
DTSTART:20180101T000000
END:STANDARD
END:VTIMEZONE
BEGIN:VEVENT
DTSTART;TZID=UTC:20250112T110000
DTEND;TZID=UTC:20250112T180000
DTSTAMP:20260423T201648
CREATED:20241226T235805Z
LAST-MODIFIED:20241226T235805Z
UID:10000684-1736679600-1736704800@www.activityoptions.com
SUMMARY:•National Western Stock Show - Freestyle Reining Competition
DESCRIPTION:Freestyle Reining competitions combine the athletics and finesse of Reining skills choreographed to musical themes\, costumes\, and a whole lot of personalities. Denver residents use your free membership or inquire to set one up through us using Mill Levy funding. Private pay $160. If the activity is full please join the waitlist so we know you are interested. \nRegister Online
URL:https://www.activityoptions.com/event/national-western-stock-show-freestyle-reining-competition/
LOCATION:National Western Complex\, 4655 Humboldt St\, Denver\, CO\, 80216\, United States
ATTACH;FMTTYPE=image/png:https://www.activityoptions.com/wp-content/uploads/2023/12/StockShowRodeo.png
ORGANIZER;CN="Activity Options LLC /Project World PBC":MAILTO:signup@activityoptions.com
END:VEVENT
BEGIN:VEVENT
DTSTART;TZID=UTC:20190720T100000
DTEND;TZID=UTC:20190720T160000
DTSTAMP:20260423T201648
CREATED:20190624T013815Z
LAST-MODIFIED:20190624T014051Z
UID:10000097-1563616800-1563638400@www.activityoptions.com
SUMMARY:• 2019 Denver County Fair at the National Western Complex
DESCRIPTION:Visit the Denver County Fair and experience the talents\, trends and diversity of the residents of the amazing City and County of Denver. Events include a skateboard rodeo\, a carnival (complete with rides and midway games)\, competitive eating contests\, animals\, rockets\, roller derby\, a beer and wine festival\, and so much more. Free for Denver residents. $59 for non residents\, Medicaid waiver restrictions may apply. \nRegister Online
URL:https://www.activityoptions.com/event/%e2%80%a2-2019-denver-country-fair-national-western-complex/
LOCATION:National Western Complex\, 4655 Humboldt St\, Denver\, CO\, 80216\, United States
ORGANIZER;CN="Activity Options LLC /Project World PBC":MAILTO:signup@activityoptions.com
END:VEVENT
END:VCALENDAR