BEGIN:VCALENDAR
VERSION:2.0
PRODID:-//Activity Options - ECPv6.15.20//NONSGML v1.0//EN
CALSCALE:GREGORIAN
METHOD:PUBLISH
X-WR-CALNAME:Activity Options
X-ORIGINAL-URL:https://www.activityoptions.com
X-WR-CALDESC:Events for Activity Options
REFRESH-INTERVAL;VALUE=DURATION:PT1H
X-Robots-Tag:noindex
X-PUBLISHED-TTL:PT1H
BEGIN:VTIMEZONE
TZID:UTC
BEGIN:STANDARD
TZOFFSETFROM:+0000
TZOFFSETTO:+0000
TZNAME:UTC
DTSTART:20180101T000000
END:STANDARD
END:VTIMEZONE
BEGIN:VEVENT
DTSTART;TZID=UTC:20191123T100000
DTEND;TZID=UTC:20191123T150000
DTSTAMP:20260423T182533
CREATED:20190910T052119Z
LAST-MODIFIED:20191029T011203Z
UID:10000124-1574503200-1574521200@www.activityoptions.com
SUMMARY:• Behind the scenes Tour of Mile High Stadium
DESCRIPTION:Take a guided tour Mile High Stadium and see media center\, locker rooms\, field level rooms and the Sports Hall of Fame. Lunch afterwards. Free for Denver residents. $79 for non residents\, Medicaid waiver restrictions may apply. \nRegister Online.
URL:https://www.activityoptions.com/event/%e2%80%a2-tour-mile-high-stadium-sports-hall-fame/
LOCATION:Mile High Stadium\, 1701 Bryant St\, Denver\, CO\, 80204\, United States
ATTACH;FMTTYPE=image/png:https://www.activityoptions.com/wp-content/uploads/2019/09/Stadium-Tour-2019.png
ORGANIZER;CN="Activity Options LLC /Project World PBC":MAILTO:signup@activityoptions.com
GEO:39.744098;-105.0202546
X-APPLE-STRUCTURED-LOCATION;VALUE=URI;X-ADDRESS=Mile High Stadium 1701 Bryant St Denver CO 80204 United States;X-APPLE-RADIUS=500;X-TITLE=1701 Bryant St:geo:-105.0202546,39.744098
END:VEVENT
BEGIN:VEVENT
DTSTART;TZID=UTC:20190704T160000
DTEND;TZID=UTC:20190704T230000
DTSTAMP:20260423T182533
CREATED:20190404T045620Z
LAST-MODIFIED:20190622T125535Z
UID:10000087-1562256000-1562281200@www.activityoptions.com
SUMMARY:• Outlaws Game at Mile High with Fireworks
DESCRIPTION:Celebrate July 4th with us at The Outlaws Game at Mile High Stadium! Come for the Fun\, stay for the Fireworks!!! Cheer on your home town Lacrosse Team & view stunning FIREWORKS right from your seat! Free for Denver residents. $79 for non residents. Medicaid waiver restrictions may apply. \nRegister Online
URL:https://www.activityoptions.com/event/%e2%80%a2-outlaws-game-mile-high-fireworks/
LOCATION:Mile High Stadium\, 1701 Bryant St\, Denver\, CO\, 80204\, United States
ATTACH;FMTTYPE=image/jpeg:https://www.activityoptions.com/wp-content/uploads/2018/06/july-4-outlaws.jpg
ORGANIZER;CN="Activity Options LLC /Project World PBC":MAILTO:signup@activityoptions.com
GEO:39.744098;-105.0202546
X-APPLE-STRUCTURED-LOCATION;VALUE=URI;X-ADDRESS=Mile High Stadium 1701 Bryant St Denver CO 80204 United States;X-APPLE-RADIUS=500;X-TITLE=1701 Bryant St:geo:-105.0202546,39.744098
END:VEVENT
END:VCALENDAR