BEGIN:VCALENDAR
VERSION:2.0
PRODID:-//Activity Options - ECPv6.15.20//NONSGML v1.0//EN
CALSCALE:GREGORIAN
METHOD:PUBLISH
X-WR-CALNAME:Activity Options
X-ORIGINAL-URL:https://www.activityoptions.com
X-WR-CALDESC:Events for Activity Options
REFRESH-INTERVAL;VALUE=DURATION:PT1H
X-Robots-Tag:noindex
X-PUBLISHED-TTL:PT1H
BEGIN:VTIMEZONE
TZID:UTC
BEGIN:STANDARD
TZOFFSETFROM:+0000
TZOFFSETTO:+0000
TZNAME:UTC
DTSTART:20190101T000000
END:STANDARD
END:VTIMEZONE
BEGIN:VEVENT
DTSTART;TZID=UTC:20230318T170000
DTEND;TZID=UTC:20230318T220000
DTSTAMP:20260423T161107
CREATED:20230130T230706Z
LAST-MODIFIED:20230130T230706Z
UID:10000441-1679158800-1679176800@www.activityoptions.com
SUMMARY:•Fiddler on the Roof at Buell Theater
DESCRIPTION:See this favorite musical performance live at Buell Theater in Denver. Free for Denver residents and Respite. Private pay cost $149 \nRegister Online
URL:https://www.activityoptions.com/event/fiddler-on-the-roof-at-buell-theater/
LOCATION:Local Theater
ATTACH;FMTTYPE=image/png:https://www.activityoptions.com/wp-content/uploads/2023/01/Fiddler.png
ORGANIZER;CN="Activity Options LLC /Project World PBC":MAILTO:signup@activityoptions.com
END:VEVENT
BEGIN:VEVENT
DTSTART;TZID=UTC:20201226T170000
DTEND;TZID=UTC:20201226T220000
DTSTAMP:20260423T161107
CREATED:20191120T050734Z
LAST-MODIFIED:20201109T080523Z
UID:10000062-1609002000-1609020000@www.activityoptions.com
SUMMARY:• Saturday Movie Night
DESCRIPTION:Join Saturday Night Club (SNL) and enjoy the company of friends.Enjoy a movie and dinner at our Center or discover what’s open in town. Free for Denver residents. $10 for non residents. \nRegister Online
URL:https://www.activityoptions.com/event/%e2%80%a2-saturday-movie-night/2020-12-26/
LOCATION:Local Theater
ATTACH;FMTTYPE=image/jpeg:https://www.activityoptions.com/wp-content/uploads/2018/07/SNL-Movie-Night-sq.jpg
ORGANIZER;CN="Activity Options LLC /Project World PBC":MAILTO:signup@activityoptions.com
END:VEVENT
BEGIN:VEVENT
DTSTART;TZID=UTC:20201212T170000
DTEND;TZID=UTC:20201212T220000
DTSTAMP:20260423T161107
CREATED:20191120T050734Z
LAST-MODIFIED:20201109T080523Z
UID:10000061-1607792400-1607810400@www.activityoptions.com
SUMMARY:• Saturday Movie Night
DESCRIPTION:Join Saturday Night Club (SNL) and enjoy the company of friends.Enjoy a movie and dinner at our Center or discover what’s open in town. Free for Denver residents. $10 for non residents. \nRegister Online
URL:https://www.activityoptions.com/event/%e2%80%a2-saturday-movie-night/2020-12-12/
LOCATION:Local Theater
ATTACH;FMTTYPE=image/jpeg:https://www.activityoptions.com/wp-content/uploads/2018/07/SNL-Movie-Night-sq.jpg
ORGANIZER;CN="Activity Options LLC /Project World PBC":MAILTO:signup@activityoptions.com
END:VEVENT
BEGIN:VEVENT
DTSTART;TZID=UTC:20201205T170000
DTEND;TZID=UTC:20201205T220000
DTSTAMP:20260423T161107
CREATED:20191120T050734Z
LAST-MODIFIED:20201109T080523Z
UID:10000060-1607187600-1607205600@www.activityoptions.com
SUMMARY:• Saturday Movie Night
DESCRIPTION:Join Saturday Night Club (SNL) and enjoy the company of friends.Enjoy a movie and dinner at our Center or discover what’s open in town. Free for Denver residents. $10 for non residents. \nRegister Online
URL:https://www.activityoptions.com/event/%e2%80%a2-saturday-movie-night/2020-12-05/
LOCATION:Local Theater
ATTACH;FMTTYPE=image/jpeg:https://www.activityoptions.com/wp-content/uploads/2018/07/SNL-Movie-Night-sq.jpg
ORGANIZER;CN="Activity Options LLC /Project World PBC":MAILTO:signup@activityoptions.com
END:VEVENT
BEGIN:VEVENT
DTSTART;TZID=UTC:20201128T170000
DTEND;TZID=UTC:20201128T220000
DTSTAMP:20260423T161107
CREATED:20191120T050734Z
LAST-MODIFIED:20201109T080523Z
UID:10000059-1606582800-1606600800@www.activityoptions.com
SUMMARY:• Saturday Movie Night
DESCRIPTION:Join Saturday Night Club (SNL) and enjoy the company of friends.Enjoy a movie and dinner at our Center or discover what’s open in town. Free for Denver residents. $10 for non residents. \nRegister Online
URL:https://www.activityoptions.com/event/%e2%80%a2-saturday-movie-night/2020-11-28/
LOCATION:Local Theater
ATTACH;FMTTYPE=image/jpeg:https://www.activityoptions.com/wp-content/uploads/2018/07/SNL-Movie-Night-sq.jpg
ORGANIZER;CN="Activity Options LLC /Project World PBC":MAILTO:signup@activityoptions.com
END:VEVENT
BEGIN:VEVENT
DTSTART;TZID=UTC:20201121T170000
DTEND;TZID=UTC:20201121T220000
DTSTAMP:20260423T161107
CREATED:20191120T050734Z
LAST-MODIFIED:20201109T080523Z
UID:10000058-1605978000-1605996000@www.activityoptions.com
SUMMARY:• Saturday Movie Night
DESCRIPTION:Join Saturday Night Club (SNL) and enjoy the company of friends.Enjoy a movie and dinner at our Center or discover what’s open in town. Free for Denver residents. $10 for non residents. \nRegister Online
URL:https://www.activityoptions.com/event/%e2%80%a2-saturday-movie-night/2020-11-21/
LOCATION:Local Theater
ATTACH;FMTTYPE=image/jpeg:https://www.activityoptions.com/wp-content/uploads/2018/07/SNL-Movie-Night-sq.jpg
ORGANIZER;CN="Activity Options LLC /Project World PBC":MAILTO:signup@activityoptions.com
END:VEVENT
BEGIN:VEVENT
DTSTART;TZID=UTC:20201114T170000
DTEND;TZID=UTC:20201114T220000
DTSTAMP:20260423T161107
CREATED:20191120T050734Z
LAST-MODIFIED:20201109T080523Z
UID:10000057-1605373200-1605391200@www.activityoptions.com
SUMMARY:• Saturday Movie Night
DESCRIPTION:Join Saturday Night Club (SNL) and enjoy the company of friends.Enjoy a movie and dinner at our Center or discover what’s open in town. Free for Denver residents. $10 for non residents. \nRegister Online
URL:https://www.activityoptions.com/event/%e2%80%a2-saturday-movie-night/2020-11-14/
LOCATION:Local Theater
ATTACH;FMTTYPE=image/jpeg:https://www.activityoptions.com/wp-content/uploads/2018/07/SNL-Movie-Night-sq.jpg
ORGANIZER;CN="Activity Options LLC /Project World PBC":MAILTO:signup@activityoptions.com
END:VEVENT
BEGIN:VEVENT
DTSTART;TZID=UTC:20201107T170000
DTEND;TZID=UTC:20201107T220000
DTSTAMP:20260423T161107
CREATED:20191120T050734Z
LAST-MODIFIED:20201109T080523Z
UID:10000056-1604768400-1604786400@www.activityoptions.com
SUMMARY:• Saturday Movie Night
DESCRIPTION:Join Saturday Night Club (SNL) and enjoy the company of friends.Enjoy a movie and dinner at our Center or discover what’s open in town. Free for Denver residents. $10 for non residents. \nRegister Online
URL:https://www.activityoptions.com/event/%e2%80%a2-saturday-movie-night/2020-11-07/
LOCATION:Local Theater
ATTACH;FMTTYPE=image/jpeg:https://www.activityoptions.com/wp-content/uploads/2018/07/SNL-Movie-Night-sq.jpg
ORGANIZER;CN="Activity Options LLC /Project World PBC":MAILTO:signup@activityoptions.com
END:VEVENT
BEGIN:VEVENT
DTSTART;TZID=UTC:20201024T170000
DTEND;TZID=UTC:20201024T220000
DTSTAMP:20260423T161107
CREATED:20191120T050734Z
LAST-MODIFIED:20201109T080523Z
UID:10000055-1603558800-1603576800@www.activityoptions.com
SUMMARY:• Saturday Movie Night
DESCRIPTION:Join Saturday Night Club (SNL) and enjoy the company of friends.Enjoy a movie and dinner at our Center or discover what’s open in town. Free for Denver residents. $10 for non residents. \nRegister Online
URL:https://www.activityoptions.com/event/%e2%80%a2-saturday-movie-night/2020-10-24/
LOCATION:Local Theater
ATTACH;FMTTYPE=image/jpeg:https://www.activityoptions.com/wp-content/uploads/2018/07/SNL-Movie-Night-sq.jpg
ORGANIZER;CN="Activity Options LLC /Project World PBC":MAILTO:signup@activityoptions.com
END:VEVENT
BEGIN:VEVENT
DTSTART;TZID=UTC:20201017T170000
DTEND;TZID=UTC:20201017T220000
DTSTAMP:20260423T161107
CREATED:20191120T050734Z
LAST-MODIFIED:20201109T080523Z
UID:10000054-1602954000-1602972000@www.activityoptions.com
SUMMARY:• Saturday Movie Night
DESCRIPTION:Join Saturday Night Club (SNL) and enjoy the company of friends.Enjoy a movie and dinner at our Center or discover what’s open in town. Free for Denver residents. $10 for non residents. \nRegister Online
URL:https://www.activityoptions.com/event/%e2%80%a2-saturday-movie-night/2020-10-17/
LOCATION:Local Theater
ATTACH;FMTTYPE=image/jpeg:https://www.activityoptions.com/wp-content/uploads/2018/07/SNL-Movie-Night-sq.jpg
ORGANIZER;CN="Activity Options LLC /Project World PBC":MAILTO:signup@activityoptions.com
END:VEVENT
BEGIN:VEVENT
DTSTART;TZID=UTC:20201010T170000
DTEND;TZID=UTC:20201010T220000
DTSTAMP:20260423T161107
CREATED:20191120T050734Z
LAST-MODIFIED:20201109T080523Z
UID:10000053-1602349200-1602367200@www.activityoptions.com
SUMMARY:• Saturday Movie Night
DESCRIPTION:Join Saturday Night Club (SNL) and enjoy the company of friends.Enjoy a movie and dinner at our Center or discover what’s open in town. Free for Denver residents. $10 for non residents. \nRegister Online
URL:https://www.activityoptions.com/event/%e2%80%a2-saturday-movie-night/2020-10-10/
LOCATION:Local Theater
ATTACH;FMTTYPE=image/jpeg:https://www.activityoptions.com/wp-content/uploads/2018/07/SNL-Movie-Night-sq.jpg
ORGANIZER;CN="Activity Options LLC /Project World PBC":MAILTO:signup@activityoptions.com
END:VEVENT
BEGIN:VEVENT
DTSTART;TZID=UTC:20200926T170000
DTEND;TZID=UTC:20200926T220000
DTSTAMP:20260423T161107
CREATED:20191120T050734Z
LAST-MODIFIED:20201109T080523Z
UID:10000052-1601139600-1601157600@www.activityoptions.com
SUMMARY:• Saturday Movie Night
DESCRIPTION:Join Saturday Night Club (SNL) and enjoy the company of friends.Enjoy a movie and dinner at our Center or discover what’s open in town. Free for Denver residents. $10 for non residents. \nRegister Online
URL:https://www.activityoptions.com/event/%e2%80%a2-saturday-movie-night/2020-09-26/
LOCATION:Local Theater
ATTACH;FMTTYPE=image/jpeg:https://www.activityoptions.com/wp-content/uploads/2018/07/SNL-Movie-Night-sq.jpg
ORGANIZER;CN="Activity Options LLC /Project World PBC":MAILTO:signup@activityoptions.com
END:VEVENT
BEGIN:VEVENT
DTSTART;TZID=UTC:20200919T170000
DTEND;TZID=UTC:20200919T220000
DTSTAMP:20260423T161107
CREATED:20191120T050734Z
LAST-MODIFIED:20201109T080523Z
UID:10000051-1600534800-1600552800@www.activityoptions.com
SUMMARY:• Saturday Movie Night
DESCRIPTION:Join Saturday Night Club (SNL) and enjoy the company of friends.Enjoy a movie and dinner at our Center or discover what’s open in town. Free for Denver residents. $10 for non residents. \nRegister Online
URL:https://www.activityoptions.com/event/%e2%80%a2-saturday-movie-night/2020-09-19/
LOCATION:Local Theater
ATTACH;FMTTYPE=image/jpeg:https://www.activityoptions.com/wp-content/uploads/2018/07/SNL-Movie-Night-sq.jpg
ORGANIZER;CN="Activity Options LLC /Project World PBC":MAILTO:signup@activityoptions.com
END:VEVENT
BEGIN:VEVENT
DTSTART;TZID=UTC:20200912T170000
DTEND;TZID=UTC:20200912T220000
DTSTAMP:20260423T161107
CREATED:20191120T050734Z
LAST-MODIFIED:20201109T080523Z
UID:10000050-1599930000-1599948000@www.activityoptions.com
SUMMARY:• Saturday Movie Night
DESCRIPTION:Join Saturday Night Club (SNL) and enjoy the company of friends.Enjoy a movie and dinner at our Center or discover what’s open in town. Free for Denver residents. $10 for non residents. \nRegister Online
URL:https://www.activityoptions.com/event/%e2%80%a2-saturday-movie-night/2020-09-12/
LOCATION:Local Theater
ATTACH;FMTTYPE=image/jpeg:https://www.activityoptions.com/wp-content/uploads/2018/07/SNL-Movie-Night-sq.jpg
ORGANIZER;CN="Activity Options LLC /Project World PBC":MAILTO:signup@activityoptions.com
END:VEVENT
BEGIN:VEVENT
DTSTART;TZID=UTC:20200905T170000
DTEND;TZID=UTC:20200905T220000
DTSTAMP:20260423T161107
CREATED:20191120T050734Z
LAST-MODIFIED:20201109T080523Z
UID:10000049-1599325200-1599343200@www.activityoptions.com
SUMMARY:• Saturday Movie Night
DESCRIPTION:Join Saturday Night Club (SNL) and enjoy the company of friends.Enjoy a movie and dinner at our Center or discover what’s open in town. Free for Denver residents. $10 for non residents. \nRegister Online
URL:https://www.activityoptions.com/event/%e2%80%a2-saturday-movie-night/2020-09-05/
LOCATION:Local Theater
ATTACH;FMTTYPE=image/jpeg:https://www.activityoptions.com/wp-content/uploads/2018/07/SNL-Movie-Night-sq.jpg
ORGANIZER;CN="Activity Options LLC /Project World PBC":MAILTO:signup@activityoptions.com
END:VEVENT
BEGIN:VEVENT
DTSTART;TZID=UTC:20200829T170000
DTEND;TZID=UTC:20200829T220000
DTSTAMP:20260423T161107
CREATED:20191120T050734Z
LAST-MODIFIED:20201109T080523Z
UID:10000048-1598720400-1598738400@www.activityoptions.com
SUMMARY:• Saturday Movie Night
DESCRIPTION:Join Saturday Night Club (SNL) and enjoy the company of friends.Enjoy a movie and dinner at our Center or discover what’s open in town. Free for Denver residents. $10 for non residents. \nRegister Online
URL:https://www.activityoptions.com/event/%e2%80%a2-saturday-movie-night/2020-08-29/
LOCATION:Local Theater
ATTACH;FMTTYPE=image/jpeg:https://www.activityoptions.com/wp-content/uploads/2018/07/SNL-Movie-Night-sq.jpg
ORGANIZER;CN="Activity Options LLC /Project World PBC":MAILTO:signup@activityoptions.com
END:VEVENT
BEGIN:VEVENT
DTSTART;TZID=UTC:20200822T170000
DTEND;TZID=UTC:20200822T220000
DTSTAMP:20260423T161107
CREATED:20191120T050734Z
LAST-MODIFIED:20201109T080523Z
UID:10000047-1598115600-1598133600@www.activityoptions.com
SUMMARY:• Saturday Movie Night
DESCRIPTION:Join Saturday Night Club (SNL) and enjoy the company of friends.Enjoy a movie and dinner at our Center or discover what’s open in town. Free for Denver residents. $10 for non residents. \nRegister Online
URL:https://www.activityoptions.com/event/%e2%80%a2-saturday-movie-night/2020-08-22/
LOCATION:Local Theater
ATTACH;FMTTYPE=image/jpeg:https://www.activityoptions.com/wp-content/uploads/2018/07/SNL-Movie-Night-sq.jpg
ORGANIZER;CN="Activity Options LLC /Project World PBC":MAILTO:signup@activityoptions.com
END:VEVENT
BEGIN:VEVENT
DTSTART;TZID=UTC:20200815T170000
DTEND;TZID=UTC:20200815T220000
DTSTAMP:20260423T161107
CREATED:20191120T050734Z
LAST-MODIFIED:20201109T080523Z
UID:10000046-1597510800-1597528800@www.activityoptions.com
SUMMARY:• Saturday Movie Night
DESCRIPTION:Join Saturday Night Club (SNL) and enjoy the company of friends.Enjoy a movie and dinner at our Center or discover what’s open in town. Free for Denver residents. $10 for non residents. \nRegister Online
URL:https://www.activityoptions.com/event/%e2%80%a2-saturday-movie-night/2020-08-15/
LOCATION:Local Theater
ATTACH;FMTTYPE=image/jpeg:https://www.activityoptions.com/wp-content/uploads/2018/07/SNL-Movie-Night-sq.jpg
ORGANIZER;CN="Activity Options LLC /Project World PBC":MAILTO:signup@activityoptions.com
END:VEVENT
BEGIN:VEVENT
DTSTART;TZID=UTC:20200808T170000
DTEND;TZID=UTC:20200808T220000
DTSTAMP:20260423T161107
CREATED:20191120T050734Z
LAST-MODIFIED:20201109T080523Z
UID:10000045-1596906000-1596924000@www.activityoptions.com
SUMMARY:• Saturday Movie Night
DESCRIPTION:Join Saturday Night Club (SNL) and enjoy the company of friends.Enjoy a movie and dinner at our Center or discover what’s open in town. Free for Denver residents. $10 for non residents. \nRegister Online
URL:https://www.activityoptions.com/event/%e2%80%a2-saturday-movie-night/2020-08-08/
LOCATION:Local Theater
ATTACH;FMTTYPE=image/jpeg:https://www.activityoptions.com/wp-content/uploads/2018/07/SNL-Movie-Night-sq.jpg
ORGANIZER;CN="Activity Options LLC /Project World PBC":MAILTO:signup@activityoptions.com
END:VEVENT
BEGIN:VEVENT
DTSTART;TZID=UTC:20200613T170000
DTEND;TZID=UTC:20200613T220000
DTSTAMP:20260423T161107
CREATED:20191120T050734Z
LAST-MODIFIED:20201109T080523Z
UID:10000044-1592067600-1592085600@www.activityoptions.com
SUMMARY:• Saturday Movie Night
DESCRIPTION:Join Saturday Night Club (SNL) and enjoy the company of friends.Enjoy a movie and dinner at our Center or discover what’s open in town. Free for Denver residents. $10 for non residents. \nRegister Online
URL:https://www.activityoptions.com/event/%e2%80%a2-saturday-movie-night/2020-06-13/
LOCATION:Local Theater
ATTACH;FMTTYPE=image/jpeg:https://www.activityoptions.com/wp-content/uploads/2018/07/SNL-Movie-Night-sq.jpg
ORGANIZER;CN="Activity Options LLC /Project World PBC":MAILTO:signup@activityoptions.com
END:VEVENT
BEGIN:VEVENT
DTSTART;TZID=UTC:20200509T170000
DTEND;TZID=UTC:20200509T220000
DTSTAMP:20260423T161107
CREATED:20191120T050734Z
LAST-MODIFIED:20201109T080523Z
UID:10000043-1589043600-1589061600@www.activityoptions.com
SUMMARY:• Saturday Movie Night
DESCRIPTION:Join Saturday Night Club (SNL) and enjoy the company of friends.Enjoy a movie and dinner at our Center or discover what’s open in town. Free for Denver residents. $10 for non residents. \nRegister Online
URL:https://www.activityoptions.com/event/%e2%80%a2-saturday-movie-night/2020-05-09/
LOCATION:Local Theater
ATTACH;FMTTYPE=image/jpeg:https://www.activityoptions.com/wp-content/uploads/2018/07/SNL-Movie-Night-sq.jpg
ORGANIZER;CN="Activity Options LLC /Project World PBC":MAILTO:signup@activityoptions.com
END:VEVENT
BEGIN:VEVENT
DTSTART;TZID=UTC:20200411T170000
DTEND;TZID=UTC:20200411T220000
DTSTAMP:20260423T161107
CREATED:20191120T050734Z
LAST-MODIFIED:20201109T080523Z
UID:10000042-1586624400-1586642400@www.activityoptions.com
SUMMARY:• Saturday Movie Night
DESCRIPTION:Join Saturday Night Club (SNL) and enjoy the company of friends.Enjoy a movie and dinner at our Center or discover what’s open in town. Free for Denver residents. $10 for non residents. \nRegister Online
URL:https://www.activityoptions.com/event/%e2%80%a2-saturday-movie-night/2020-04-11/
LOCATION:Local Theater
ATTACH;FMTTYPE=image/jpeg:https://www.activityoptions.com/wp-content/uploads/2018/07/SNL-Movie-Night-sq.jpg
ORGANIZER;CN="Activity Options LLC /Project World PBC":MAILTO:signup@activityoptions.com
END:VEVENT
BEGIN:VEVENT
DTSTART;TZID=UTC:20200314T170000
DTEND;TZID=UTC:20200314T220000
DTSTAMP:20260423T161107
CREATED:20191120T050734Z
LAST-MODIFIED:20201109T080523Z
UID:10000041-1584205200-1584223200@www.activityoptions.com
SUMMARY:• Saturday Movie Night
DESCRIPTION:Join Saturday Night Club (SNL) and enjoy the company of friends.Enjoy a movie and dinner at our Center or discover what’s open in town. Free for Denver residents. $10 for non residents. \nRegister Online
URL:https://www.activityoptions.com/event/%e2%80%a2-saturday-movie-night/2020-03-14/
LOCATION:Local Theater
ATTACH;FMTTYPE=image/jpeg:https://www.activityoptions.com/wp-content/uploads/2018/07/SNL-Movie-Night-sq.jpg
ORGANIZER;CN="Activity Options LLC /Project World PBC":MAILTO:signup@activityoptions.com
END:VEVENT
BEGIN:VEVENT
DTSTART;TZID=UTC:20200215T170000
DTEND;TZID=UTC:20200215T220000
DTSTAMP:20260423T161107
CREATED:20191120T050734Z
LAST-MODIFIED:20201109T080523Z
UID:10000040-1581786000-1581804000@www.activityoptions.com
SUMMARY:• Saturday Movie Night
DESCRIPTION:Join Saturday Night Club (SNL) and enjoy the company of friends.Enjoy a movie and dinner at our Center or discover what’s open in town. Free for Denver residents. $10 for non residents. \nRegister Online
URL:https://www.activityoptions.com/event/%e2%80%a2-saturday-movie-night/2020-02-15/
LOCATION:Local Theater
ATTACH;FMTTYPE=image/jpeg:https://www.activityoptions.com/wp-content/uploads/2018/07/SNL-Movie-Night-sq.jpg
ORGANIZER;CN="Activity Options LLC /Project World PBC":MAILTO:signup@activityoptions.com
END:VEVENT
BEGIN:VEVENT
DTSTART;TZID=UTC:20200111T170000
DTEND;TZID=UTC:20200111T220000
DTSTAMP:20260423T161107
CREATED:20191120T050734Z
LAST-MODIFIED:20201109T080523Z
UID:10000039-1578762000-1578780000@www.activityoptions.com
SUMMARY:• Saturday Movie Night
DESCRIPTION:Join Saturday Night Club (SNL) and enjoy the company of friends.Enjoy a movie and dinner at our Center or discover what’s open in town. Free for Denver residents. $10 for non residents. \nRegister Online
URL:https://www.activityoptions.com/event/%e2%80%a2-saturday-movie-night/2020-01-11/
LOCATION:Local Theater
ATTACH;FMTTYPE=image/jpeg:https://www.activityoptions.com/wp-content/uploads/2018/07/SNL-Movie-Night-sq.jpg
ORGANIZER;CN="Activity Options LLC /Project World PBC":MAILTO:signup@activityoptions.com
END:VEVENT
END:VCALENDAR