BEGIN:VCALENDAR
VERSION:2.0
PRODID:-//Activity Options - ECPv6.15.20//NONSGML v1.0//EN
CALSCALE:GREGORIAN
METHOD:PUBLISH
X-WR-CALNAME:Activity Options
X-ORIGINAL-URL:https://www.activityoptions.com
X-WR-CALDESC:Events for Activity Options
REFRESH-INTERVAL;VALUE=DURATION:PT1H
X-Robots-Tag:noindex
X-PUBLISHED-TTL:PT1H
BEGIN:VTIMEZONE
TZID:UTC
BEGIN:STANDARD
TZOFFSETFROM:+0000
TZOFFSETTO:+0000
TZNAME:UTC
DTSTART:20190101T000000
END:STANDARD
END:VTIMEZONE
BEGIN:VEVENT
DTSTART;TZID=UTC:20201223T173000
DTEND;TZID=UTC:20201223T203000
DTSTAMP:20260423T190137
CREATED:20191120T040243Z
LAST-MODIFIED:20201109T083128Z
UID:10000017-1608744600-1608755400@www.activityoptions.com
SUMMARY:• Wednesday Coffee Club
DESCRIPTION:Join our small group to hang out at a local coffee and tea spot for conversation\, relaxation and smiles. Includes snack. Free for Denver residents. $25 for non residents\, Medicaid waiver restrictions may apply. \nRegister Online
URL:https://www.activityoptions.com/event/%e2%80%a2-wednesday-coffee-club/2020-12-23/
LOCATION:Local Cafe
ATTACH;FMTTYPE=image/jpeg:https://www.activityoptions.com/wp-content/uploads/2017/12/Coffee-Club-sq.jpg
ORGANIZER;CN="Activity Options LLC /Project World PBC":MAILTO:signup@activityoptions.com
END:VEVENT
BEGIN:VEVENT
DTSTART;TZID=UTC:20201125T173000
DTEND;TZID=UTC:20201125T203000
DTSTAMP:20260423T190137
CREATED:20191120T040243Z
LAST-MODIFIED:20201109T083128Z
UID:10000016-1606325400-1606336200@www.activityoptions.com
SUMMARY:• Wednesday Coffee Club
DESCRIPTION:Join our small group to hang out at a local coffee and tea spot for conversation\, relaxation and smiles. Includes snack. Free for Denver residents. $25 for non residents\, Medicaid waiver restrictions may apply. \nRegister Online
URL:https://www.activityoptions.com/event/%e2%80%a2-wednesday-coffee-club/2020-11-25/
LOCATION:Local Cafe
ATTACH;FMTTYPE=image/jpeg:https://www.activityoptions.com/wp-content/uploads/2017/12/Coffee-Club-sq.jpg
ORGANIZER;CN="Activity Options LLC /Project World PBC":MAILTO:signup@activityoptions.com
END:VEVENT
BEGIN:VEVENT
DTSTART;TZID=UTC:20201028T173000
DTEND;TZID=UTC:20201028T203000
DTSTAMP:20260423T190137
CREATED:20191120T040243Z
LAST-MODIFIED:20201109T083128Z
UID:10000015-1603906200-1603917000@www.activityoptions.com
SUMMARY:• Wednesday Coffee Club
DESCRIPTION:Join our small group to hang out at a local coffee and tea spot for conversation\, relaxation and smiles. Includes snack. Free for Denver residents. $25 for non residents\, Medicaid waiver restrictions may apply. \nRegister Online
URL:https://www.activityoptions.com/event/%e2%80%a2-wednesday-coffee-club/2020-10-28/
LOCATION:Local Cafe
ATTACH;FMTTYPE=image/jpeg:https://www.activityoptions.com/wp-content/uploads/2017/12/Coffee-Club-sq.jpg
ORGANIZER;CN="Activity Options LLC /Project World PBC":MAILTO:signup@activityoptions.com
END:VEVENT
BEGIN:VEVENT
DTSTART;TZID=UTC:20200923T173000
DTEND;TZID=UTC:20200923T203000
DTSTAMP:20260423T190137
CREATED:20191120T040243Z
LAST-MODIFIED:20201109T083128Z
UID:10000014-1600882200-1600893000@www.activityoptions.com
SUMMARY:• Wednesday Coffee Club
DESCRIPTION:Join our small group to hang out at a local coffee and tea spot for conversation\, relaxation and smiles. Includes snack. Free for Denver residents. $25 for non residents\, Medicaid waiver restrictions may apply. \nRegister Online
URL:https://www.activityoptions.com/event/%e2%80%a2-wednesday-coffee-club/2020-09-23/
LOCATION:Local Cafe
ATTACH;FMTTYPE=image/jpeg:https://www.activityoptions.com/wp-content/uploads/2017/12/Coffee-Club-sq.jpg
ORGANIZER;CN="Activity Options LLC /Project World PBC":MAILTO:signup@activityoptions.com
END:VEVENT
BEGIN:VEVENT
DTSTART;TZID=UTC:20200826T173000
DTEND;TZID=UTC:20200826T203000
DTSTAMP:20260423T190137
CREATED:20191120T040243Z
LAST-MODIFIED:20201109T083128Z
UID:10000013-1598463000-1598473800@www.activityoptions.com
SUMMARY:• Wednesday Coffee Club
DESCRIPTION:Join our small group to hang out at a local coffee and tea spot for conversation\, relaxation and smiles. Includes snack. Free for Denver residents. $25 for non residents\, Medicaid waiver restrictions may apply. \nRegister Online
URL:https://www.activityoptions.com/event/%e2%80%a2-wednesday-coffee-club/2020-08-26/
LOCATION:Local Cafe
ATTACH;FMTTYPE=image/jpeg:https://www.activityoptions.com/wp-content/uploads/2017/12/Coffee-Club-sq.jpg
ORGANIZER;CN="Activity Options LLC /Project World PBC":MAILTO:signup@activityoptions.com
END:VEVENT
BEGIN:VEVENT
DTSTART;TZID=UTC:20200624T173000
DTEND;TZID=UTC:20200624T203000
DTSTAMP:20260423T190137
CREATED:20191120T040243Z
LAST-MODIFIED:20201109T083128Z
UID:10000012-1593019800-1593030600@www.activityoptions.com
SUMMARY:• Wednesday Coffee Club
DESCRIPTION:Join our small group to hang out at a local coffee and tea spot for conversation\, relaxation and smiles. Includes snack. Free for Denver residents. $25 for non residents\, Medicaid waiver restrictions may apply. \nRegister Online
URL:https://www.activityoptions.com/event/%e2%80%a2-wednesday-coffee-club/2020-06-24/
LOCATION:Local Cafe
ATTACH;FMTTYPE=image/jpeg:https://www.activityoptions.com/wp-content/uploads/2017/12/Coffee-Club-sq.jpg
ORGANIZER;CN="Activity Options LLC /Project World PBC":MAILTO:signup@activityoptions.com
END:VEVENT
BEGIN:VEVENT
DTSTART;TZID=UTC:20200527T173000
DTEND;TZID=UTC:20200527T203000
DTSTAMP:20260423T190137
CREATED:20191120T040243Z
LAST-MODIFIED:20201109T083128Z
UID:10000011-1590600600-1590611400@www.activityoptions.com
SUMMARY:• Wednesday Coffee Club
DESCRIPTION:Join our small group to hang out at a local coffee and tea spot for conversation\, relaxation and smiles. Includes snack. Free for Denver residents. $25 for non residents\, Medicaid waiver restrictions may apply. \nRegister Online
URL:https://www.activityoptions.com/event/%e2%80%a2-wednesday-coffee-club/2020-05-27/
LOCATION:Local Cafe
ATTACH;FMTTYPE=image/jpeg:https://www.activityoptions.com/wp-content/uploads/2017/12/Coffee-Club-sq.jpg
ORGANIZER;CN="Activity Options LLC /Project World PBC":MAILTO:signup@activityoptions.com
END:VEVENT
BEGIN:VEVENT
DTSTART;TZID=UTC:20200422T173000
DTEND;TZID=UTC:20200422T203000
DTSTAMP:20260423T190137
CREATED:20191120T040243Z
LAST-MODIFIED:20201109T083128Z
UID:10000010-1587576600-1587587400@www.activityoptions.com
SUMMARY:• Wednesday Coffee Club
DESCRIPTION:Join our small group to hang out at a local coffee and tea spot for conversation\, relaxation and smiles. Includes snack. Free for Denver residents. $25 for non residents\, Medicaid waiver restrictions may apply. \nRegister Online
URL:https://www.activityoptions.com/event/%e2%80%a2-wednesday-coffee-club/2020-04-22/
LOCATION:Local Cafe
ATTACH;FMTTYPE=image/jpeg:https://www.activityoptions.com/wp-content/uploads/2017/12/Coffee-Club-sq.jpg
ORGANIZER;CN="Activity Options LLC /Project World PBC":MAILTO:signup@activityoptions.com
END:VEVENT
BEGIN:VEVENT
DTSTART;TZID=UTC:20200325T173000
DTEND;TZID=UTC:20200325T203000
DTSTAMP:20260423T190137
CREATED:20191120T040243Z
LAST-MODIFIED:20201109T083128Z
UID:10000009-1585157400-1585168200@www.activityoptions.com
SUMMARY:• Wednesday Coffee Club
DESCRIPTION:Join our small group to hang out at a local coffee and tea spot for conversation\, relaxation and smiles. Includes snack. Free for Denver residents. $25 for non residents\, Medicaid waiver restrictions may apply. \nRegister Online
URL:https://www.activityoptions.com/event/%e2%80%a2-wednesday-coffee-club/2020-03-25/
LOCATION:Local Cafe
ATTACH;FMTTYPE=image/jpeg:https://www.activityoptions.com/wp-content/uploads/2017/12/Coffee-Club-sq.jpg
ORGANIZER;CN="Activity Options LLC /Project World PBC":MAILTO:signup@activityoptions.com
END:VEVENT
BEGIN:VEVENT
DTSTART;TZID=UTC:20200226T173000
DTEND;TZID=UTC:20200226T203000
DTSTAMP:20260423T190137
CREATED:20191120T040243Z
LAST-MODIFIED:20201109T083128Z
UID:10000008-1582738200-1582749000@www.activityoptions.com
SUMMARY:• Wednesday Coffee Club
DESCRIPTION:Join our small group to hang out at a local coffee and tea spot for conversation\, relaxation and smiles. Includes snack. Free for Denver residents. $25 for non residents\, Medicaid waiver restrictions may apply. \nRegister Online
URL:https://www.activityoptions.com/event/%e2%80%a2-wednesday-coffee-club/2020-02-26/
LOCATION:Local Cafe
ATTACH;FMTTYPE=image/jpeg:https://www.activityoptions.com/wp-content/uploads/2017/12/Coffee-Club-sq.jpg
ORGANIZER;CN="Activity Options LLC /Project World PBC":MAILTO:signup@activityoptions.com
END:VEVENT
BEGIN:VEVENT
DTSTART;TZID=UTC:20200122T173000
DTEND;TZID=UTC:20200122T203000
DTSTAMP:20260423T190137
CREATED:20191120T040243Z
LAST-MODIFIED:20201109T083128Z
UID:10000007-1579714200-1579725000@www.activityoptions.com
SUMMARY:• Wednesday Coffee Club
DESCRIPTION:Join our small group to hang out at a local coffee and tea spot for conversation\, relaxation and smiles. Includes snack. Free for Denver residents. $25 for non residents\, Medicaid waiver restrictions may apply. \nRegister Online
URL:https://www.activityoptions.com/event/%e2%80%a2-wednesday-coffee-club/2020-01-22/
LOCATION:Local Cafe
ATTACH;FMTTYPE=image/jpeg:https://www.activityoptions.com/wp-content/uploads/2017/12/Coffee-Club-sq.jpg
ORGANIZER;CN="Activity Options LLC /Project World PBC":MAILTO:signup@activityoptions.com
END:VEVENT
END:VCALENDAR