BEGIN:VCALENDAR
VERSION:2.0
PRODID:-//Activity Options - ECPv6.15.20//NONSGML v1.0//EN
CALSCALE:GREGORIAN
METHOD:PUBLISH
X-WR-CALNAME:Activity Options
X-ORIGINAL-URL:https://www.activityoptions.com
X-WR-CALDESC:Events for Activity Options
REFRESH-INTERVAL;VALUE=DURATION:PT1H
X-Robots-Tag:noindex
X-PUBLISHED-TTL:PT1H
BEGIN:VTIMEZONE
TZID:UTC
BEGIN:STANDARD
TZOFFSETFROM:+0000
TZOFFSETTO:+0000
TZNAME:UTC
DTSTART:20180101T000000
END:STANDARD
END:VTIMEZONE
BEGIN:VEVENT
DTSTART;TZID=UTC:20210702T170000
DTEND;TZID=UTC:20210702T220000
DTSTAMP:20260423T214533
CREATED:20210615T053308Z
LAST-MODIFIED:20210615T053308Z
UID:10000250-1625245200-1625263200@www.activityoptions.com
SUMMARY:• Flobots at Levitt's Pavilion (6/5 raincheck performance)
DESCRIPTION:Rain check performance of this alternative hip hop\, rock fusion band live from lawn seating at Levitt’s Pavilion. Dinner before the concert. Free for Denver residents $59 for non residents. Medicaid waiver restrictions may apply. \nRegister Online
URL:https://www.activityoptions.com/event/flobots-at-levitts-pavilion-6-5-raincheck-performance/
LOCATION:Levitt Pavilion\, 1380 W Florida Ave\, Denver\, CO\, 80223\, United States
ORGANIZER;CN="Activity Options LLC /Project World PBC":MAILTO:signup@activityoptions.com
END:VEVENT
BEGIN:VEVENT
DTSTART;TZID=UTC:20210605T170000
DTEND;TZID=UTC:20210605T220000
DTSTAMP:20260423T214533
CREATED:20210502T145328Z
LAST-MODIFIED:20210502T145328Z
UID:10000125-1622912400-1622930400@www.activityoptions.com
SUMMARY:• Flobots with Brothers of Brass at Levitt Pavilion
DESCRIPTION:Enjoy this alternative hip hop band live from protective\, outdoor pods at Levitt. Dinner before the concert. Free for Denver residents. $99 for non residents\, Medicaid waiver restrictions may apply. \nRegister Online
URL:https://www.activityoptions.com/event/levitt-pavilion/
LOCATION:Levitt Pavilion\, 1380 W Florida Ave\, Denver\, CO\, 80223\, United States
ORGANIZER;CN="Activity Options LLC /Project World PBC":MAILTO:signup@activityoptions.com
END:VEVENT
BEGIN:VEVENT
DTSTART;TZID=UTC:20190908T140000
DTEND;TZID=UTC:20190908T190000
DTSTAMP:20260423T214533
CREATED:20190626T051303Z
LAST-MODIFIED:20190626T051303Z
UID:10000107-1567951200-1567969200@www.activityoptions.com
SUMMARY:• Face Vocal Band at Levitt Pavilion
DESCRIPTION:See this internationally acclaimed all vocal rock band from Boulder. “A true American Heartland sound”. Entertaining and enjoyable. Meal included. Free for Denver residents. $49 for non residents\, Medicaid waiver restrictions may apply. \nRegister Online
URL:https://www.activityoptions.com/event/%e2%80%a2-face-vocal-band-levitt-pavilion/
LOCATION:Levitt Pavilion\, 1380 W Florida Ave\, Denver\, CO\, 80223\, United States
ORGANIZER;CN="Activity Options LLC /Project World PBC":MAILTO:signup@activityoptions.com
END:VEVENT
END:VCALENDAR