BEGIN:VCALENDAR
VERSION:2.0
PRODID:-//Activity Options - ECPv6.15.20//NONSGML v1.0//EN
CALSCALE:GREGORIAN
METHOD:PUBLISH
X-ORIGINAL-URL:https://www.activityoptions.com
X-WR-CALDESC:Events for Activity Options
REFRESH-INTERVAL;VALUE=DURATION:PT1H
X-Robots-Tag:noindex
X-PUBLISHED-TTL:PT1H
BEGIN:VTIMEZONE
TZID:UTC
BEGIN:STANDARD
TZOFFSETFROM:+0000
TZOFFSETTO:+0000
TZNAME:UTC
DTSTART:20210101T000000
END:STANDARD
END:VTIMEZONE
BEGIN:VEVENT
DTSTART;TZID=UTC:20230827T120000
DTEND;TZID=UTC:20230827T180000
DTSTAMP:20260423T172052
CREATED:20230720T074248Z
LAST-MODIFIED:20230720T074248Z
UID:10000504-1693137600-1693159200@www.activityoptions.com
SUMMARY:• Lakeside Amusement Park
DESCRIPTION:A Classic fun time with rides\, games\, treats and friends. Free for Denver residents and Colorado Respite. Private pay $89. \nRegister Online
URL:https://www.activityoptions.com/event/lakeside-amusement-park-2/
LOCATION:Lakeside Amusement Park\, 4601 Sheridan Boulevard\, Denver\, CO\, 80212\, United States
ATTACH;FMTTYPE=image/jpeg:https://www.activityoptions.com/wp-content/uploads/2018/07/Lakeside.jpg
ORGANIZER;CN="Activity Options LLC /Project World PBC":MAILTO:signup@activityoptions.com
GEO:39.7792034;-105.0543345
X-APPLE-STRUCTURED-LOCATION;VALUE=URI;X-ADDRESS=Lakeside Amusement Park 4601 Sheridan Boulevard Denver CO 80212 United States;X-APPLE-RADIUS=500;X-TITLE=4601 Sheridan Boulevard:geo:-105.0543345,39.7792034
END:VEVENT
BEGIN:VEVENT
DTSTART;TZID=UTC:20220709T150000
DTEND;TZID=UTC:20220709T210000
DTSTAMP:20260423T172052
CREATED:20220607T152308Z
LAST-MODIFIED:20220607T152308Z
UID:10000368-1657378800-1657400400@www.activityoptions.com
SUMMARY:• Lakeside Amusement Park
DESCRIPTION:Picnic and rides at this iconic amusement park in North Denver. Free for Denver residents. $79 for non residents. Medicaid waiver restrictions may apply. \nRegister Online\n 
URL:https://www.activityoptions.com/event/lakeside-amusement-park/
LOCATION:Lakeside Amusement Park\, 4601 Sheridan Boulevard\, Denver\, CO\, 80212\, United States
ATTACH;FMTTYPE=image/jpeg:https://www.activityoptions.com/wp-content/uploads/2018/07/Lakeside.jpg
ORGANIZER;CN="Activity Options LLC /Project World PBC":MAILTO:signup@activityoptions.com
GEO:39.7792034;-105.0543345
X-APPLE-STRUCTURED-LOCATION;VALUE=URI;X-ADDRESS=Lakeside Amusement Park 4601 Sheridan Boulevard Denver CO 80212 United States;X-APPLE-RADIUS=500;X-TITLE=4601 Sheridan Boulevard:geo:-105.0543345,39.7792034
END:VEVENT
END:VCALENDAR