BEGIN:VCALENDAR
VERSION:2.0
PRODID:-//Activity Options - ECPv6.15.20//NONSGML v1.0//EN
CALSCALE:GREGORIAN
METHOD:PUBLISH
X-ORIGINAL-URL:https://www.activityoptions.com
X-WR-CALDESC:Events for Activity Options
REFRESH-INTERVAL;VALUE=DURATION:PT1H
X-Robots-Tag:noindex
X-PUBLISHED-TTL:PT1H
BEGIN:VTIMEZONE
TZID:UTC
BEGIN:STANDARD
TZOFFSETFROM:+0000
TZOFFSETTO:+0000
TZNAME:UTC
DTSTART:20220101T000000
END:STANDARD
END:VTIMEZONE
BEGIN:VEVENT
DTSTART;TZID=UTC:20240825T080000
DTEND;TZID=UTC:20240825T190000
DTSTAMP:20260423T152816
CREATED:20240619T055907Z
LAST-MODIFIED:20240619T055907Z
UID:10000632-1724572800-1724612400@www.activityoptions.com
SUMMARY:•RZR Ride in Kremmling CO
DESCRIPTION:Join the adventure exploring the backcountry around Kremmling in 4 wheel vehicles. Free for Denver residents. Private pay $159. If the activity is full please join the waitlist so we know you are interested. \nRegister Online
URL:https://www.activityoptions.com/event/rzr-ride-in-kremmling-co/
LOCATION:Kremmling Colorado\, Kremmling\, CO
ATTACH;FMTTYPE=image/png:https://www.activityoptions.com/wp-content/uploads/2023/07/RZR.png
ORGANIZER;CN="Activity Options LLC /Project World PBC":MAILTO:signup@activityoptions.com
END:VEVENT
BEGIN:VEVENT
DTSTART;TZID=UTC:20230806T100000
DTEND;TZID=UTC:20230806T190000
DTSTAMP:20260423T152816
CREATED:20230720T053358Z
LAST-MODIFIED:20230803T015343Z
UID:10000498-1691316000-1691348400@www.activityoptions.com
SUMMARY:• RZR in Kremmling
DESCRIPTION:Join the adventure exploring the backcountry around Kremmling in 4 wheel vehicles. Free for Denver residents and Colorado Respite. Private pay $129. \nRegister Online\n 
URL:https://www.activityoptions.com/event/rzr-in-kremmling/
LOCATION:Kremmling Colorado\, Kremmling\, CO
ATTACH;FMTTYPE=image/png:https://www.activityoptions.com/wp-content/uploads/2023/07/RZR.png
ORGANIZER;CN="Activity Options LLC /Project World PBC":MAILTO:signup@activityoptions.com
END:VEVENT
END:VCALENDAR