BEGIN:VCALENDAR
VERSION:2.0
PRODID:-//Activity Options - ECPv6.15.20//NONSGML v1.0//EN
CALSCALE:GREGORIAN
METHOD:PUBLISH
X-WR-CALNAME:Activity Options
X-ORIGINAL-URL:https://www.activityoptions.com
X-WR-CALDESC:Events for Activity Options
REFRESH-INTERVAL;VALUE=DURATION:PT1H
X-Robots-Tag:noindex
X-PUBLISHED-TTL:PT1H
BEGIN:VTIMEZONE
TZID:UTC
BEGIN:STANDARD
TZOFFSETFROM:+0000
TZOFFSETTO:+0000
TZNAME:UTC
DTSTART:20180101T000000
END:STANDARD
END:VTIMEZONE
BEGIN:VEVENT
DTSTART;TZID=UTC:20241201T080000
DTEND;TZID=UTC:20241201T150000
DTSTAMP:20260423T135746
CREATED:20241106T195522Z
LAST-MODIFIED:20241106T195522Z
UID:10000668-1733040000-1733065200@www.activityoptions.com
SUMMARY:•Indian Hot Springs
DESCRIPTION:Soak in the renovated pool at the hot springs and shut out the winter weather in tropical environment. Lunch in Idaho Springs. Denver residents use your membership. Private pay $159. If the activity is full please join the waitlist so we know you are interested. \nRegister Online
URL:https://www.activityoptions.com/event/indian-hot-springs-6/
LOCATION:Indian Hot Springs\, 302 Soda Creek Rd\, Idaho Springs\, CO\, 80452
ATTACH;FMTTYPE=image/jpeg:https://www.activityoptions.com/wp-content/uploads/2018/02/Indiam-Hot-Springs-sq.jpg
ORGANIZER;CN="Activity Options LLC /Project World PBC":MAILTO:signup@activityoptions.com
GEO:39.7392563;-105.512617
X-APPLE-STRUCTURED-LOCATION;VALUE=URI;X-ADDRESS=Indian Hot Springs 302 Soda Creek Rd Idaho Springs CO 80452;X-APPLE-RADIUS=500;X-TITLE=302 Soda Creek Rd:geo:-105.512617,39.7392563
END:VEVENT
BEGIN:VEVENT
DTSTART;TZID=UTC:20240414T080000
DTEND;TZID=UTC:20240414T140000
DTSTAMP:20260423T135746
CREATED:20240309T190002Z
LAST-MODIFIED:20240309T190002Z
UID:10000587-1713081600-1713103200@www.activityoptions.com
SUMMARY:•Indian Hot Springs
DESCRIPTION:Early arrival at these famous tropical hot springs near Idaho Springs. Lunch afterwards. Free for Denver residents. Private pay $200. *New to Activity Options? If the activity is full please join the wait list and we will do our best to make sure you can attend. \nRegister Online
URL:https://www.activityoptions.com/event/indian-hot-springs-5/
LOCATION:Indian Hot Springs\, 302 Soda Creek Rd\, Idaho Springs\, CO\, 80452
ATTACH;FMTTYPE=image/jpeg:https://www.activityoptions.com/wp-content/uploads/2018/02/Indiam-Hot-Springs-sq.jpg
ORGANIZER;CN="Activity Options LLC /Project World PBC":MAILTO:signup@activityoptions.com
GEO:39.7392563;-105.512617
X-APPLE-STRUCTURED-LOCATION;VALUE=URI;X-ADDRESS=Indian Hot Springs 302 Soda Creek Rd Idaho Springs CO 80452;X-APPLE-RADIUS=500;X-TITLE=302 Soda Creek Rd:geo:-105.512617,39.7392563
END:VEVENT
BEGIN:VEVENT
DTSTART;TZID=UTC:20231105T080000
DTEND;TZID=UTC:20231105T140000
DTSTAMP:20260423T135746
CREATED:20230919T050429Z
LAST-MODIFIED:20230919T050429Z
UID:10000527-1699171200-1699192800@www.activityoptions.com
SUMMARY:• Indian Hot Springs
DESCRIPTION:Soak in the calming waters of the Indian Hot Springs in Idaho Springs. Lunch in Idaho Springs. Free for Denver residents and Colorado Respite. Private pay $79. \nRegister Online
URL:https://www.activityoptions.com/event/indian-hot-springs-4/
LOCATION:Indian Hot Springs\, 302 Soda Creek Rd\, Idaho Springs\, CO\, 80452
ATTACH;FMTTYPE=image/jpeg:https://www.activityoptions.com/wp-content/uploads/2018/02/Indiam-Hot-Springs-sq.jpg
ORGANIZER;CN="Activity Options LLC /Project World PBC":MAILTO:signup@activityoptions.com
GEO:39.7392563;-105.512617
X-APPLE-STRUCTURED-LOCATION;VALUE=URI;X-ADDRESS=Indian Hot Springs 302 Soda Creek Rd Idaho Springs CO 80452;X-APPLE-RADIUS=500;X-TITLE=302 Soda Creek Rd:geo:-105.512617,39.7392563
END:VEVENT
BEGIN:VEVENT
DTSTART;TZID=UTC:20230312T083000
DTEND;TZID=UTC:20230312T143000
DTSTAMP:20260423T135746
CREATED:20230122T222334Z
LAST-MODIFIED:20230225T044120Z
UID:10000435-1678609800-1678631400@www.activityoptions.com
SUMMARY:•Indian Hot Springs\, NEW Date March 12!
DESCRIPTION:Early arrival at these famous tropical hot springs near Idaho Springs. Lunch afterwards. Free for Denver residents and Respite. Private pay cost $129 \nRegister Online
URL:https://www.activityoptions.com/event/indian-hot-springs-3/
LOCATION:Indian Hot Springs\, 302 Soda Creek Rd\, Idaho Springs\, CO\, 80452
ATTACH;FMTTYPE=image/jpeg:https://www.activityoptions.com/wp-content/uploads/2018/02/Indiam-Hot-Springs-sq.jpg
ORGANIZER;CN="Activity Options LLC /Project World PBC":MAILTO:signup@activityoptions.com
GEO:39.7392563;-105.512617
X-APPLE-STRUCTURED-LOCATION;VALUE=URI;X-ADDRESS=Indian Hot Springs 302 Soda Creek Rd Idaho Springs CO 80452;X-APPLE-RADIUS=500;X-TITLE=302 Soda Creek Rd:geo:-105.512617,39.7392563
END:VEVENT
BEGIN:VEVENT
DTSTART;TZID=UTC:20221106T080000
DTEND;TZID=UTC:20221106T140000
DTSTAMP:20260423T135746
CREATED:20220930T035152Z
LAST-MODIFIED:20220930T035152Z
UID:10000400-1667721600-1667743200@www.activityoptions.com
SUMMARY:• Indian Hot Springs
DESCRIPTION:Soak in the calming waters of the Indian Hot Springs in Idaho Springs. Lunch in Idaho Springs. Free for Denver residents. $79 for non residents. Medicaid waiver restrictions may apply. \nRegister Online
URL:https://www.activityoptions.com/event/indian-hot-springs-2/
LOCATION:Indian Hot Springs\, 302 Soda Creek Rd\, Idaho Springs\, CO\, 80452
ATTACH;FMTTYPE=image/jpeg:https://www.activityoptions.com/wp-content/uploads/2018/02/Indiam-Hot-Springs-sq.jpg
ORGANIZER;CN="Activity Options LLC /Project World PBC":MAILTO:signup@activityoptions.com
GEO:39.7392563;-105.512617
X-APPLE-STRUCTURED-LOCATION;VALUE=URI;X-ADDRESS=Indian Hot Springs 302 Soda Creek Rd Idaho Springs CO 80452;X-APPLE-RADIUS=500;X-TITLE=302 Soda Creek Rd:geo:-105.512617,39.7392563
END:VEVENT
BEGIN:VEVENT
DTSTART;TZID=UTC:20220109T090000
DTEND;TZID=UTC:20220109T140000
DTSTAMP:20260423T135746
CREATED:20220101T070708Z
LAST-MODIFIED:20220101T070708Z
UID:10000190-1641718800-1641736800@www.activityoptions.com
SUMMARY:• Indian Hot Springs
DESCRIPTION:Soak in the healing waters of the hot springs pool followed by lunch in Idaho Springs. Free for Denver residents. $99 for non residents\, medicaid waiver restrictions may apply. \nRegister Online\n 
URL:https://www.activityoptions.com/event/indian-hot-springs/
LOCATION:Indian Hot Springs\, 302 Soda Creek Rd\, Idaho Springs\, CO\, 80452
ATTACH;FMTTYPE=image/jpeg:https://www.activityoptions.com/wp-content/uploads/2018/02/Indiam-Hot-Springs-sq.jpg
ORGANIZER;CN="Activity Options LLC /Project World PBC":MAILTO:signup@activityoptions.com
GEO:39.7392563;-105.512617
X-APPLE-STRUCTURED-LOCATION;VALUE=URI;X-ADDRESS=Indian Hot Springs 302 Soda Creek Rd Idaho Springs CO 80452;X-APPLE-RADIUS=500;X-TITLE=302 Soda Creek Rd:geo:-105.512617,39.7392563
END:VEVENT
BEGIN:VEVENT
DTSTART;TZID=UTC:20210912T083000
DTEND;TZID=UTC:20210912T133000
DTSTAMP:20260423T135746
CREATED:20210829T082612Z
LAST-MODIFIED:20210829T082612Z
UID:10000162-1631435400-1631453400@www.activityoptions.com
SUMMARY:• Idaho Springs Hot Springs
DESCRIPTION:Relax at Indian Hot Springs with lunch at the historic ElRancho Grill. Free for Denver residents. $129 for non residents. Medicaid waiver restrictions may apply. \nRegister Online\n 
URL:https://www.activityoptions.com/event/idaho-springs-hot-springs/
LOCATION:Indian Hot Springs\, 302 Soda Creek Rd\, Idaho Springs\, CO\, 80452
ATTACH;FMTTYPE=image/jpeg:https://www.activityoptions.com/wp-content/uploads/2018/02/Indiam-Hot-Springs-sq.jpg
ORGANIZER;CN="Activity Options LLC /Project World PBC":MAILTO:signup@activityoptions.com
GEO:39.7392563;-105.512617
X-APPLE-STRUCTURED-LOCATION;VALUE=URI;X-ADDRESS=Indian Hot Springs 302 Soda Creek Rd Idaho Springs CO 80452;X-APPLE-RADIUS=500;X-TITLE=302 Soda Creek Rd:geo:-105.512617,39.7392563
END:VEVENT
BEGIN:VEVENT
DTSTART;TZID=UTC:20210411T083000
DTEND;TZID=UTC:20210411T133000
DTSTAMP:20260423T135746
CREATED:20210329T045559Z
LAST-MODIFIED:20210329T045559Z
UID:10000225-1618129800-1618147800@www.activityoptions.com
SUMMARY:• Indian Hot Springs Pool and Lunch
DESCRIPTION:Soak in this tropical paradise near Idaho Springs while winter carries on outside. Lunch afterwards. Free for Denver residents. $79 for non residents. \nRegister Online
URL:https://www.activityoptions.com/event/indian-hot-springs-pool-and-lunch/
LOCATION:Indian Hot Springs\, 302 Soda Creek Rd\, Idaho Springs\, CO\, 80452
ATTACH;FMTTYPE=image/jpeg:https://www.activityoptions.com/wp-content/uploads/2018/02/Indiam-Hot-Springs-sq.jpg
ORGANIZER;CN="Activity Options LLC /Project World PBC":MAILTO:signup@activityoptions.com
GEO:39.7392563;-105.512617
X-APPLE-STRUCTURED-LOCATION;VALUE=URI;X-ADDRESS=Indian Hot Springs 302 Soda Creek Rd Idaho Springs CO 80452;X-APPLE-RADIUS=500;X-TITLE=302 Soda Creek Rd:geo:-105.512617,39.7392563
END:VEVENT
BEGIN:VEVENT
DTSTART;TZID=UTC:20200906T090000
DTEND;TZID=UTC:20200906T150000
DTSTAMP:20260423T135746
CREATED:20200807T063540Z
LAST-MODIFIED:20200807T070303Z
UID:10000198-1599382800-1599404400@www.activityoptions.com
SUMMARY:• Indian Hot Springs and Lunch
DESCRIPTION:Soak in this tropical paradise near Idaho Springs while winter carries on outside. Lunch at the Wildfire.Free for Denver residents. $79 for non residents. Medicaid waiver restrictions may apply. \nRegister Online
URL:https://www.activityoptions.com/event/%e2%80%a2-indian-hot-springs-lunch/
LOCATION:Indian Hot Springs\, 302 Soda Creek Rd\, Idaho Springs\, CO\, 80452
ATTACH;FMTTYPE=image/jpeg:https://www.activityoptions.com/wp-content/uploads/2018/02/Indiam-Hot-Springs-sq.jpg
ORGANIZER;CN="Activity Options LLC /Project World PBC":MAILTO:signup@activityoptions.com
GEO:39.7392563;-105.512617
X-APPLE-STRUCTURED-LOCATION;VALUE=URI;X-ADDRESS=Indian Hot Springs 302 Soda Creek Rd Idaho Springs CO 80452;X-APPLE-RADIUS=500;X-TITLE=302 Soda Creek Rd:geo:-105.512617,39.7392563
END:VEVENT
BEGIN:VEVENT
DTSTART;TZID=UTC:20200308T090000
DTEND;TZID=UTC:20200308T150000
DTSTAMP:20260423T135746
CREATED:20200128T203947Z
LAST-MODIFIED:20200129T032302Z
UID:10000169-1583658000-1583679600@www.activityoptions.com
SUMMARY:•Indian Hot Springs and Lunch
DESCRIPTION:Soak in this tropical paradise near Idaho Springs while winter carries on outside. Lunch at the Wildfire. Free for Denver residents. $79 for non residents\, Medicaid waiver restrictions may apply. Register online. \nRegister Online
URL:https://www.activityoptions.com/event/%e2%80%a2indian-hot-springs-lunch/
LOCATION:Indian Hot Springs\, 302 Soda Creek Rd\, Idaho Springs\, CO\, 80452
ATTACH;FMTTYPE=image/jpeg:https://www.activityoptions.com/wp-content/uploads/2018/02/Indiam-Hot-Springs-sq.jpg
ORGANIZER;CN="Activity Options LLC /Project World PBC":MAILTO:signup@activityoptions.com
GEO:39.7392563;-105.512617
X-APPLE-STRUCTURED-LOCATION;VALUE=URI;X-ADDRESS=Indian Hot Springs 302 Soda Creek Rd Idaho Springs CO 80452;X-APPLE-RADIUS=500;X-TITLE=302 Soda Creek Rd:geo:-105.512617,39.7392563
END:VEVENT
BEGIN:VEVENT
DTSTART;TZID=UTC:20191006T100000
DTEND;TZID=UTC:20191006T150000
DTSTAMP:20260423T135746
CREATED:20190828T031222Z
LAST-MODIFIED:20190828T031222Z
UID:10000110-1570356000-1570374000@www.activityoptions.com
SUMMARY:• Indian Hot Springs Soak & Lunch
DESCRIPTION:This is a favorite spot for us! Join our small group for a relaxing day at the Hot Pools. Enjoy the healing waters and lush indoor gardens. Includes lunch. Free for Denver residents. $79 for non residents\, Medicaid waiver restrictions may apply. \nRegister Online
URL:https://www.activityoptions.com/event/%e2%80%a2-indian-hot-springs-soak-lunch/
LOCATION:Indian Hot Springs\, 302 Soda Creek Rd\, Idaho Springs\, CO\, 80452
ATTACH;FMTTYPE=image/jpeg:https://www.activityoptions.com/wp-content/uploads/2018/02/Indiam-Hot-Springs-sq.jpg
ORGANIZER;CN="Activity Options LLC /Project World PBC":MAILTO:signup@activityoptions.com
GEO:39.7392563;-105.512617
X-APPLE-STRUCTURED-LOCATION;VALUE=URI;X-ADDRESS=Indian Hot Springs 302 Soda Creek Rd Idaho Springs CO 80452;X-APPLE-RADIUS=500;X-TITLE=302 Soda Creek Rd:geo:-105.512617,39.7392563
END:VEVENT
END:VCALENDAR