BEGIN:VCALENDAR
VERSION:2.0
PRODID:-//Activity Options - ECPv6.15.20//NONSGML v1.0//EN
CALSCALE:GREGORIAN
METHOD:PUBLISH
X-ORIGINAL-URL:https://www.activityoptions.com
X-WR-CALDESC:Events for Activity Options
REFRESH-INTERVAL;VALUE=DURATION:PT1H
X-Robots-Tag:noindex
X-PUBLISHED-TTL:PT1H
BEGIN:VTIMEZONE
TZID:UTC
BEGIN:STANDARD
TZOFFSETFROM:+0000
TZOFFSETTO:+0000
TZNAME:UTC
DTSTART:20190101T000000
END:STANDARD
END:VTIMEZONE
BEGIN:VEVENT
DTSTART;TZID=UTC:20210922T173000
DTEND;TZID=UTC:20210922T203000
DTSTAMP:20260423T175836
CREATED:20210829T085218Z
LAST-MODIFIED:20210829T085218Z
UID:10000166-1632331800-1632342600@www.activityoptions.com
SUMMARY:• Coffee Club
DESCRIPTION:Join our small group to hang out at a local coffee and tea spot for conversation\, relaxation and smiles. Includes snack. Free for Denver residents. $39 for non residents. Medicaid waiver restrictions may apply. \nRegister Online
URL:https://www.activityoptions.com/event/coffee-club-5/
LOCATION:AO West Community Center\, 7401 W 59th Ave\, Arvada\, Colorado\, 80003
ATTACH;FMTTYPE=image/jpeg:https://www.activityoptions.com/wp-content/uploads/2017/12/Coffee-Club-sq.jpg
ORGANIZER;CN="Activity Options LLC /Project World PBC":MAILTO:signup@activityoptions.com
END:VEVENT
BEGIN:VEVENT
DTSTART;TZID=UTC:20210918T170000
DTEND;TZID=UTC:20210918T210000
DTSTAMP:20260423T175836
CREATED:20210829T084706Z
LAST-MODIFIED:20210830T021900Z
UID:10000165-1631984400-1631998800@www.activityoptions.com
SUMMARY:• SNL Movie Night
DESCRIPTION:Enjoy dinner and a movie at either the West Community Center or at a local theater. Free for Denver residents. $39 for non residents. Medicaid waiver restrictions may apply. \nRegister Online
URL:https://www.activityoptions.com/event/snl-movie-night/
LOCATION:AO West Community Center\, 7401 W 59th Ave\, Arvada\, Colorado\, 80003
ATTACH;FMTTYPE=image/png:https://www.activityoptions.com/wp-content/uploads/2021/04/SNL-sq.png
ORGANIZER;CN="Activity Options LLC /Project World PBC":MAILTO:signup@activityoptions.com
END:VEVENT
BEGIN:VEVENT
DTSTART;TZID=UTC:20200907T090000
DTEND;TZID=UTC:20200907T150000
DTSTAMP:20260423T175836
CREATED:20200807T070851Z
LAST-MODIFIED:20200811T215832Z
UID:10000086-1599469200-1599490800@www.activityoptions.com
SUMMARY:• LABOR DAY PARTY!
DESCRIPTION:Celebrate the holiday with friends at the new GroWest Community Center in Arvada. BBQ fun and games. Free for Denver residents. $25 for non residents. Medicaid waiver restrictions may apply. \nRegister Online
URL:https://www.activityoptions.com/event/%e2%80%a2-labor-day-party/
LOCATION:AO West Community Center\, 7401 W 59th Ave\, Arvada\, Colorado\, 80003
ATTACH;FMTTYPE=image/png:https://www.activityoptions.com/wp-content/uploads/2020/08/LaborDayBBQ.png
ORGANIZER;CN="Activity Options LLC /Project World PBC":MAILTO:signup@activityoptions.com
END:VEVENT
END:VCALENDAR