BEGIN:VCALENDAR
VERSION:2.0
PRODID:-//Activity Options - ECPv6.15.20//NONSGML v1.0//EN
CALSCALE:GREGORIAN
METHOD:PUBLISH
X-WR-CALNAME:Activity Options
X-ORIGINAL-URL:https://www.activityoptions.com
X-WR-CALDESC:Events for Activity Options
REFRESH-INTERVAL;VALUE=DURATION:PT1H
X-Robots-Tag:noindex
X-PUBLISHED-TTL:PT1H
BEGIN:VTIMEZONE
TZID:UTC
BEGIN:STANDARD
TZOFFSETFROM:+0000
TZOFFSETTO:+0000
TZNAME:UTC
DTSTART:20250101T000000
END:STANDARD
END:VTIMEZONE
BEGIN:VEVENT
DTSTART;TZID=UTC:20260328T160000
DTEND;TZID=UTC:20260328T210000
DTSTAMP:20260423T121024
CREATED:20260123T030255Z
LAST-MODIFIED:20260123T030255Z
UID:10000833-1774713600-1774731600@www.activityoptions.com
SUMMARY:•Dinner Club
DESCRIPTION:Dinner this month at the Grizzly Rose. Social seating in the Party Garage. Denver residents use your free membership or inquire to set one up through us using Mill Levy funding. Private pay $99. If the activity is full please join the waitlist so we know you are interested. \nRegister Online
URL:https://www.activityoptions.com/event/dinner-club-9/
LOCATION:Grizzly Rose\, 5450 Lincoln St\, Denver\, CO\, 80216\, United States
ATTACH;FMTTYPE=image/png:https://www.activityoptions.com/wp-content/uploads/2023/01/GrizzlyRose.png
ORGANIZER;CN="Activity Options LLC /Project World PBC":MAILTO:signup@activityoptions.com
END:VEVENT
END:VCALENDAR