BEGIN:VCALENDAR
VERSION:2.0
PRODID:-//Activity Options - ECPv6.15.20//NONSGML v1.0//EN
CALSCALE:GREGORIAN
METHOD:PUBLISH
X-ORIGINAL-URL:https://www.activityoptions.com
X-WR-CALDESC:Events for Activity Options
REFRESH-INTERVAL;VALUE=DURATION:PT1H
X-Robots-Tag:noindex
X-PUBLISHED-TTL:PT1H
BEGIN:VTIMEZONE
TZID:UTC
BEGIN:STANDARD
TZOFFSETFROM:+0000
TZOFFSETTO:+0000
TZNAME:UTC
DTSTART:20220101T000000
END:STANDARD
END:VTIMEZONE
BEGIN:VEVENT
DTSTART;TZID=UTC:20230413T070000
DTEND;TZID=UTC:20230416T170000
DTSTAMP:20260423T184628
CREATED:20230121T010840Z
LAST-MODIFIED:20230121T011600Z
UID:10000421-1681369200-1681664400@www.activityoptions.com
SUMMARY:TRAVEL• Nashville Country Music Tour
DESCRIPTION:Enjoy Nashville from the Hotel Gaylord Opryland\, an adventure in itself. Attend the Luke Combs concert as well as a night the Grand Old Opry House. Visit the Country Western Music Hall of Fame and other famous landmarks. Free for Denver Residents and Respite. Private pay cost $2\,900. \nRegister Online\n 
URL:https://www.activityoptions.com/event/nashville-country-music-tour/
LOCATION:Grand Ole Opry\, 2800 Opryland Dr\, Nashville\, TN\, 37214\, United States
ATTACH;FMTTYPE=image/png:https://www.activityoptions.com/wp-content/uploads/2023/01/Nashville2023.png
ORGANIZER;CN="Activity Options LLC /Project World PBC":MAILTO:signup@activityoptions.com
END:VEVENT
END:VCALENDAR