BEGIN:VCALENDAR
VERSION:2.0
PRODID:-//Activity Options - ECPv6.15.20//NONSGML v1.0//EN
CALSCALE:GREGORIAN
METHOD:PUBLISH
X-ORIGINAL-URL:https://www.activityoptions.com
X-WR-CALDESC:Events for Activity Options
REFRESH-INTERVAL;VALUE=DURATION:PT1H
X-Robots-Tag:noindex
X-PUBLISHED-TTL:PT1H
BEGIN:VTIMEZONE
TZID:UTC
BEGIN:STANDARD
TZOFFSETFROM:+0000
TZOFFSETTO:+0000
TZNAME:UTC
DTSTART:20230101T000000
END:STANDARD
END:VTIMEZONE
BEGIN:VEVENT
DTSTART;TZID=UTC:20240331T120000
DTEND;TZID=UTC:20240331T170000
DTSTAMP:20260423T154432
CREATED:20240307T043901Z
LAST-MODIFIED:20240307T043901Z
UID:10000583-1711886400-1711904400@www.activityoptions.com
SUMMARY:•Easter Dininer at Golden Corral
DESCRIPTION:Let’s celebrate Easter together at Golden Corral. Every hoiday should iniclude Friends\, Fun and Good Food! Hope to see you there. Free for Denver residents. Private pay $99. *New to Activity Options? Please join the wait list if the activity is full and we will do our best to make sure you can attend. \nRegister Online
URL:https://www.activityoptions.com/event/easter-dininer-at-golden-corral/
LOCATION:Golden Corral
ATTACH;FMTTYPE=image/png:https://www.activityoptions.com/wp-content/uploads/2024/03/EasterDinner.png
ORGANIZER;CN="Activity Options LLC /Project World PBC":MAILTO:signup@activityoptions.com
END:VEVENT
END:VCALENDAR