BEGIN:VCALENDAR
VERSION:2.0
PRODID:-//Activity Options - ECPv6.15.20//NONSGML v1.0//EN
CALSCALE:GREGORIAN
METHOD:PUBLISH
X-WR-CALNAME:Activity Options
X-ORIGINAL-URL:https://www.activityoptions.com
X-WR-CALDESC:Events for Activity Options
REFRESH-INTERVAL;VALUE=DURATION:PT1H
X-Robots-Tag:noindex
X-PUBLISHED-TTL:PT1H
BEGIN:VTIMEZONE
TZID:UTC
BEGIN:STANDARD
TZOFFSETFROM:+0000
TZOFFSETTO:+0000
TZNAME:UTC
DTSTART:20210101T000000
END:STANDARD
END:VTIMEZONE
BEGIN:VEVENT
DTSTART;TZID=UTC:20251213T080000
DTEND;TZID=UTC:20251214T170000
DTSTAMP:20260423T123527
CREATED:20250902T030758Z
LAST-MODIFIED:20250902T030758Z
UID:10000779-1765612800-1765731600@www.activityoptions.com
SUMMARY:•Gaylord Overnight
DESCRIPTION:Enjoy the many holiday festivities at the Gaylord Hotel with an overnight stay. Enjoy the indoor pool\, slides and outdoor hot tubs. Denver residents use your free IML membership or inquire to set one up. Private pay $450. If the activity is full please join the waitlist so we know you are interested. \nRegister Online
URL:https://www.activityoptions.com/event/gaylord-overnight/
LOCATION:Gaylord Hotel\, 6700 N Gaylord Rockies Blvd\, Aurora\, CO\, 80019\, United States
ATTACH;FMTTYPE=image/png:https://www.activityoptions.com/wp-content/uploads/2022/01/GaylordHOtel.png
ORGANIZER;CN="Activity Options LLC /Project World PBC":MAILTO:signup@activityoptions.com
END:VEVENT
BEGIN:VEVENT
DTSTART;TZID=UTC:20221125T170000
DTEND;TZID=UTC:20221125T230000
DTSTAMP:20260423T123527
CREATED:20221116T093845Z
LAST-MODIFIED:20221116T093845Z
UID:10000406-1669395600-1669417200@www.activityoptions.com
SUMMARY:• Cirque du Soleil Spirit of Christmas
DESCRIPTION:Bring in the magic of the holidays with the Cirque du Soleil performance at the Gaylord Rockies. View the Christmas lights and displays before and after. Free for Denver residents. $159 for non residents. \nRegister Online\n 
URL:https://www.activityoptions.com/event/cirque-du-soleil-spirit-of-christmas/
LOCATION:Gaylord Hotel\, 6700 N Gaylord Rockies Blvd\, Aurora\, CO\, 80019\, United States
ORGANIZER;CN="Activity Options LLC /Project World PBC":MAILTO:signup@activityoptions.com
END:VEVENT
BEGIN:VEVENT
DTSTART;TZID=UTC:20220219T000000
DTEND;TZID=UTC:20220220T233000
DTSTAMP:20260423T123527
CREATED:20220124T001725Z
LAST-MODIFIED:20220124T020259Z
UID:10000337-1645228800-1645399800@www.activityoptions.com
SUMMARY:• Gaylord Hotel\, Aurora CO Overnight
DESCRIPTION:Spend the night and explore this local resort masterpiece. Enjoy the indoor/outdoor pool\, slides\, spa and delicious restaurants. Free for Denver residents. $450 for non residents\, Medicaid waiver restrictions may apply. \nRegister Online
URL:https://www.activityoptions.com/event/gaylord-hotel-aurora-co-overnight/
LOCATION:Gaylord Hotel\, 6700 N Gaylord Rockies Blvd\, Aurora\, CO\, 80019\, United States
ATTACH;FMTTYPE=image/png:https://www.activityoptions.com/wp-content/uploads/2022/01/GaylordHOtel.png
ORGANIZER;CN="Activity Options LLC /Project World PBC":MAILTO:signup@activityoptions.com
END:VEVENT
END:VCALENDAR