BEGIN:VCALENDAR
VERSION:2.0
PRODID:-//Activity Options - ECPv6.15.20//NONSGML v1.0//EN
CALSCALE:GREGORIAN
METHOD:PUBLISH
X-WR-CALNAME:Activity Options
X-ORIGINAL-URL:https://www.activityoptions.com
X-WR-CALDESC:Events for Activity Options
REFRESH-INTERVAL;VALUE=DURATION:PT1H
X-Robots-Tag:noindex
X-PUBLISHED-TTL:PT1H
BEGIN:VTIMEZONE
TZID:UTC
BEGIN:STANDARD
TZOFFSETFROM:+0000
TZOFFSETTO:+0000
TZNAME:UTC
DTSTART:20240101T000000
END:STANDARD
END:VTIMEZONE
BEGIN:VEVENT
DTSTART;TZID=UTC:20250530T100000
DTEND;TZID=UTC:20250530T170000
DTSTAMP:20260423T143042
CREATED:20250221T094643Z
LAST-MODIFIED:20250224T152437Z
UID:10000726-1748599200-1748624400@www.activityoptions.com
SUMMARY:•Horse Back Riding at Garden of the Gods
DESCRIPTION:Join an experienced wrangler for a trail ride. No experience necessary but must be able to sit upright on a horse and hold the reins. This is not therapy riding! Denver residents use your free IML membership or inquire to set one up. Private pay $250. If the activity is full please join the wait list so we know you are interested. \nRegister Online
URL:https://www.activityoptions.com/event/horse-back-riding-at-garden-of-the-gods/
LOCATION:Garden of the Gods\, Colorado Springs\, CO
ATTACH;FMTTYPE=image/jpeg:https://www.activityoptions.com/wp-content/uploads/2018/03/Horseback-sq.jpg
ORGANIZER;CN="Activity Options LLC /Project World PBC":MAILTO:signup@activityoptions.com
END:VEVENT
END:VCALENDAR