BEGIN:VCALENDAR
VERSION:2.0
PRODID:-//Activity Options - ECPv6.15.20//NONSGML v1.0//EN
CALSCALE:GREGORIAN
METHOD:PUBLISH
X-WR-CALNAME:Activity Options
X-ORIGINAL-URL:https://www.activityoptions.com
X-WR-CALDESC:Events for Activity Options
REFRESH-INTERVAL;VALUE=DURATION:PT1H
X-Robots-Tag:noindex
X-PUBLISHED-TTL:PT1H
BEGIN:VTIMEZONE
TZID:UTC
BEGIN:STANDARD
TZOFFSETFROM:+0000
TZOFFSETTO:+0000
TZNAME:UTC
DTSTART:20220101T000000
END:STANDARD
END:VTIMEZONE
BEGIN:VEVENT
DTSTART;TZID=UTC:20230204T130000
DTEND;TZID=UTC:20230204T230000
DTSTAMP:20260423T184353
CREATED:20230122T191418Z
LAST-MODIFIED:20230122T191418Z
UID:10000426-1675515600-1675551600@www.activityoptions.com
SUMMARY:• Frisco Sleigh Ride and Theater
DESCRIPTION:Experience a real Colorado winter treat! Take a relaxing horse drawn sleigh ride through the snowy mountain landscape followed by an artful theater experience. Free for Denver residents and Respite. Private pay cost $149 \nRegister Online\n 
URL:https://www.activityoptions.com/event/frisco-sleigh-ride-and-theater/
LOCATION:Frisco Colorado\, Frisco\, CO\, United States
ATTACH;FMTTYPE=image/png:https://www.activityoptions.com/wp-content/uploads/2023/01/FriscoSleighRide.png
ORGANIZER;CN="Activity Options LLC /Project World PBC":MAILTO:signup@activityoptions.com
END:VEVENT
END:VCALENDAR