BEGIN:VCALENDAR
VERSION:2.0
PRODID:-//Activity Options - ECPv6.15.20//NONSGML v1.0//EN
CALSCALE:GREGORIAN
METHOD:PUBLISH
X-ORIGINAL-URL:https://www.activityoptions.com
X-WR-CALDESC:Events for Activity Options
REFRESH-INTERVAL;VALUE=DURATION:PT1H
X-Robots-Tag:noindex
X-PUBLISHED-TTL:PT1H
BEGIN:VTIMEZONE
TZID:UTC
BEGIN:STANDARD
TZOFFSETFROM:+0000
TZOFFSETTO:+0000
TZNAME:UTC
DTSTART:20180101T000000
END:STANDARD
END:VTIMEZONE
BEGIN:VEVENT
DTSTART;TZID=UTC:20260314T080000
DTEND;TZID=UTC:20260314T140000
DTSTAMP:20260423T122840
CREATED:20260123T020639Z
LAST-MODIFIED:20260123T020639Z
UID:10000828-1773475200-1773496800@www.activityoptions.com
SUMMARY:•St Patricks Day Parade
DESCRIPTION:Join the fun downtown for the Annual St Patrick’s Day Parade with lunch afterwards. Denver residents use your free membership or inquire to set one up through us using Mill Levy funding. Private pay $99. If the activity is full please join the waitlist so we know you are interested. \nRegister Online
URL:https://www.activityoptions.com/event/st-patricks-day-parade/
LOCATION:Downtown Denver\, Denver\, Colorado
ATTACH;FMTTYPE=image/png:https://www.activityoptions.com/wp-content/uploads/2026/01/StPatricks.png
ORGANIZER;CN="Activity Options LLC /Project World PBC":MAILTO:signup@activityoptions.com
GEO:39.7392358;-104.990251
END:VEVENT
BEGIN:VEVENT
DTSTART;TZID=UTC:20240310T120000
DTEND;TZID=UTC:20240310T170000
DTSTAMP:20260423T122840
CREATED:20240306T204512Z
LAST-MODIFIED:20240306T204637Z
UID:10000582-1710072000-1710090000@www.activityoptions.com
SUMMARY:•California Pizza Kitchen Cherry Creek
DESCRIPTION:Join us for lunch at the Cherry Creek California Pizza Kitchen and trail walk after! Free for Denver residents. Private pay $100. *New to Activity Options? Please join the wait list if the activity is full and we will do our best to make sure you can attend. \nRegister Online
URL:https://www.activityoptions.com/event/california-pizza-kitchen-cherry-creek/
LOCATION:Downtown Denver\, Denver\, Colorado
ATTACH;FMTTYPE=image/png:https://www.activityoptions.com/wp-content/uploads/2024/03/CherryCreekCPK.png
ORGANIZER;CN="Activity Options LLC /Project World PBC":MAILTO:signup@activityoptions.com
GEO:39.7392358;-104.990251
END:VEVENT
BEGIN:VEVENT
DTSTART;TZID=UTC:20221204T120000
DTEND;TZID=UTC:20221204T170000
DTSTAMP:20260423T122840
CREATED:20221116T100435Z
LAST-MODIFIED:20221116T100435Z
UID:10000409-1670155200-1670173200@www.activityoptions.com
SUMMARY:• Immersive Nutcracker
DESCRIPTION:Experience the magic of the Nutcracker – A Winter Miracle in a surround\, immersive theater. Includes dinner. Free for Denver residents. $129 for non residents. \nRegister Online
URL:https://www.activityoptions.com/event/immersive-nutcracker/
LOCATION:Downtown Denver\, Denver\, Colorado
ORGANIZER;CN="Activity Options LLC /Project World PBC":MAILTO:signup@activityoptions.com
GEO:39.7392358;-104.990251
END:VEVENT
BEGIN:VEVENT
DTSTART;TZID=UTC:20221001T170000
DTEND;TZID=UTC:20221001T210000
DTSTAMP:20260423T122840
CREATED:20220930T011351Z
LAST-MODIFIED:20220930T014023Z
UID:10000260-1664643600-1664658000@www.activityoptions.com
SUMMARY:• Monthly Dinner Group
DESCRIPTION:Dinner together with friends at a favorite restaurant. Restaurant downtown Denver. Free for Denver residents. $59 for non residents. Medicaid waiver restrictions may apply. \nRegister Online\n 
URL:https://www.activityoptions.com/event/monthly-dinner-group-5/
LOCATION:Downtown Denver\, Denver\, Colorado
ATTACH;FMTTYPE=image/png:https://www.activityoptions.com/wp-content/uploads/2022/03/Dinner-Group.png
ORGANIZER;CN="Activity Options LLC /Project World PBC":MAILTO:signup@activityoptions.com
GEO:39.7392358;-104.990251
END:VEVENT
BEGIN:VEVENT
DTSTART;TZID=UTC:20220624T163000
DTEND;TZID=UTC:20220624T220000
DTSTAMP:20260423T122840
CREATED:20220416T073158Z
LAST-MODIFIED:20220416T073158Z
UID:10000238-1656088200-1656108000@www.activityoptions.com
SUMMARY:• Monthly Dinner Group
DESCRIPTION:Dinner together with friends at a favorite restaurant in downtown Denver. Free for Denver residents. $49 for non residents. Medicaid waiver restrictions may apply. \nRegister Online
URL:https://www.activityoptions.com/event/monthly-dinner-group-3/
LOCATION:Downtown Denver\, Denver\, Colorado
ATTACH;FMTTYPE=image/png:https://www.activityoptions.com/wp-content/uploads/2022/03/Dinner-Group.png
ORGANIZER;CN="Activity Options LLC /Project World PBC":MAILTO:signup@activityoptions.com
GEO:39.7392358;-104.990251
END:VEVENT
BEGIN:VEVENT
DTSTART;TZID=UTC:20220304T160000
DTEND;TZID=UTC:20220304T210000
DTSTAMP:20260423T122840
CREATED:20220118T094409Z
LAST-MODIFIED:20220118T094409Z
UID:10000332-1646409600-1646427600@www.activityoptions.com
SUMMARY:• Night on the Town- Downtown
DESCRIPTION:Ride the light rail downtown and enjoy a meal with friends. Free for Denver residents. $59 for non residents\, Medicaid waiver restrictions may apply. \nRegister Online
URL:https://www.activityoptions.com/event/night-on-the-town-downtown/
LOCATION:Downtown Denver\, Denver\, Colorado
ATTACH;FMTTYPE=image/png:https://www.activityoptions.com/wp-content/uploads/2022/01/LightrailNightout.png
ORGANIZER;CN="Activity Options LLC /Project World PBC":MAILTO:signup@activityoptions.com
GEO:39.7392358;-104.990251
END:VEVENT
BEGIN:VEVENT
DTSTART;TZID=UTC:20211105T160000
DTEND;TZID=UTC:20211105T210000
DTSTAMP:20260423T122840
CREATED:20211015T000427Z
LAST-MODIFIED:20211015T000427Z
UID:10000306-1636128000-1636146000@www.activityoptions.com
SUMMARY:• Night on the Town!
DESCRIPTION:Journey on the light rail to the 16th Street Mall and feast at the Cheesecake Factory. Free for Denver residents. $79 for non residents. Medicaid waiver restrictions may apply. \nRegister Online
URL:https://www.activityoptions.com/event/night-on-the-town/
LOCATION:Downtown Denver\, Denver\, Colorado
ATTACH;FMTTYPE=image/png:https://www.activityoptions.com/wp-content/uploads/2021/03/DenverCheesecake.png
ORGANIZER;CN="Activity Options LLC /Project World PBC":MAILTO:signup@activityoptions.com
GEO:39.7392358;-104.990251
END:VEVENT
BEGIN:VEVENT
DTSTART;TZID=UTC:20210806T160000
DTEND;TZID=UTC:20210806T210000
DTSTAMP:20260423T122840
CREATED:20210616T041649Z
LAST-MODIFIED:20210616T041649Z
UID:10000278-1628265600-1628283600@www.activityoptions.com
SUMMARY:• Downtown Denver Night on the Town
DESCRIPTION:Ride the light rail downtown\, explore the mall and LODO and eat at the Cheesecake Factory. Free for Denver residents. $49 for non residents. Medicaid waiver restrictions may apply. \nRegister Online
URL:https://www.activityoptions.com/event/downtown-denver-night-on-the-town-2/
LOCATION:Downtown Denver\, Denver\, Colorado
ATTACH;FMTTYPE=image/png:https://www.activityoptions.com/wp-content/uploads/2021/03/DenverCheesecake.png
ORGANIZER;CN="Activity Options LLC /Project World PBC":MAILTO:signup@activityoptions.com
GEO:39.7392358;-104.990251
END:VEVENT
BEGIN:VEVENT
DTSTART;TZID=UTC:20210709T160000
DTEND;TZID=UTC:20210709T210000
DTSTAMP:20260423T122840
CREATED:20210615T060409Z
LAST-MODIFIED:20210615T060409Z
UID:10000264-1625846400-1625864400@www.activityoptions.com
SUMMARY:• Downtown Denver Night on the Town
DESCRIPTION:Ride the light rail downtown\, explore the mall and LODO and eat at the Cheesecake Factory. Free for Denver residents. $1 for non residents. Medicaid waiver restrictions may apply. \nRegister Online
URL:https://www.activityoptions.com/event/downtown-denver-night-on-the-town/
LOCATION:Downtown Denver\, Denver\, Colorado
ATTACH;FMTTYPE=image/png:https://www.activityoptions.com/wp-content/uploads/2021/03/DenverCheesecake.png
ORGANIZER;CN="Activity Options LLC /Project World PBC":MAILTO:signup@activityoptions.com
GEO:39.7392358;-104.990251
END:VEVENT
BEGIN:VEVENT
DTSTART;TZID=UTC:20210430T170000
DTEND;TZID=UTC:20210430T220000
DTSTAMP:20260423T122840
CREATED:20210329T061827Z
LAST-MODIFIED:20210329T061827Z
UID:10000233-1619802000-1619820000@www.activityoptions.com
SUMMARY:• Downtown Denver Night Out!
DESCRIPTION:Ride the light rail downtown\, explore the mall and LODO and eat at the Cheesecake Factory. Free for Denver residents. $1 for non residents. \nRegister Online\n 
URL:https://www.activityoptions.com/event/downtown-denver-night-out/
LOCATION:Downtown Denver\, Denver\, Colorado
ATTACH;FMTTYPE=image/png:https://www.activityoptions.com/wp-content/uploads/2021/03/DenverCheesecake.png
ORGANIZER;CN="Activity Options LLC /Project World PBC":MAILTO:signup@activityoptions.com
GEO:39.7392358;-104.990251
END:VEVENT
BEGIN:VEVENT
DTSTART;TZID=UTC:20201204T170000
DTEND;TZID=UTC:20201204T220000
DTSTAMP:20260423T122840
CREATED:20201109T074849Z
LAST-MODIFIED:20201109T074849Z
UID:10000206-1607101200-1607119200@www.activityoptions.com
SUMMARY:• Downtown Denver Christmas Adventure!
DESCRIPTION:Join the holiday fun in Downtown Denver. Ride in a horse drawn carriage to see the lights followed by dinner with friends at the Cheesecake Factory. Free for Denver residents. $179 for non residents. Medicaid waiver restrictions may apply. \nRegister Online
URL:https://www.activityoptions.com/event/downtown-denver-christmas-adventure/
LOCATION:Downtown Denver\, Denver\, Colorado
ATTACH;FMTTYPE=image/png:https://www.activityoptions.com/wp-content/uploads/2019/10/DowntownChristmasAdventure.png
ORGANIZER;CN="Activity Options LLC /Project World PBC":MAILTO:signup@activityoptions.com
GEO:39.7392358;-104.990251
END:VEVENT
BEGIN:VEVENT
DTSTART;TZID=UTC:20201106T170000
DTEND;TZID=UTC:20201106T220000
DTSTAMP:20260423T122840
CREATED:20200820T171218Z
LAST-MODIFIED:20201006T043930Z
UID:10000101-1604682000-1604700000@www.activityoptions.com
SUMMARY:• Downtown Denver Night Out
DESCRIPTION:Ride the light rail to Union Station and join the downtown night scene. Stroll the 16th Street Mall and eat at the Cheesecake Factory. Free for Denver residents. $39 for non residents. Medicaid waiver restrictions may apply. \nRegister Online
URL:https://www.activityoptions.com/event/%e2%80%a2-downtown-denver-night/2020-11-06/
LOCATION:Downtown Denver\, Denver\, Colorado
ATTACH;FMTTYPE=image/png:https://www.activityoptions.com/wp-content/uploads/2020/08/NightDowntown.png
ORGANIZER;CN="Activity Options LLC /Project World PBC":MAILTO:signup@activityoptions.com
GEO:39.7392358;-104.990251
END:VEVENT
BEGIN:VEVENT
DTSTART;TZID=UTC:20201002T170000
DTEND;TZID=UTC:20201002T220000
DTSTAMP:20260423T122840
CREATED:20200820T171218Z
LAST-MODIFIED:20201006T043930Z
UID:10000100-1601658000-1601676000@www.activityoptions.com
SUMMARY:• Downtown Denver Night Out
DESCRIPTION:Ride the light rail to Union Station and join the downtown night scene. Stroll the 16th Street Mall and eat at the Cheesecake Factory. Free for Denver residents. $39 for non residents. Medicaid waiver restrictions may apply. \nRegister Online
URL:https://www.activityoptions.com/event/%e2%80%a2-downtown-denver-night/2020-10-02/
LOCATION:Downtown Denver\, Denver\, Colorado
ATTACH;FMTTYPE=image/png:https://www.activityoptions.com/wp-content/uploads/2020/08/NightDowntown.png
ORGANIZER;CN="Activity Options LLC /Project World PBC":MAILTO:signup@activityoptions.com
GEO:39.7392358;-104.990251
END:VEVENT
BEGIN:VEVENT
DTSTART;TZID=UTC:20191213T170000
DTEND;TZID=UTC:20191213T220000
DTSTAMP:20260423T122840
CREATED:20191029T024812Z
LAST-MODIFIED:20191029T024812Z
UID:10000137-1576256400-1576274400@www.activityoptions.com
SUMMARY:• Downtown Denver Christmas Adventure
DESCRIPTION:Join the holiday fun in Downtown Denver. Ride in a horse drawn carriage to see the lights followed by dinner at the Cheese Cake Factory. Free for Denver residents. $179 for non residents. Medicaid waiver restrictions may apply. \nRegister Online.
URL:https://www.activityoptions.com/event/%e2%80%a2-downtown-denver-christmas-adventure/
LOCATION:Downtown Denver\, Denver\, Colorado
ATTACH;FMTTYPE=image/png:https://www.activityoptions.com/wp-content/uploads/2019/10/DowntownChristmasAdventure.png
ORGANIZER;CN="Activity Options LLC /Project World PBC":MAILTO:signup@activityoptions.com
GEO:39.7392358;-104.990251
END:VEVENT
END:VCALENDAR