BEGIN:VCALENDAR
VERSION:2.0
PRODID:-//Activity Options - ECPv6.15.20//NONSGML v1.0//EN
CALSCALE:GREGORIAN
METHOD:PUBLISH
X-WR-CALNAME:Activity Options
X-ORIGINAL-URL:https://www.activityoptions.com
X-WR-CALDESC:Events for Activity Options
REFRESH-INTERVAL;VALUE=DURATION:PT1H
X-Robots-Tag:noindex
X-PUBLISHED-TTL:PT1H
BEGIN:VTIMEZONE
TZID:UTC
BEGIN:STANDARD
TZOFFSETFROM:+0000
TZOFFSETTO:+0000
TZNAME:UTC
DTSTART:20190101T000000
END:STANDARD
END:VTIMEZONE
BEGIN:VEVENT
DTSTART;TZID=UTC:20200926T090000
DTEND;TZID=UTC:20200926T170000
DTSTAMP:20260423T202932
CREATED:20200807T061647Z
LAST-MODIFIED:20200830T033508Z
UID:10000197-1601110800-1601139600@www.activityoptions.com
SUMMARY:•  Lake Dillon & Vail Valley Autumn Leaves
DESCRIPTION:Join us for a drive up to Summit County to enjoy Lake Dillon via boat and/or shore. Drive through Vail Valley to view fall leaves. Picnic lunch. Free for Denver residents. $99 for non residents. Medicaid waiver restrictions may apply. \nRegister Online
URL:https://www.activityoptions.com/event/%e2%80%a2-summer-day-lake-dillon/
LOCATION:Dillon Marina\, 150 Marina Dr\, Dillon\, CO\, 80435\, United States
ATTACH;FMTTYPE=image/png:https://www.activityoptions.com/wp-content/uploads/2020/08/DillonLakeLeaves.png
ORGANIZER;CN="Activity Options LLC /Project World PBC":MAILTO:signup@activityoptions.com
GEO:39.6265996;-106.0420115
X-APPLE-STRUCTURED-LOCATION;VALUE=URI;X-ADDRESS=Dillon Marina 150 Marina Dr Dillon CO 80435 United States;X-APPLE-RADIUS=500;X-TITLE=150 Marina Dr:geo:-106.0420115,39.6265996
END:VEVENT
END:VCALENDAR