BEGIN:VCALENDAR
VERSION:2.0
PRODID:-//Activity Options - ECPv6.15.20//NONSGML v1.0//EN
CALSCALE:GREGORIAN
METHOD:PUBLISH
X-WR-CALNAME:Activity Options
X-ORIGINAL-URL:https://www.activityoptions.com
X-WR-CALDESC:Events for Activity Options
REFRESH-INTERVAL;VALUE=DURATION:PT1H
X-Robots-Tag:noindex
X-PUBLISHED-TTL:PT1H
BEGIN:VTIMEZONE
TZID:UTC
BEGIN:STANDARD
TZOFFSETFROM:+0000
TZOFFSETTO:+0000
TZNAME:UTC
DTSTART:20200101T000000
END:STANDARD
END:VTIMEZONE
BEGIN:VEVENT
DTSTART;TZID=UTC:20220704T170000
DTEND;TZID=UTC:20220704T230000
DTSTAMP:20260423T202517
CREATED:20220609T235721Z
LAST-MODIFIED:20220610T003627Z
UID:10000378-1656954000-1656975600@www.activityoptions.com
SUMMARY:• 4th of JULY!!! Colorado Rapids soccer game and Fireworks!
DESCRIPTION:Celebrate the 4th at the Colorado Rapids game followed by fireworks at Dick’s Sporting Goods Park. Free for Denver residents. $89 for non residents. Medicaid waiver restrictions may apply. \nRegister Online
URL:https://www.activityoptions.com/event/colorado-rapids-soccer-game-and-fireworks/
LOCATION:Dick’s Sporting Goods Park\, 6000 Victory Way\, Commerce City\, CO\, 80022
ATTACH;FMTTYPE=image/png:https://www.activityoptions.com/wp-content/uploads/2021/06/4th-July-2021.png
ORGANIZER;CN="Activity Options LLC /Project World PBC":MAILTO:signup@activityoptions.com
GEO:39.8056867;-104.8918117
X-APPLE-STRUCTURED-LOCATION;VALUE=URI;X-ADDRESS=Dick’s Sporting Goods Park 6000 Victory Way Commerce City CO 80022;X-APPLE-RADIUS=500;X-TITLE=6000 Victory Way:geo:-104.8918117,39.8056867
END:VEVENT
BEGIN:VEVENT
DTSTART;TZID=UTC:20210704T170000
DTEND;TZID=UTC:20210704T230000
DTSTAMP:20260423T202517
CREATED:20210615T053953Z
LAST-MODIFIED:20210615T053953Z
UID:10000251-1625418000-1625439600@www.activityoptions.com
SUMMARY:• 4th of July at Dick's Park with Fireworks
DESCRIPTION:Celebrate the 4th with the Colorado Rapids vs. the Seattle Sounders at Dick’s Sporting Good Park. After game fireworks extravaganza at the stadium. Free for Everyone to attend! \nRegister Online
URL:https://www.activityoptions.com/event/4th-of-july-at-dicks-park-with-fireworks/
LOCATION:Dick’s Sporting Goods Park\, 6000 Victory Way\, Commerce City\, CO\, 80022
ATTACH;FMTTYPE=image/png:https://www.activityoptions.com/wp-content/uploads/2021/06/4th-July-2021.png
ORGANIZER;CN="Activity Options LLC /Project World PBC":MAILTO:signup@activityoptions.com
GEO:39.8056867;-104.8918117
X-APPLE-STRUCTURED-LOCATION;VALUE=URI;X-ADDRESS=Dick’s Sporting Goods Park 6000 Victory Way Commerce City CO 80022;X-APPLE-RADIUS=500;X-TITLE=6000 Victory Way:geo:-104.8918117,39.8056867
END:VEVENT
END:VCALENDAR