BEGIN:VCALENDAR
VERSION:2.0
PRODID:-//Activity Options - ECPv6.15.20//NONSGML v1.0//EN
CALSCALE:GREGORIAN
METHOD:PUBLISH
X-WR-CALNAME:Activity Options
X-ORIGINAL-URL:https://www.activityoptions.com
X-WR-CALDESC:Events for Activity Options
REFRESH-INTERVAL;VALUE=DURATION:PT1H
X-Robots-Tag:noindex
X-PUBLISHED-TTL:PT1H
BEGIN:VTIMEZONE
TZID:UTC
BEGIN:STANDARD
TZOFFSETFROM:+0000
TZOFFSETTO:+0000
TZNAME:UTC
DTSTART:20240101T000000
END:STANDARD
END:VTIMEZONE
BEGIN:VEVENT
DTSTART;TZID=UTC:20251102T100000
DTEND;TZID=UTC:20251102T170000
DTSTAMP:20260423T135755
CREATED:20251015T014309Z
LAST-MODIFIED:20251015T014309Z
UID:10000781-1762077600-1762102800@www.activityoptions.com
SUMMARY:•Selfie Museum and 16th St Mall
DESCRIPTION:Train downtown and visit Selfie Museum. Lots of unique photo ops!! Lunch on Mall. Denver residents use your free IML membership or inquire to set one up. Private pay $99. If the activity is full please join the waitlist so we know you are interested. \nRegister Online
URL:https://www.activityoptions.com/event/selfie-museum-and-16th-st-mall/
LOCATION:Denver Selfie Museum\, 1531 Stout St Suite 102\, Denver\, CO\, 80202
ATTACH;FMTTYPE=image/png:https://www.activityoptions.com/wp-content/uploads/2025/10/Selfie-museum.png
ORGANIZER;CN="Activity Options LLC /Project World PBC":MAILTO:signup@activityoptions.com
END:VEVENT
END:VCALENDAR