BEGIN:VCALENDAR
VERSION:2.0
PRODID:-//Activity Options - ECPv6.15.20//NONSGML v1.0//EN
CALSCALE:GREGORIAN
METHOD:PUBLISH
X-WR-CALNAME:Activity Options
X-ORIGINAL-URL:https://www.activityoptions.com
X-WR-CALDESC:Events for Activity Options
REFRESH-INTERVAL;VALUE=DURATION:PT1H
X-Robots-Tag:noindex
X-PUBLISHED-TTL:PT1H
BEGIN:VTIMEZONE
TZID:UTC
BEGIN:STANDARD
TZOFFSETFROM:+0000
TZOFFSETTO:+0000
TZNAME:UTC
DTSTART:20180101T000000
END:STANDARD
END:VTIMEZONE
BEGIN:VEVENT
DTSTART;TZID=UTC:20260405T163000
DTEND;TZID=UTC:20260405T223000
DTSTAMP:20260423T141651
CREATED:20260316T143531Z
LAST-MODIFIED:20260316T143857Z
UID:10000836-1775406600-1775428200@www.activityoptions.com
SUMMARY:• Phantom of the Opera - DCPA
DESCRIPTION:Attend a live performance of this long running beloved musical\, Phantom of the Opera\, live at Buell Theater\, DCPA. Denver residents use your free membership or inquire to set one up through us using Mill Levy funding. Private pay $260. If the activity is full please join the waitlist so we know you are interested. \nRegister Online\n 
URL:https://www.activityoptions.com/event/phantom-of-the-opera-dcpa/
LOCATION:Denver Center for the Performing Arts\, 1101 13th St\, Denver\, CO\, 80204
ATTACH;FMTTYPE=image/png:https://www.activityoptions.com/wp-content/uploads/2026/03/phantom.png
GEO:39.7453475;-104.998331
X-APPLE-STRUCTURED-LOCATION;VALUE=URI;X-ADDRESS=Denver Center for the Performing Arts 1101 13th St Denver CO 80204;X-APPLE-RADIUS=500;X-TITLE=1101 13th St:geo:-104.998331,39.7453475
END:VEVENT
BEGIN:VEVENT
DTSTART;TZID=UTC:20241012T080000
DTEND;TZID=UTC:20241012T140000
DTSTAMP:20260423T141651
CREATED:20240923T043619Z
LAST-MODIFIED:20240923T053631Z
UID:10000650-1728720000-1728741600@www.activityoptions.com
SUMMARY:•Tour of the DCPA
DESCRIPTION:Behind the scenes tour of the Denver Center Theater Complex. Lunch downtown. Denver residents use your 2024 IML membership or inquire to set one up. Private pay $99. \nRegister Online
URL:https://www.activityoptions.com/event/tour-of-the-dcpa/
LOCATION:Denver Center for the Performing Arts\, 1101 13th St\, Denver\, CO\, 80204
ATTACH;FMTTYPE=image/png:https://www.activityoptions.com/wp-content/uploads/2024/09/TourDCPA.png
ORGANIZER;CN="Activity Options LLC /Project World PBC":MAILTO:signup@activityoptions.com
GEO:39.7453475;-104.998331
X-APPLE-STRUCTURED-LOCATION;VALUE=URI;X-ADDRESS=Denver Center for the Performing Arts 1101 13th St Denver CO 80204;X-APPLE-RADIUS=500;X-TITLE=1101 13th St:geo:-104.998331,39.7453475
END:VEVENT
BEGIN:VEVENT
DTSTART;TZID=UTC:20240413T110000
DTEND;TZID=UTC:20240413T170000
DTSTAMP:20260423T141651
CREATED:20240309T185413Z
LAST-MODIFIED:20240309T185413Z
UID:10000586-1713006000-1713027600@www.activityoptions.com
SUMMARY:MJ the Musical at DCPA
DESCRIPTION:He is one of the greatest entertainers of all time. Now\, Michael Jackson’s unique and unparalleled artistry comes to Denver as MJ\, the multi Tony Award®-winning new musical centered around the making of the 1992 Dangerous World Tour\, begins a tour of its own. Free for Denver residents. Private pay $200. *New to Activity Options? If the activity is full please jpoin the waitlist and we will doo our best to make sure you can attend. \nRegister Online
URL:https://www.activityoptions.com/event/mj-the-musical-at-dcpa/
LOCATION:Denver Center for the Performing Arts\, 1101 13th St\, Denver\, CO\, 80204
ATTACH;FMTTYPE=image/png:https://www.activityoptions.com/wp-content/uploads/2024/03/MJDCPA.png
ORGANIZER;CN="Activity Options LLC /Project World PBC":MAILTO:signup@activityoptions.com
GEO:39.7453475;-104.998331
X-APPLE-STRUCTURED-LOCATION;VALUE=URI;X-ADDRESS=Denver Center for the Performing Arts 1101 13th St Denver CO 80204;X-APPLE-RADIUS=500;X-TITLE=1101 13th St:geo:-104.998331,39.7453475
END:VEVENT
BEGIN:VEVENT
DTSTART;TZID=UTC:20240127T160000
DTEND;TZID=UTC:20240127T230000
DTSTAMP:20260423T141651
CREATED:20231228T072256Z
LAST-MODIFIED:20240111T052517Z
UID:10000557-1706371200-1706396400@www.activityoptions.com
SUMMARY:•Jesus Christ Super Star at DCPA
DESCRIPTION:Enjoy the classic rock hit live at Buell theater. Free for Denver residents. Private pay $250. *New to Activity Options? If the activity is full\, please join the wait list and we will do our best to make sure you can attend. \nRegister Online
URL:https://www.activityoptions.com/event/jesus-christ-super-star-at-dcpa/
LOCATION:Denver Center for the Performing Arts\, 1101 13th St\, Denver\, CO\, 80204
ATTACH;FMTTYPE=image/png:https://www.activityoptions.com/wp-content/uploads/2023/12/SuperstarDCPA.png
ORGANIZER;CN="Activity Options LLC /Project World PBC":MAILTO:signup@activityoptions.com
GEO:39.7453475;-104.998331
X-APPLE-STRUCTURED-LOCATION;VALUE=URI;X-ADDRESS=Denver Center for the Performing Arts 1101 13th St Denver CO 80204;X-APPLE-RADIUS=500;X-TITLE=1101 13th St:geo:-104.998331,39.7453475
END:VEVENT
BEGIN:VEVENT
DTSTART;TZID=UTC:20231118T170000
DTEND;TZID=UTC:20231118T230000
DTSTAMP:20260423T141651
CREATED:20230919T065933Z
LAST-MODIFIED:20230919T065933Z
UID:10000532-1700326800-1700348400@www.activityoptions.com
SUMMARY:• Hip Hop Nutcracker
DESCRIPTION:Explore this updated take on the Nutcracker at Buell Theater. Free for Denver residents and Colorado Respite. Private pay $99. \nRegister online
URL:https://www.activityoptions.com/event/hip-hop-nutcracker/
LOCATION:Denver Center for the Performing Arts\, 1101 13th St\, Denver\, CO\, 80204
ATTACH;FMTTYPE=image/png:https://www.activityoptions.com/wp-content/uploads/2023/09/HipHop-Nutcrtacker.png
ORGANIZER;CN="Activity Options LLC /Project World PBC":MAILTO:signup@activityoptions.com
GEO:39.7453475;-104.998331
X-APPLE-STRUCTURED-LOCATION;VALUE=URI;X-ADDRESS=Denver Center for the Performing Arts 1101 13th St Denver CO 80204;X-APPLE-RADIUS=500;X-TITLE=1101 13th St:geo:-104.998331,39.7453475
END:VEVENT
BEGIN:VEVENT
DTSTART;TZID=UTC:20221208T170000
DTEND;TZID=UTC:20221208T230000
DTSTAMP:20260423T141651
CREATED:20221116T101210Z
LAST-MODIFIED:20221116T101210Z
UID:10000271-1670518800-1670540400@www.activityoptions.com
SUMMARY:• K-Love Christmas Concert
DESCRIPTION:Thursday night concert at Buell featuring Matt Crowder\, Matt Maher and Jordan St. Cry. Free for Denver resodents. $129 for non residents. \nRegister Online
URL:https://www.activityoptions.com/event/k-love-christmas-concert/
LOCATION:Denver Center for the Performing Arts\, 1101 13th St\, Denver\, CO\, 80204
ORGANIZER;CN="Activity Options LLC /Project World PBC":MAILTO:signup@activityoptions.com
GEO:39.7453475;-104.998331
X-APPLE-STRUCTURED-LOCATION;VALUE=URI;X-ADDRESS=Denver Center for the Performing Arts 1101 13th St Denver CO 80204;X-APPLE-RADIUS=500;X-TITLE=1101 13th St:geo:-104.998331,39.7453475
END:VEVENT
BEGIN:VEVENT
DTSTART;TZID=UTC:20220528T170000
DTEND;TZID=UTC:20220528T220000
DTSTAMP:20260423T141651
CREATED:20220416T043446Z
LAST-MODIFIED:20220416T043446Z
UID:10000357-1653757200-1653775200@www.activityoptions.com
SUMMARY:• Cats! Live at Buell Theater
DESCRIPTION:See this classic favorite live at the Buell Theater. Includes dinner. Free for Denver residents. $129 for non residents. Medicaid waiver restrictions may apply. \nRegister Online
URL:https://www.activityoptions.com/event/cats-live-at-buell-theater/
LOCATION:Denver Center for the Performing Arts\, 1101 13th St\, Denver\, CO\, 80204
ORGANIZER;CN="Activity Options LLC /Project World PBC":MAILTO:signup@activityoptions.com
GEO:39.7453475;-104.998331
X-APPLE-STRUCTURED-LOCATION;VALUE=URI;X-ADDRESS=Denver Center for the Performing Arts 1101 13th St Denver CO 80204;X-APPLE-RADIUS=500;X-TITLE=1101 13th St:geo:-104.998331,39.7453475
END:VEVENT
BEGIN:VEVENT
DTSTART;TZID=UTC:20220205T170000
DTEND;TZID=UTC:20220205T220000
DTSTAMP:20260423T141651
CREATED:20220103T041025Z
LAST-MODIFIED:20220121T151343Z
UID:10000320-1644080400-1644098400@www.activityoptions.com
SUMMARY:• Riverdance 25th Anniversary
DESCRIPTION:This event has been postponed until 2023.
URL:https://www.activityoptions.com/event/riverdance-25th-anniversary/
LOCATION:Denver Center for the Performing Arts\, 1101 13th St\, Denver\, CO\, 80204
ORGANIZER;CN="Activity Options LLC /Project World PBC":MAILTO:signup@activityoptions.com
GEO:39.7453475;-104.998331
X-APPLE-STRUCTURED-LOCATION;VALUE=URI;X-ADDRESS=Denver Center for the Performing Arts 1101 13th St Denver CO 80204;X-APPLE-RADIUS=500;X-TITLE=1101 13th St:geo:-104.998331,39.7453475
END:VEVENT
BEGIN:VEVENT
DTSTART;TZID=UTC:20211218T163000
DTEND;TZID=UTC:20211218T223000
DTSTAMP:20260423T141651
CREATED:20211112T062609Z
LAST-MODIFIED:20211112T062609Z
UID:10000182-1639845000-1639866600@www.activityoptions.com
SUMMARY:• Lion King the Musical at Buell Theater
DESCRIPTION:See a live performance of this beloved Disney musical at Buell Theater.  Dinner before the show. Free for Denver residents. $179 for non residents. Medicaid waiver restrictions may apply. \nRegister Online\n 
URL:https://www.activityoptions.com/event/lion-king-the-musical-at-buell-theater/
LOCATION:Denver Center for the Performing Arts\, 1101 13th St\, Denver\, CO\, 80204
ORGANIZER;CN="Activity Options LLC /Project World PBC":MAILTO:signup@activityoptions.com
GEO:39.7453475;-104.998331
X-APPLE-STRUCTURED-LOCATION;VALUE=URI;X-ADDRESS=Denver Center for the Performing Arts 1101 13th St Denver CO 80204;X-APPLE-RADIUS=500;X-TITLE=1101 13th St:geo:-104.998331,39.7453475
END:VEVENT
BEGIN:VEVENT
DTSTART;TZID=UTC:20210731T150000
DTEND;TZID=UTC:20210731T210000
DTSTAMP:20260423T141651
CREATED:20210615T073751Z
LAST-MODIFIED:20210615T073751Z
UID:10000276-1627743600-1627765200@www.activityoptions.com
SUMMARY:• Van Gogh ALIVE - The Multimedia Experience
DESCRIPTION:See the most visited multi-sensory experience in the world at the Hangar at Stanley Market Place presented by the DCPA. Dinner afterwards. Free for Denver residents. $99 for non residents. Medicaid waiver restrictions may apply. \nRegister Online\n 
URL:https://www.activityoptions.com/event/van-gogh-alive-the-multimedia-experience/
LOCATION:Denver Center for the Performing Arts\, 1101 13th St\, Denver\, CO\, 80204
ATTACH;FMTTYPE=image/png:https://www.activityoptions.com/wp-content/uploads/2021/06/VanGoghAlive.png
ORGANIZER;CN="Activity Options LLC /Project World PBC":MAILTO:signup@activityoptions.com
GEO:39.7453475;-104.998331
X-APPLE-STRUCTURED-LOCATION;VALUE=URI;X-ADDRESS=Denver Center for the Performing Arts 1101 13th St Denver CO 80204;X-APPLE-RADIUS=500;X-TITLE=1101 13th St:geo:-104.998331,39.7453475
END:VEVENT
BEGIN:VEVENT
DTSTART;TZID=UTC:20200530T163000
DTEND;TZID=UTC:20200530T223000
DTSTAMP:20260423T141651
CREATED:20200129T002924Z
LAST-MODIFIED:20200129T002924Z
UID:10000174-1590856200-1590877800@www.activityoptions.com
SUMMARY:•Lion King the Musical at Buell Theater
DESCRIPTION:See a live performance of this beloved Disney musical at Buell Theater. Dinner before the show. Free for Denver residents. $179 for non residents\, Medicaid waiver restrictions may apply. Register online. \nRegister Online
URL:https://www.activityoptions.com/event/%e2%80%a2lion-king-musical-buell-theater/
LOCATION:Denver Center for the Performing Arts\, 1101 13th St\, Denver\, CO\, 80204
ORGANIZER;CN="Activity Options LLC /Project World PBC":MAILTO:signup@activityoptions.com
GEO:39.7453475;-104.998331
X-APPLE-STRUCTURED-LOCATION;VALUE=URI;X-ADDRESS=Denver Center for the Performing Arts 1101 13th St Denver CO 80204;X-APPLE-RADIUS=500;X-TITLE=1101 13th St:geo:-104.998331,39.7453475
END:VEVENT
BEGIN:VEVENT
DTSTART;TZID=UTC:20191124T120000
DTEND;TZID=UTC:20191124T170000
DTSTAMP:20260423T141651
CREATED:20190910T052414Z
LAST-MODIFIED:20190910T151103Z
UID:10000126-1574596800-1574614800@www.activityoptions.com
SUMMARY:• Hip Hop Nutcracker
DESCRIPTION:See the Nutcracker like you’ve never seen before! Enjoy a HipHop version of the Christmas classic at Buell Theater. Free to all!!! Free for Denver residents. $0 for non residents\, Medicaid waiver restrictions may apply. \nRegister Online.
URL:https://www.activityoptions.com/event/%e2%80%a2-hip-hop-nutcracker/
LOCATION:Denver Center for the Performing Arts\, 1101 13th St\, Denver\, CO\, 80204
ORGANIZER;CN="Activity Options LLC /Project World PBC":MAILTO:signup@activityoptions.com
GEO:39.7453475;-104.998331
X-APPLE-STRUCTURED-LOCATION;VALUE=URI;X-ADDRESS=Denver Center for the Performing Arts 1101 13th St Denver CO 80204;X-APPLE-RADIUS=500;X-TITLE=1101 13th St:geo:-104.998331,39.7453475
END:VEVENT
BEGIN:VEVENT
DTSTART;TZID=UTC:20190824T170000
DTEND;TZID=UTC:20190824T220000
DTSTAMP:20260423T141651
CREATED:20190624T054626Z
LAST-MODIFIED:20190624T054626Z
UID:10000102-1566666000-1566684000@www.activityoptions.com
SUMMARY:• Phamaly Theater Presents 'Chicago' at DCPA
DESCRIPTION:Attend the Phamaly Theater Company performance of Chicago at the Loft Studios at the DCPA. Phamaly is an all- disability theater group who had gained local and national prominence nance. Dinner included. Free for Denver residents. $129 for non residents\, Medicaid waiver restrictions may apply. \nRegister Online
URL:https://www.activityoptions.com/event/%e2%80%a2-phamaly-theater-presents-chicago-dcpa/
LOCATION:Denver Center for the Performing Arts\, 1101 13th St\, Denver\, CO\, 80204
ORGANIZER;CN="Activity Options LLC /Project World PBC":MAILTO:signup@activityoptions.com
GEO:39.7453475;-104.998331
X-APPLE-STRUCTURED-LOCATION;VALUE=URI;X-ADDRESS=Denver Center for the Performing Arts 1101 13th St Denver CO 80204;X-APPLE-RADIUS=500;X-TITLE=1101 13th St:geo:-104.998331,39.7453475
END:VEVENT
BEGIN:VEVENT
DTSTART;TZID=UTC:20190510T170000
DTEND;TZID=UTC:20190510T220000
DTSTAMP:20260423T141651
CREATED:20190127T213609Z
LAST-MODIFIED:20190301T055946Z
UID:10000002-1557507600-1557525600@www.activityoptions.com
SUMMARY:• Wicked at the Buell Theater
DESCRIPTION:From the first electrifying note to the final breathtaking moment\, Wicked\, the Broadway sensation— tells the untold true story of the Witches of Oz and transfixes audiences with its wildly inventive story. It will send your spirits soaring to heights you’ll never forget. Free for Denver residents. $149 for non residents\, Medicaid waivers may apply. \nRegister Online *Registration Opens March 15th*\n 
URL:https://www.activityoptions.com/event/wicked-buell-theater/
LOCATION:Denver Center for the Performing Arts\, 1101 13th St\, Denver\, CO\, 80204
ATTACH;FMTTYPE=image/jpeg:https://www.activityoptions.com/wp-content/uploads/2019/01/WickedatBuell.jpg
ORGANIZER;CN="Activity Options LLC /Project World PBC":MAILTO:signup@activityoptions.com
GEO:39.7453475;-104.998331
X-APPLE-STRUCTURED-LOCATION;VALUE=URI;X-ADDRESS=Denver Center for the Performing Arts 1101 13th St Denver CO 80204;X-APPLE-RADIUS=500;X-TITLE=1101 13th St:geo:-104.998331,39.7453475
END:VEVENT
BEGIN:VEVENT
DTSTART;TZID=UTC:20190427T170000
DTEND;TZID=UTC:20190427T230000
DTSTAMP:20260423T141651
CREATED:20190301T053852Z
LAST-MODIFIED:20190404T023158Z
UID:10000073-1556384400-1556406000@www.activityoptions.com
SUMMARY:• DCPA presents Andrew Lloyd Webber's CATS
DESCRIPTION:As of 4/4 we are accepting WAIT LIST REGISTRATION ONLY. Rediscover Cats including one of the most treasured songs in musical theater\, “Memory.” Featuring new sound design\, direction and choreography for a new generation — experience Cats for the first time as it begins a new life\, or let it thrill you all over again! Free for Denver residents. $149 for non residents\, Medicaid waiver restrictions may apply. \nRegister Online
URL:https://www.activityoptions.com/event/dcpa-presents-andrew-lloyd-webbers-cats/
LOCATION:Denver Center for the Performing Arts\, 1101 13th St\, Denver\, CO\, 80204
ORGANIZER;CN="Activity Options LLC /Project World PBC":MAILTO:signup@activityoptions.com
GEO:39.7453475;-104.998331
X-APPLE-STRUCTURED-LOCATION;VALUE=URI;X-ADDRESS=Denver Center for the Performing Arts 1101 13th St Denver CO 80204;X-APPLE-RADIUS=500;X-TITLE=1101 13th St:geo:-104.998331,39.7453475
END:VEVENT
END:VCALENDAR