BEGIN:VCALENDAR
VERSION:2.0
PRODID:-//Activity Options - ECPv6.15.20//NONSGML v1.0//EN
CALSCALE:GREGORIAN
METHOD:PUBLISH
X-ORIGINAL-URL:https://www.activityoptions.com
X-WR-CALDESC:Events for Activity Options
REFRESH-INTERVAL;VALUE=DURATION:PT1H
X-Robots-Tag:noindex
X-PUBLISHED-TTL:PT1H
BEGIN:VTIMEZONE
TZID:UTC
BEGIN:STANDARD
TZOFFSETFROM:+0000
TZOFFSETTO:+0000
TZNAME:UTC
DTSTART:20250101T000000
END:STANDARD
END:VTIMEZONE
BEGIN:VEVENT
DTSTART;TZID=UTC:20260503T110000
DTEND;TZID=UTC:20260503T180000
DTSTAMP:20260423T104736
CREATED:20260316T202625Z
LAST-MODIFIED:20260316T202625Z
UID:10000844-1777806000-1777831200@www.activityoptions.com
SUMMARY:• Rockies vs. Atlanta Braves
DESCRIPTION:Cheer the Rockies on to victory at Coors Field as they challenge the Atlanta Braves. Denver residents use your free membership or inquire to set one up through us using Mill Levy funding. Private pay $149. If the activity is full please join the waitlist so we know you are interested. \nRegister Online
URL:https://www.activityoptions.com/event/rockies-vs-atlanta-braves/
LOCATION:COORS FIELD\, 2001 Blake St\, Denver\, CO\, 80205
ATTACH;FMTTYPE=image/png:https://www.activityoptions.com/wp-content/uploads/2022/06/Rockies.png
ORGANIZER;CN="Activity Options LLC /Project World PBC":MAILTO:signup@activityoptions.com
GEO:39.7559779;-104.9933491
X-APPLE-STRUCTURED-LOCATION;VALUE=URI;X-ADDRESS=COORS FIELD 2001 Blake St Denver CO 80205;X-APPLE-RADIUS=500;X-TITLE=2001 Blake St:geo:-104.9933491,39.7559779
END:VEVENT
END:VCALENDAR