BEGIN:VCALENDAR
VERSION:2.0
PRODID:-//Activity Options - ECPv6.15.20//NONSGML v1.0//EN
CALSCALE:GREGORIAN
METHOD:PUBLISH
X-WR-CALNAME:Activity Options
X-ORIGINAL-URL:https://www.activityoptions.com
X-WR-CALDESC:Events for Activity Options
REFRESH-INTERVAL;VALUE=DURATION:PT1H
X-Robots-Tag:noindex
X-PUBLISHED-TTL:PT1H
BEGIN:VTIMEZONE
TZID:UTC
BEGIN:STANDARD
TZOFFSETFROM:+0000
TZOFFSETTO:+0000
TZNAME:UTC
DTSTART:20180101T000000
END:STANDARD
END:VTIMEZONE
BEGIN:VEVENT
DTSTART;TZID=UTC:20250803T110000
DTEND;TZID=UTC:20250803T180000
DTSTAMP:20260423T122533
CREATED:20250514T054343Z
LAST-MODIFIED:20250514T054343Z
UID:10000752-1754218800-1754244000@www.activityoptions.com
SUMMARY:•Rockies at Coors Field
DESCRIPTION:Rockies vs. Pittsburgh Pirates live at Coors Field. Denver residents use your free IML membership or inquire to set one up. Private pay $159. If the activity is full please join the waitlist so we know you are interested. \nRegister Online
URL:https://www.activityoptions.com/event/rockies-at-coors-field-3/
LOCATION:COORS FIELD\, 2001 Blake St\, Denver\, CO\, 80205
ATTACH;FMTTYPE=image/png:https://www.activityoptions.com/wp-content/uploads/2022/06/Rockies.png
ORGANIZER;CN="Activity Options LLC /Project World PBC":MAILTO:signup@activityoptions.com
GEO:39.7559779;-104.9933491
X-APPLE-STRUCTURED-LOCATION;VALUE=URI;X-ADDRESS=COORS FIELD 2001 Blake St Denver CO 80205;X-APPLE-RADIUS=500;X-TITLE=2001 Blake St:geo:-104.9933491,39.7559779
END:VEVENT
BEGIN:VEVENT
DTSTART;TZID=UTC:20250608T110000
DTEND;TZID=UTC:20250608T180000
DTSTAMP:20260423T122533
CREATED:20250514T033623Z
LAST-MODIFIED:20250514T033623Z
UID:10000734-1749380400-1749405600@www.activityoptions.com
SUMMARY:•Rockies at Coors Field
DESCRIPTION:Attend the live game of Rockies vs. NY Mets. Denver residents use your free membership. Private pay $129. If the activity is full please join the waitlist so we know that you are interested. \nRegister Online
URL:https://www.activityoptions.com/event/rockies-at-coors-field-2/
LOCATION:COORS FIELD\, 2001 Blake St\, Denver\, CO\, 80205
ATTACH;FMTTYPE=image/png:https://www.activityoptions.com/wp-content/uploads/2022/06/Rockies.png
ORGANIZER;CN="Activity Options LLC /Project World PBC":MAILTO:signup@activityoptions.com
GEO:39.7559779;-104.9933491
X-APPLE-STRUCTURED-LOCATION;VALUE=URI;X-ADDRESS=COORS FIELD 2001 Blake St Denver CO 80205;X-APPLE-RADIUS=500;X-TITLE=2001 Blake St:geo:-104.9933491,39.7559779
END:VEVENT
BEGIN:VEVENT
DTSTART;TZID=UTC:20240811T110000
DTEND;TZID=UTC:20240811T180000
DTSTAMP:20260423T122533
CREATED:20240619T055119Z
LAST-MODIFIED:20240619T055119Z
UID:10000628-1723374000-1723399200@www.activityoptions.com
SUMMARY:•Rockies Baseball at COORS Field
DESCRIPTION:Cheer on the Rockies at an afternoon game. Game time at 1:10! Free for Denver residents. Private pay $159. If the activity is full please join the waitlist so we know you are interested. \nRegister Online
URL:https://www.activityoptions.com/event/rockies-baseball-at-coors-field/
LOCATION:COORS FIELD\, 2001 Blake St\, Denver\, CO\, 80205
ATTACH;FMTTYPE=image/png:https://www.activityoptions.com/wp-content/uploads/2022/06/Rockies.png
ORGANIZER;CN="Activity Options LLC /Project World PBC":MAILTO:signup@activityoptions.com
GEO:39.7559779;-104.9933491
X-APPLE-STRUCTURED-LOCATION;VALUE=URI;X-ADDRESS=COORS FIELD 2001 Blake St Denver CO 80205;X-APPLE-RADIUS=500;X-TITLE=2001 Blake St:geo:-104.9933491,39.7559779
END:VEVENT
BEGIN:VEVENT
DTSTART;TZID=UTC:20240623T110000
DTEND;TZID=UTC:20240623T180000
DTSTAMP:20260423T122533
CREATED:20240518T171734Z
LAST-MODIFIED:20240518T171734Z
UID:10000611-1719140400-1719165600@www.activityoptions.com
SUMMARY:•Rockies Game at Coors Field
DESCRIPTION:Cheer on the Rockies as they face the Washington Nationals at Coors Field. Free for Denver residents. Private pay $159. If the activity is full please join the wait list so we know you are interested. \nRegister Online
URL:https://www.activityoptions.com/event/rockies-game-at-coors-field-2/
LOCATION:COORS FIELD\, 2001 Blake St\, Denver\, CO\, 80205
ATTACH;FMTTYPE=image/png:https://www.activityoptions.com/wp-content/uploads/2022/06/Rockies.png
ORGANIZER;CN="Activity Options LLC /Project World PBC":MAILTO:signup@activityoptions.com
GEO:39.7559779;-104.9933491
X-APPLE-STRUCTURED-LOCATION;VALUE=URI;X-ADDRESS=COORS FIELD 2001 Blake St Denver CO 80205;X-APPLE-RADIUS=500;X-TITLE=2001 Blake St:geo:-104.9933491,39.7559779
END:VEVENT
BEGIN:VEVENT
DTSTART;TZID=UTC:20230820T110000
DTEND;TZID=UTC:20230820T170000
DTSTAMP:20260423T122533
CREATED:20230720T073236Z
LAST-MODIFIED:20230803T015703Z
UID:10000502-1692529200-1692550800@www.activityoptions.com
SUMMARY:• Rockies Game
DESCRIPTION:Cheer on the Colorado Rockies as they play the Chicago White Sox! Free for Denver residents and Colorado Respite. Private pay $80. \nRegister Online
URL:https://www.activityoptions.com/event/rockies-game/
LOCATION:COORS FIELD\, 2001 Blake St\, Denver\, CO\, 80205
ATTACH;FMTTYPE=image/png:https://www.activityoptions.com/wp-content/uploads/2022/06/Rockies.png
ORGANIZER;CN="Activity Options LLC /Project World PBC":MAILTO:signup@activityoptions.com
GEO:39.7559779;-104.9933491
X-APPLE-STRUCTURED-LOCATION;VALUE=URI;X-ADDRESS=COORS FIELD 2001 Blake St Denver CO 80205;X-APPLE-RADIUS=500;X-TITLE=2001 Blake St:geo:-104.9933491,39.7559779
END:VEVENT
BEGIN:VEVENT
DTSTART;TZID=UTC:20230512T170000
DTEND;TZID=UTC:20230512T230000
DTSTAMP:20260423T122533
CREATED:20230324T053028Z
LAST-MODIFIED:20230324T053028Z
UID:10000467-1683910800-1683932400@www.activityoptions.com
SUMMARY:• Rockies vs. Kansas City
DESCRIPTION:Cheer on the Rockies at Coord Field. Includes a meal. Free for Denver residents and Colorado Respite. Private pay $99. \nRegister Online
URL:https://www.activityoptions.com/event/rockies-vs-kansas-city-2/
LOCATION:COORS FIELD\, 2001 Blake St\, Denver\, CO\, 80205
ATTACH;FMTTYPE=image/png:https://www.activityoptions.com/wp-content/uploads/2022/06/Rockies.png
ORGANIZER;CN="Activity Options LLC /Project World PBC":MAILTO:signup@activityoptions.com
GEO:39.7559779;-104.9933491
X-APPLE-STRUCTURED-LOCATION;VALUE=URI;X-ADDRESS=COORS FIELD 2001 Blake St Denver CO 80205;X-APPLE-RADIUS=500;X-TITLE=2001 Blake St:geo:-104.9933491,39.7559779
END:VEVENT
BEGIN:VEVENT
DTSTART;TZID=UTC:20220911T110000
DTEND;TZID=UTC:20220911T170000
DTSTAMP:20260423T122533
CREATED:20220813T152828Z
LAST-MODIFIED:20220813T152828Z
UID:10000254-1662894000-1662915600@www.activityoptions.com
SUMMARY:• Rockies Game at Coors Field
DESCRIPTION:Rockies vs the Diamondbacks. Includes lunch. Free for Denver residents. $159 for non residents. Medicaid waiver restrictions may apply.
URL:https://www.activityoptions.com/event/rockies-game-at-coors-field/
LOCATION:COORS FIELD\, 2001 Blake St\, Denver\, CO\, 80205
ATTACH;FMTTYPE=image/jpeg:https://www.activityoptions.com/wp-content/uploads/2018/03/Rockies-Diamondbacks-sq.jpg
ORGANIZER;CN="Activity Options LLC /Project World PBC":MAILTO:signup@activityoptions.com
GEO:39.7559779;-104.9933491
X-APPLE-STRUCTURED-LOCATION;VALUE=URI;X-ADDRESS=COORS FIELD 2001 Blake St Denver CO 80205;X-APPLE-RADIUS=500;X-TITLE=2001 Blake St:geo:-104.9933491,39.7559779
END:VEVENT
BEGIN:VEVENT
DTSTART;TZID=UTC:20220716T110000
DTEND;TZID=UTC:20220716T180000
DTSTAMP:20260423T122533
CREATED:20220607T153925Z
LAST-MODIFIED:20220715T213901Z
UID:10000371-1657969200-1657994400@www.activityoptions.com
SUMMARY:• Rockies at Coors Field
DESCRIPTION:See the Rockies play the Pittsburg Pirates at Coors Field. Free for Denver residents. $99 for non residents\, contact us for private pay discounts if needed. Medicaid waiver restrictions may apply. \nRegister Online
URL:https://www.activityoptions.com/event/rockies-at-coors-field/
LOCATION:COORS FIELD\, 2001 Blake St\, Denver\, CO\, 80205
ATTACH;FMTTYPE=image/png:https://www.activityoptions.com/wp-content/uploads/2022/06/Rockies.png
ORGANIZER;CN="Activity Options LLC /Project World PBC":MAILTO:signup@activityoptions.com
GEO:39.7559779;-104.9933491
X-APPLE-STRUCTURED-LOCATION;VALUE=URI;X-ADDRESS=COORS FIELD 2001 Blake St Denver CO 80205;X-APPLE-RADIUS=500;X-TITLE=2001 Blake St:geo:-104.9933491,39.7559779
END:VEVENT
BEGIN:VEVENT
DTSTART;TZID=UTC:20220515T110000
DTEND;TZID=UTC:20220515T180000
DTSTAMP:20260423T122533
CREATED:20220416T054637Z
LAST-MODIFIED:20220416T054637Z
UID:10000360-1652612400-1652637600@www.activityoptions.com
SUMMARY:• Rockies vs. Kansas City
DESCRIPTION:Cheer on the Rockies at Coors Field. Includes a meal. Free for Denver residents. $99 for non residents. Medicaid waiver restrictions may apply. \nRegister Online
URL:https://www.activityoptions.com/event/rockies-vs-kansas-city/
LOCATION:COORS FIELD\, 2001 Blake St\, Denver\, CO\, 80205
ATTACH;FMTTYPE=image/png:https://www.activityoptions.com/wp-content/uploads/2022/04/Rockies-Royals.png
ORGANIZER;CN="Activity Options LLC /Project World PBC":MAILTO:signup@activityoptions.com
GEO:39.7559779;-104.9933491
X-APPLE-STRUCTURED-LOCATION;VALUE=URI;X-ADDRESS=COORS FIELD 2001 Blake St Denver CO 80205;X-APPLE-RADIUS=500;X-TITLE=2001 Blake St:geo:-104.9933491,39.7559779
END:VEVENT
BEGIN:VEVENT
DTSTART;TZID=UTC:20190809T170000
DTEND;TZID=UTC:20190809T230000
DTSTAMP:20260423T122533
CREATED:20190404T051528Z
LAST-MODIFIED:20190404T051528Z
UID:10000089-1565370000-1565391600@www.activityoptions.com
SUMMARY:• Zac Brown Band Live at Coors Field
DESCRIPTION:The Zac Brown Band plans to drop an album in 2019. As part of the rollout\, the country act will embark on a North American tour and stop in Denver this summer. Free for Denver residents. $149 for non residents. Medicaid waiver restrictions may apply. \nRegister Online
URL:https://www.activityoptions.com/event/%e2%80%a2-zac-brown-band-live-coors-field/
LOCATION:COORS FIELD\, 2001 Blake St\, Denver\, CO\, 80205
ATTACH;FMTTYPE=image/jpeg:https://www.activityoptions.com/wp-content/uploads/2019/04/ZacBrownCoorsField.jpg
ORGANIZER;CN="Activity Options LLC /Project World PBC":MAILTO:signup@activityoptions.com
GEO:39.7559779;-104.9933491
X-APPLE-STRUCTURED-LOCATION;VALUE=URI;X-ADDRESS=COORS FIELD 2001 Blake St Denver CO 80205;X-APPLE-RADIUS=500;X-TITLE=2001 Blake St:geo:-104.9933491,39.7559779
END:VEVENT
END:VCALENDAR