BEGIN:VCALENDAR
VERSION:2.0
PRODID:-//Activity Options - ECPv6.15.20//NONSGML v1.0//EN
CALSCALE:GREGORIAN
METHOD:PUBLISH
X-WR-CALNAME:Activity Options
X-ORIGINAL-URL:https://www.activityoptions.com
X-WR-CALDESC:Events for Activity Options
REFRESH-INTERVAL;VALUE=DURATION:PT1H
X-Robots-Tag:noindex
X-PUBLISHED-TTL:PT1H
BEGIN:VTIMEZONE
TZID:UTC
BEGIN:STANDARD
TZOFFSETFROM:+0000
TZOFFSETTO:+0000
TZNAME:UTC
DTSTART:20180101T000000
END:STANDARD
END:VTIMEZONE
BEGIN:VEVENT
DTSTART;TZID=UTC:20251005T110000
DTEND;TZID=UTC:20251005T170000
DTSTAMP:20260423T135510
CREATED:20250821T044130Z
LAST-MODIFIED:20250821T044130Z
UID:10000772-1759662000-1759683600@www.activityoptions.com
SUMMARY:•Fall Leaf Hike
DESCRIPTION:Enjoy the fall leaves up close and personal on this last hike of the season. Denver residents use your free IML membership or inquire to set one up. Private pay $35. If the activity is full please join the waitlist so we know you are interested. \nRegister Online
URL:https://www.activityoptions.com/event/fall-leaf-hike-2/
LOCATION:Colorado
ATTACH;FMTTYPE=image/png:https://www.activityoptions.com/wp-content/uploads/2024/09/FallHike.png
ORGANIZER;CN="Activity Options LLC /Project World PBC":MAILTO:signup@activityoptions.com
END:VEVENT
BEGIN:VEVENT
DTSTART;TZID=UTC:20230809T070000
DTEND;TZID=UTC:20230812T190000
DTSTAMP:20260423T135510
CREATED:20230131T002550Z
LAST-MODIFIED:20230803T023158Z
UID:10000446-1691564400-1691866800@www.activityoptions.com
SUMMARY:TRAVEL•Annual Camping Trip
DESCRIPTION:Get ready for tent and sleeping bags at 11 Mile Canyon\, spillway Campground. We bring the equipment; you bring the energy. Explore the area including Lake George\, the Wolf Sanctuary and Florissant. Free for Denver residents and Colorado Respite. Private pay cost $1\,000 \nRegister Online
URL:https://www.activityoptions.com/event/travelannual-camping-trip/
LOCATION:Colorado
ATTACH;FMTTYPE=image/png:https://www.activityoptions.com/wp-content/uploads/2023/01/AnnualCamping.png
ORGANIZER;CN="Activity Options LLC /Project World PBC":MAILTO:signup@activityoptions.com
END:VEVENT
BEGIN:VEVENT
DTSTART;TZID=UTC:20230715T070000
DTEND;TZID=UTC:20230719T190000
DTSTAMP:20260423T135510
CREATED:20230131T001543Z
LAST-MODIFIED:20230605T211853Z
UID:10000445-1689404400-1689793200@www.activityoptions.com
SUMMARY:•TRAVEL Colorado Road Trip
DESCRIPTION:Road trip to So. Colorado. Day 1\, Great Sand Dunes\, and Hooper Pool with a stay at the only Drive in Movie Motel in the country. Day 2\, Wolf Creek Pass and stay in Pagosa Springs with a dunk in the mineral baths. Day 3\, Durango with a trip on the Iron Horse Train to Silverton and then on to Crested butte. Day 4\, home via cottonwood Pass. Travel in 12 passenger van. Wheelchair possible with ability to self-transfer. Free for Denver residents and Colorado Respite. Private pay cost $1200 \nRegister Online
URL:https://www.activityoptions.com/event/travelcolorado-road-trip/
LOCATION:Colorado
ATTACH;FMTTYPE=image/png:https://www.activityoptions.com/wp-content/uploads/2021/06/Roadtrip.png
ORGANIZER;CN="Activity Options LLC /Project World PBC":MAILTO:signup@activityoptions.com
END:VEVENT
BEGIN:VEVENT
DTSTART;TZID=UTC:20190817T080000
DTEND;TZID=UTC:20190820T200000
DTSTAMP:20260423T135510
CREATED:20190128T013957Z
LAST-MODIFIED:20190709T190502Z
UID:10000064-1566028800-1566331200@www.activityoptions.com
SUMMARY:• Aspen/Snowmass Roadtrip - Music Festival
DESCRIPTION:See the sights around Snowmass\, Aspen\, Independence Pass and Glenwood. Horse back riding\, gondola ride\, shopping\, hot springs\, Maroon Bells. Attend a couple of the Aspen Music Festival concerts or theater. Free for Denver residents. $999 for non residents\, Medicaid waiver restrictions may apply. \nRegister Online
URL:https://www.activityoptions.com/event/vail-steamboat-snowmass-road-trip/
LOCATION:Colorado
ATTACH;FMTTYPE=image/jpeg:https://www.activityoptions.com/wp-content/uploads/2019/01/Aspen-Snowmass-Road-trip.jpg
ORGANIZER;CN="Activity Options LLC /Project World PBC":MAILTO:signup@activityoptions.com
END:VEVENT
BEGIN:VEVENT
DTSTART;TZID=UTC:20190712T080000
DTEND;TZID=UTC:20190716T200000
DTSTAMP:20260423T135510
CREATED:20190128T005453Z
LAST-MODIFIED:20190605T063424Z
UID:10000038-1562918400-1563307200@www.activityoptions.com
SUMMARY:• Southern Colorado Road Trip - Sand Dunes\, Hot Springs\, Train and Dude Ranch
DESCRIPTION:Take a road trip to southern Colorado featuring stops throughout.  Day 1 we stop at the Great Sand Dunes and Hooper Pool with a stay at the only Drive in Movie Motel in the country. Day 2\, we continue over Wolf Creek Pass and stay in Pagosa Springs with a dunk in the mineral baths.  Day 3\, we are on to Durango with a trip on the Iron Horse Train to Silverton and then on to a dude ranch in Almont\, CO where we’ll spend 2 nights.  Day 4 we’ll be enjoying all Harmel Ranch has to offer including fishing\, horseback riding\, hiking\, relaxing by the river or even sleeping!  Spa and pool available. Day 5\, back to Denver over Cottonwood Pass.  Travel in 12 passenger van.  Wheelchair possible with ability to self transfer. Free for Denver residents. $1\,399 for non residents. Medicaid waiver restrictions may apply. \nRegister Online\n 
URL:https://www.activityoptions.com/event/southern-colorado-road-trip/
LOCATION:Colorado
ATTACH;FMTTYPE=image/jpeg:https://www.activityoptions.com/wp-content/uploads/2019/01/SouthernColorado-RoadTrip.jpg
ORGANIZER;CN="Activity Options LLC /Project World PBC":MAILTO:signup@activityoptions.com
END:VEVENT
END:VCALENDAR