BEGIN:VCALENDAR
VERSION:2.0
PRODID:-//Activity Options - ECPv6.15.20//NONSGML v1.0//EN
CALSCALE:GREGORIAN
METHOD:PUBLISH
X-ORIGINAL-URL:https://www.activityoptions.com
X-WR-CALDESC:Events for Activity Options
REFRESH-INTERVAL;VALUE=DURATION:PT1H
X-Robots-Tag:noindex
X-PUBLISHED-TTL:PT1H
BEGIN:VTIMEZONE
TZID:UTC
BEGIN:STANDARD
TZOFFSETFROM:+0000
TZOFFSETTO:+0000
TZNAME:UTC
DTSTART:20190101T000000
END:STANDARD
END:VTIMEZONE
BEGIN:VEVENT
DTSTART;TZID=UTC:20250504T080000
DTEND;TZID=UTC:20250504T180000
DTSTAMP:20260423T152828
CREATED:20250221T091653Z
LAST-MODIFIED:20250221T091653Z
UID:10000722-1746345600-1746381600@www.activityoptions.com
SUMMARY:•Colorado Wolf and Wildlife Center
DESCRIPTION:Visit the wolf sanctuary near Divide Colorado. Learn about rescue\, feeding and care. Meal in Colorado Springs. Denver residents use your free IML membership or inquire to set one up. Private pay $160. If the activity is full please join the wait list so we know you are interested. \nRegister Online
URL:https://www.activityoptions.com/event/colorado-wolf-and-wildlife-center-2/
LOCATION:Colorado Wolf and Wildlife Center\, 4729 Twin Rocks Rd\, Divide\, Colorado\, 80814
ATTACH;FMTTYPE=image/png:https://www.activityoptions.com/wp-content/uploads/2020/01/WolfCenter.png
ORGANIZER;CN="Activity Options LLC /Project World PBC":MAILTO:signup@activityoptions.com
END:VEVENT
BEGIN:VEVENT
DTSTART;TZID=UTC:20230723T090000
DTEND;TZID=UTC:20230723T170000
DTSTAMP:20260423T152828
CREATED:20230605T204558Z
LAST-MODIFIED:20230605T204558Z
UID:10000493-1690102800-1690131600@www.activityoptions.com
SUMMARY:•Colorado Wolf and Wildlife Center
DESCRIPTION:Visit the wolf sanctuary near Divide Colorado. Learn about rescue\, feeding and care. Meal in Colorado Springs. Free for Denver residents and Colorado Respite. Private Pay $79. \nRegister Online
URL:https://www.activityoptions.com/event/colorado-wolf-and-wildlife-center/
LOCATION:Colorado Wolf and Wildlife Center\, 4729 Twin Rocks Rd\, Divide\, Colorado\, 80814
ATTACH;FMTTYPE=image/png:https://www.activityoptions.com/wp-content/uploads/2020/01/WolfCenter.png
ORGANIZER;CN="Activity Options LLC /Project World PBC":MAILTO:signup@activityoptions.com
END:VEVENT
BEGIN:VEVENT
DTSTART;TZID=UTC:20220403T080000
DTEND;TZID=UTC:20220403T180000
DTSTAMP:20260423T152828
CREATED:20220309T055153Z
LAST-MODIFIED:20220309T055153Z
UID:10000209-1648972800-1649008800@www.activityoptions.com
SUMMARY:• Wolf and Wildlife Center in Divide CO
DESCRIPTION:Day trip to Divide Colorado to visit the Colorado Wolf and Wildlife Center. Learn about several species of wolves and preservation efforts. Enjoy a howl with them at the end! Free for Denver residents. $79 for non residents. Medicaid waiver restrictions may apply. \nRegister Online
URL:https://www.activityoptions.com/event/wolf-and-wildlife-center-in-divide-co/
LOCATION:Colorado Wolf and Wildlife Center\, 4729 Twin Rocks Rd\, Divide\, Colorado\, 80814
ATTACH;FMTTYPE=image/png:https://www.activityoptions.com/wp-content/uploads/2020/01/WolfCenter.png
ORGANIZER;CN="Activity Options LLC /Project World PBC":MAILTO:signup@activityoptions.com
END:VEVENT
BEGIN:VEVENT
DTSTART;TZID=UTC:20200426T090000
DTEND;TZID=UTC:20200426T170000
DTSTAMP:20260423T152828
CREATED:20200128T231541Z
LAST-MODIFIED:20200807T062655Z
UID:10000172-1587891600-1587920400@www.activityoptions.com
SUMMARY:• Day Trip to Colorado Wolf and Wildlife Center
DESCRIPTION:Learn about the Colorado Wolf and Wildlife Center in Divide CO and the 18 amazing resident wolfs. Take an educational tour and discover ways you can support wolfs and other endangered animals. Practice your howling at the end of the tour! Free for Denver residents. $99 for non residents. Medicaid waiver restrictions may apply. \nRegister Online
URL:https://www.activityoptions.com/event/%e2%80%a2day-trip-colorado-wolf-wildlife-center/2020-04-26/
LOCATION:Colorado Wolf and Wildlife Center\, 4729 Twin Rocks Rd\, Divide\, Colorado\, 80814
ATTACH;FMTTYPE=image/png:https://www.activityoptions.com/wp-content/uploads/2020/01/WolfCenter.png
ORGANIZER;CN="Activity Options LLC /Project World PBC":MAILTO:signup@activityoptions.com
END:VEVENT
END:VCALENDAR