BEGIN:VCALENDAR
VERSION:2.0
PRODID:-//Activity Options - ECPv6.15.20//NONSGML v1.0//EN
CALSCALE:GREGORIAN
METHOD:PUBLISH
X-WR-CALNAME:Activity Options
X-ORIGINAL-URL:https://www.activityoptions.com
X-WR-CALDESC:Events for Activity Options
REFRESH-INTERVAL;VALUE=DURATION:PT1H
X-Robots-Tag:noindex
X-PUBLISHED-TTL:PT1H
BEGIN:VTIMEZONE
TZID:UTC
BEGIN:STANDARD
TZOFFSETFROM:+0000
TZOFFSETTO:+0000
TZNAME:UTC
DTSTART:20190101T000000
END:STANDARD
END:VTIMEZONE
BEGIN:VEVENT
DTSTART;TZID=UTC:20200329T110000
DTEND;TZID=UTC:20200329T160000
DTSTAMP:20260423T202445
CREATED:20200128T223117Z
LAST-MODIFIED:20200128T223117Z
UID:10000170-1585479600-1585497600@www.activityoptions.com
SUMMARY:•Butterfly Pavilion and Spaghetti Factory Lunch
DESCRIPTION:Enjoy lunch at the Spaghetti Factory and then enjoy the sights at the Butterfly Pavilion in Westminster. Free for Denver residents $79 for non residents\, Medicaid waiver restrictions may apply. Register online. \nRegister Online
URL:https://www.activityoptions.com/event/%e2%80%a2butterfly-pavilion-spaghetti-factory-lunch/
LOCATION:Butterfly Pavillion\, 6252 W. 104th Avenue\, Westminster\, Colorado\, 80020
ATTACH;FMTTYPE=image/png:https://www.activityoptions.com/wp-content/uploads/2020/01/ButterflyPavillion.png
ORGANIZER;CN="Activity Options LLC /Project World PBC":MAILTO:signup@activityoptions.com
END:VEVENT
END:VCALENDAR