BEGIN:VCALENDAR
VERSION:2.0
PRODID:-//Activity Options - ECPv6.15.20//NONSGML v1.0//EN
CALSCALE:GREGORIAN
METHOD:PUBLISH
X-WR-CALNAME:Activity Options
X-ORIGINAL-URL:https://www.activityoptions.com
X-WR-CALDESC:Events for Activity Options
REFRESH-INTERVAL;VALUE=DURATION:PT1H
X-Robots-Tag:noindex
X-PUBLISHED-TTL:PT1H
BEGIN:VTIMEZONE
TZID:UTC
BEGIN:STANDARD
TZOFFSETFROM:+0000
TZOFFSETTO:+0000
TZNAME:UTC
DTSTART:20250101T000000
END:STANDARD
END:VTIMEZONE
BEGIN:VEVENT
DTSTART;TZID=UTC:20260515T160000
DTEND;TZID=UTC:20260515T220000
DTSTAMP:20260423T073010
CREATED:20260316T210607Z
LAST-MODIFIED:20260316T220614Z
UID:10000847-1778860800-1778882400@www.activityoptions.com
SUMMARY:•Buck All Star Dance
DESCRIPTION:Dinner and dance at the All Star dance at Buck Recreation Center in Littleton with like minded friends. Denver residents use your free membership or inquire to set one up through us using Mill Levy funding. Private pay $59. If the activity is full please join the waitlist so we know you are interested. \nRegister Online
URL:https://www.activityoptions.com/event/buck-all-star-dance-2/
LOCATION:Buck Recreation Center\, 2004 W Powers Ave\, Littleton\, CO\, 80120
ATTACH;FMTTYPE=image/png:https://www.activityoptions.com/wp-content/uploads/2026/01/DanceParty.png
ORGANIZER;CN="Activity Options LLC /Project World PBC":MAILTO:signup@activityoptions.com
END:VEVENT
END:VCALENDAR