BEGIN:VCALENDAR
VERSION:2.0
PRODID:-//Activity Options - ECPv6.15.20//NONSGML v1.0//EN
CALSCALE:GREGORIAN
METHOD:PUBLISH
X-WR-CALNAME:Activity Options
X-ORIGINAL-URL:https://www.activityoptions.com
X-WR-CALDESC:Events for Activity Options
REFRESH-INTERVAL;VALUE=DURATION:PT1H
X-Robots-Tag:noindex
X-PUBLISHED-TTL:PT1H
BEGIN:VTIMEZONE
TZID:UTC
BEGIN:STANDARD
TZOFFSETFROM:+0000
TZOFFSETTO:+0000
TZNAME:UTC
DTSTART:20200101T000000
END:STANDARD
END:VTIMEZONE
BEGIN:VEVENT
DTSTART;TZID=UTC:20210918T080000
DTEND;TZID=UTC:20210918T170000
DTSTAMP:20260423T201648
CREATED:20210829T084226Z
LAST-MODIFIED:20210829T084226Z
UID:10000164-1631952000-1631984400@www.activityoptions.com
SUMMARY:• ATV Breckenridge
DESCRIPTION:Enjoy the fall colors close up on ATV’s touring through the Breckenridge forest. Full day activity with meals included. Free for Denver residents. $250 for non residents. Medicaid waiver restrictions may apply. \nRegister Online\n 
URL:https://www.activityoptions.com/event/atv-breckenridge/
LOCATION:Breckenridge\, Colorado
ATTACH;FMTTYPE=image/png:https://www.activityoptions.com/wp-content/uploads/2021/08/ATV-Breckenridge.png
ORGANIZER;CN="Activity Options LLC /Project World PBC":MAILTO:signup@activityoptions.com
END:VEVENT
END:VCALENDAR