BEGIN:VCALENDAR
VERSION:2.0
PRODID:-//Activity Options - ECPv6.15.20//NONSGML v1.0//EN
CALSCALE:GREGORIAN
METHOD:PUBLISH
X-WR-CALNAME:Activity Options
X-ORIGINAL-URL:https://www.activityoptions.com
X-WR-CALDESC:Events for Activity Options
REFRESH-INTERVAL;VALUE=DURATION:PT1H
X-Robots-Tag:noindex
X-PUBLISHED-TTL:PT1H
BEGIN:VTIMEZONE
TZID:UTC
BEGIN:STANDARD
TZOFFSETFROM:+0000
TZOFFSETTO:+0000
TZNAME:UTC
DTSTART:20200101T000000
END:STANDARD
END:VTIMEZONE
BEGIN:VEVENT
DTSTART;TZID=UTC:20230203T173000
DTEND;TZID=UTC:20230203T193000
DTSTAMP:20260423T174153
CREATED:20230122T183338Z
LAST-MODIFIED:20230122T183338Z
UID:10000425-1675445400-1675452600@www.activityoptions.com
SUMMARY:•Bowling and Buffet
DESCRIPTION:We’re going back to Bolero for bowling and dinner. Enjoy food\, fun and friends! Free for Denver residents and Respite. Private pay cost $99 \nRegister Online\n 
URL:https://www.activityoptions.com/event/bowling-and-buffet/
LOCATION:Bowlero Cherry Creek
ATTACH;FMTTYPE=image/png:https://www.activityoptions.com/wp-content/uploads/2021/06/BowleroCherryCreek.png
ORGANIZER;CN="Activity Options LLC /Project World PBC":MAILTO:signup@activityoptions.com
END:VEVENT
BEGIN:VEVENT
DTSTART;TZID=UTC:20220401T163000
DTEND;TZID=UTC:20220401T203000
DTSTAMP:20260423T174153
CREATED:20220309T045355Z
LAST-MODIFIED:20220309T045355Z
UID:10000207-1648830600-1648845000@www.activityoptions.com
SUMMARY:• Bowling and Dinner
DESCRIPTION:Bowling at Cherry Creek Bolero with buffet dinner bar. Free for Denver residents. $25 for non residents. Medicaid waiver restrictions may apply. \nRegister Online
URL:https://www.activityoptions.com/event/bowling-and-dinner-5/
LOCATION:Bowlero Cherry Creek
ATTACH;FMTTYPE=image/png:https://www.activityoptions.com/wp-content/uploads/2021/06/BowleroCherryCreek.png
ORGANIZER;CN="Activity Options LLC /Project World PBC":MAILTO:signup@activityoptions.com
END:VEVENT
BEGIN:VEVENT
DTSTART;TZID=UTC:20220225T160000
DTEND;TZID=UTC:20220225T200000
DTSTAMP:20260423T174153
CREATED:20220103T061934Z
LAST-MODIFIED:20220124T073118Z
UID:10000327-1645804800-1645819200@www.activityoptions.com
SUMMARY:• Bowling & Dinner
DESCRIPTION:Bowling at Cherry Creek Bolero with buffet dinner bar. Free for Denver residents. $49 for non residents\, medicaid waiver restrictions may apply. \nRegister Online
URL:https://www.activityoptions.com/event/bowling-dinner-2/
LOCATION:Bowlero Cherry Creek
ATTACH;FMTTYPE=image/png:https://www.activityoptions.com/wp-content/uploads/2021/06/BowleroCherryCreek.png
ORGANIZER;CN="Activity Options LLC /Project World PBC":MAILTO:signup@activityoptions.com
END:VEVENT
BEGIN:VEVENT
DTSTART;TZID=UTC:20220128T160000
DTEND;TZID=UTC:20220128T200000
DTSTAMP:20260423T174153
CREATED:20220103T010325Z
LAST-MODIFIED:20220103T010325Z
UID:10000318-1643385600-1643400000@www.activityoptions.com
SUMMARY:• Bowling & Dinner
DESCRIPTION:Bowling at Cherry Creek Bolero with buffet dinner bar. Free for Denver residents. $49 for non residents\, medicaid waiver restrictions may apply. \nRegister Online
URL:https://www.activityoptions.com/event/bowling-dinner/
LOCATION:Bowlero Cherry Creek
ATTACH;FMTTYPE=image/png:https://www.activityoptions.com/wp-content/uploads/2021/06/BowleroCherryCreek.png
ORGANIZER;CN="Activity Options LLC /Project World PBC":MAILTO:signup@activityoptions.com
END:VEVENT
BEGIN:VEVENT
DTSTART;TZID=UTC:20211126T160000
DTEND;TZID=UTC:20211126T200000
DTSTAMP:20260423T174153
CREATED:20211015T011306Z
LAST-MODIFIED:20211015T011306Z
UID:10000313-1637942400-1637956800@www.activityoptions.com
SUMMARY:• Bowling and Dinner
DESCRIPTION:Bowling at Cherry Creek Bolero with buffet dinner bar. Free for Denver residents. $49 for non residents. Medicaid waiver restrictions may apply. \nRegister Online
URL:https://www.activityoptions.com/event/bowling-and-dinner-4/
LOCATION:Bowlero Cherry Creek
ATTACH;FMTTYPE=image/png:https://www.activityoptions.com/wp-content/uploads/2021/06/BowleroCherryCreek.png
ORGANIZER;CN="Activity Options LLC /Project World PBC":MAILTO:signup@activityoptions.com
END:VEVENT
BEGIN:VEVENT
DTSTART;TZID=UTC:20211001T160000
DTEND;TZID=UTC:20211001T200000
DTSTAMP:20260423T174153
CREATED:20210830T024438Z
LAST-MODIFIED:20210830T024438Z
UID:10000295-1633104000-1633118400@www.activityoptions.com
SUMMARY:• Bowling and Dinner
DESCRIPTION:Bowling at Cherry Creek Bolero with buffet dinner bar. Free for Denver residents. $49 for non residents. Medicaid waiver restrictions may apply. \nRegister Online
URL:https://www.activityoptions.com/event/bowling-and-dinner-3/
LOCATION:Bowlero Cherry Creek
ATTACH;FMTTYPE=image/png:https://www.activityoptions.com/wp-content/uploads/2021/06/BowleroCherryCreek.png
ORGANIZER;CN="Activity Options LLC /Project World PBC":MAILTO:signup@activityoptions.com
END:VEVENT
BEGIN:VEVENT
DTSTART;TZID=UTC:20210827T160000
DTEND;TZID=UTC:20210827T200000
DTSTAMP:20260423T174153
CREATED:20210616T051101Z
LAST-MODIFIED:20210616T051101Z
UID:10000291-1630080000-1630094400@www.activityoptions.com
SUMMARY:• Bowling and Dinner
DESCRIPTION:Bowling at Cherry Creek Bolero with buffet dinner bar. Free for Denver residents. $99 for non residents. Medicaid waiver restrictions may apply. \nRegister Online
URL:https://www.activityoptions.com/event/bowling-and-dinner-2/
LOCATION:Bowlero Cherry Creek
ATTACH;FMTTYPE=image/png:https://www.activityoptions.com/wp-content/uploads/2021/06/BowleroCherryCreek.png
ORGANIZER;CN="Activity Options LLC /Project World PBC":MAILTO:signup@activityoptions.com
END:VEVENT
BEGIN:VEVENT
DTSTART;TZID=UTC:20210723T160000
DTEND;TZID=UTC:20210723T200000
DTSTAMP:20260423T174153
CREATED:20210615T064956Z
LAST-MODIFIED:20210615T065006Z
UID:10000269-1627056000-1627070400@www.activityoptions.com
SUMMARY:• Bowling and Dinner
DESCRIPTION:Bowling at Cherry Creek Bowlero with buffet dinner bar. Free for Denver residents. $99 for non residents. Medicaid waiver restrictions may apply. \nRegister Online
URL:https://www.activityoptions.com/event/bowling-and-dinner/
LOCATION:Bowlero Cherry Creek
ATTACH;FMTTYPE=image/png:https://www.activityoptions.com/wp-content/uploads/2021/06/BowleroCherryCreek.png
ORGANIZER;CN="Activity Options LLC /Project World PBC":MAILTO:signup@activityoptions.com
END:VEVENT
END:VCALENDAR