BEGIN:VCALENDAR
VERSION:2.0
PRODID:-//Activity Options - ECPv6.15.20//NONSGML v1.0//EN
CALSCALE:GREGORIAN
METHOD:PUBLISH
X-WR-CALNAME:Activity Options
X-ORIGINAL-URL:https://www.activityoptions.com
X-WR-CALDESC:Events for Activity Options
REFRESH-INTERVAL;VALUE=DURATION:PT1H
X-Robots-Tag:noindex
X-PUBLISHED-TTL:PT1H
BEGIN:VTIMEZONE
TZID:UTC
BEGIN:STANDARD
TZOFFSETFROM:+0000
TZOFFSETTO:+0000
TZNAME:UTC
DTSTART:20200101T000000
END:STANDARD
END:VTIMEZONE
BEGIN:VEVENT
DTSTART;TZID=UTC:20210925T080000
DTEND;TZID=UTC:20210929T200000
DTSTAMP:20260423T110927
CREATED:20210721T192134Z
LAST-MODIFIED:20210721T192134Z
UID:10000145-1632556800-1632945600@www.activityoptions.com
SUMMARY:• Grand Canyon & Scottsdale 2021 Trip!
DESCRIPTION:Visit the desert resort of Scottsdale\, the majestic Grand Canyon & Sedona in Arizona! Travel with a small group of friends and 2 experienced guides. Enjoy desert weather\, culture\, sites and views. Free for Denver residents. $2395 for non residents. Medicaid waiver restrictions may apply. \nRegister Online
URL:https://www.activityoptions.com/event/grand-canyon-scottsdale-2021-trip/
LOCATION:AZ Scottsdale Grand Canyon
ATTACH;FMTTYPE=image/png:https://www.activityoptions.com/wp-content/uploads/2021/07/AZscottsdalegrandcanyon.png
ORGANIZER;CN="Activity Options LLC /Project World PBC":MAILTO:signup@activityoptions.com
END:VEVENT
END:VCALENDAR