BEGIN:VCALENDAR
VERSION:2.0
PRODID:-//Activity Options - ECPv6.15.20//NONSGML v1.0//EN
CALSCALE:GREGORIAN
METHOD:PUBLISH
X-WR-CALNAME:Activity Options
X-ORIGINAL-URL:https://www.activityoptions.com
X-WR-CALDESC:Events for Activity Options
REFRESH-INTERVAL;VALUE=DURATION:PT1H
X-Robots-Tag:noindex
X-PUBLISHED-TTL:PT1H
BEGIN:VTIMEZONE
TZID:UTC
BEGIN:STANDARD
TZOFFSETFROM:+0000
TZOFFSETTO:+0000
TZNAME:UTC
DTSTART:20230101T000000
END:STANDARD
END:VTIMEZONE
BEGIN:VEVENT
DTSTART;TZID=UTC:20240908T100000
DTEND;TZID=UTC:20240908T170000
DTSTAMP:20260423T135745
CREATED:20240808T032934Z
LAST-MODIFIED:20240808T032934Z
UID:10000638-1725789600-1725814800@www.activityoptions.com
SUMMARY:Argo Mine Tour Idaho Springs
DESCRIPTION:Argo Mine Tour Idaho SpringsTour the Argo Mill and Tunnel\, a national historic landmark in Idaho Springs. Learn about the gold mining history and travel deep into the mine tunnel.  Must be able to go in small\, dark spaces and walk over uneven surfaces. Free for Denver residents. $99 for private pay. If the activity is full please join the wait list so we know you are interested. \nRegister Online
URL:https://www.activityoptions.com/event/argo-mine-tour-idaho-springs/
LOCATION:Argo  Mine Idaho Springs\, 2350 Riverside Dr\, Idaho Springs\, CO\, 80452\, United States
ATTACH;FMTTYPE=image/png:https://www.activityoptions.com/wp-content/uploads/2024/08/Screenshot-2024-08-07-at-2.19.04 PM.png
ORGANIZER;CN="Activity Options LLC /Project World PBC":MAILTO:signup@activityoptions.com
END:VEVENT
END:VCALENDAR