BEGIN:VCALENDAR
VERSION:2.0
PRODID:-//Activity Options - ECPv6.15.20//NONSGML v1.0//EN
CALSCALE:GREGORIAN
METHOD:PUBLISH
X-ORIGINAL-URL:https://www.activityoptions.com
X-WR-CALDESC:Events for Activity Options
REFRESH-INTERVAL;VALUE=DURATION:PT1H
X-Robots-Tag:noindex
X-PUBLISHED-TTL:PT1H
BEGIN:VTIMEZONE
TZID:UTC
BEGIN:STANDARD
TZOFFSETFROM:+0000
TZOFFSETTO:+0000
TZNAME:UTC
DTSTART:20250101T000000
END:STANDARD
END:VTIMEZONE
BEGIN:VEVENT
DTSTART;TZID=UTC:20260425T170000
DTEND;TZID=UTC:20260425T220000
DTSTAMP:20260423T104855
CREATED:20260316T160129Z
LAST-MODIFIED:20260316T160129Z
UID:10000841-1777136400-1777154400@www.activityoptions.com
SUMMARY:•Dinner Club
DESCRIPTION:Monthly favorite!!  Dinner with friends at an area restaurant. Denver residents use your free membership or inquire to set one up through us using Mill Levy funding. Private pay $99. If the activity is full please join the waitlist so we know you are interested. \nRegister Online
URL:https://www.activityoptions.com/event/dinner-club-10/
LOCATION:Activity Options Community Center (Arvada)\, 7401 W 59th Ave\, Arvada\, Colorado\, 80003
ATTACH;FMTTYPE=image/png:https://www.activityoptions.com/wp-content/uploads/2022/03/Dinner-Group.png
ORGANIZER;CN="Activity Options LLC /Project World PBC":MAILTO:signup@activityoptions.com
END:VEVENT
BEGIN:VEVENT
DTSTART;TZID=UTC:20260509T160000
DTEND;TZID=UTC:20260509T220000
DTSTAMP:20260423T104855
CREATED:20260316T203511Z
LAST-MODIFIED:20260316T203511Z
UID:10000845-1778342400-1778364000@www.activityoptions.com
SUMMARY:• SNL Movie Night
DESCRIPTION:Join Saturday Night Club (SNL) and enjoy the company of friends. Dinner and movie at West Community Center. Denver residents use your free membership or inquire to set one up through us using Mill Levy funding. Private pay $99. If the activity is full please join the waitlist so we know you are interested. \nRegister Online
URL:https://www.activityoptions.com/event/snl-movie-night-8/
LOCATION:Activity Options Community Center (Arvada)\, 7401 W 59th Ave\, Arvada\, Colorado\, 80003
ATTACH;FMTTYPE=image/jpeg:https://www.activityoptions.com/wp-content/uploads/2018/07/SNL-Movie-Night-sq.jpg
ORGANIZER;CN="Activity Options LLC /Project World PBC":MAILTO:signup@activityoptions.com
END:VEVENT
BEGIN:VEVENT
DTSTART;TZID=UTC:20260525T110000
DTEND;TZID=UTC:20260525T150000
DTSTAMP:20260423T104855
CREATED:20260316T212935Z
LAST-MODIFIED:20260316T212935Z
UID:10000849-1779706800-1779721200@www.activityoptions.com
SUMMARY:•Memorial Day Party!
DESCRIPTION:Celebrate the start of the summer at the Annual Memorial Day Party BBQ.  Games\, food and fun. Denver residents use your free membership or inquire to set one up through us using Mill Levy funding. Private pay $25. If the activity is full please join the waitlist so we know you are interested. \nRegister Online
URL:https://www.activityoptions.com/event/memorial-day-party-6/
LOCATION:Activity Options Community Center (Arvada)\, 7401 W 59th Ave\, Arvada\, Colorado\, 80003
ATTACH;FMTTYPE=image/png:https://www.activityoptions.com/wp-content/uploads/2022/04/Memorial-Day.png
ORGANIZER;CN="Activity Options LLC /Project World PBC":MAILTO:signup@activityoptions.com
END:VEVENT
BEGIN:VEVENT
DTSTART;TZID=UTC:20260530T160000
DTEND;TZID=UTC:20260530T230000
DTSTAMP:20260423T104855
CREATED:20260316T214748Z
LAST-MODIFIED:20260316T214748Z
UID:10000851-1780156800-1780182000@www.activityoptions.com
SUMMARY:•Dinner Group
DESCRIPTION:Have dinner with friends at one of our favorite restaurants. Denver residents use your free membership or inquire to set one up through us using Mill Levy funding. Private pay $99. If the activity is full please join the waitlist so we know you are interested. \nRegister Online
URL:https://www.activityoptions.com/event/dinner-group-4/
LOCATION:Activity Options Community Center (Arvada)\, 7401 W 59th Ave\, Arvada\, Colorado\, 80003
ATTACH;FMTTYPE=image/png:https://www.activityoptions.com/wp-content/uploads/2022/03/Dinner-Group.png
ORGANIZER;CN="Activity Options LLC /Project World PBC":MAILTO:signup@activityoptions.com
END:VEVENT
BEGIN:VEVENT
DTSTART;TZID=UTC:20260531T130000
DTEND;TZID=UTC:20260531T180000
DTSTAMP:20260423T104855
CREATED:20260316T215318Z
LAST-MODIFIED:20260316T215318Z
UID:10000852-1780232400-1780250400@www.activityoptions.com
SUMMARY:• Foothills Hike
DESCRIPTION:Join in the annual foothills adventures. Reasonable\, but fun hike. Lunch Evergreen or Idaho Springs. Denver residents use your free membership or inquire to set one up through us using Mill Levy funding. Private pay $59. If the activity is full please join the waitlist so we know you are interested. \nRegister Online
URL:https://www.activityoptions.com/event/foothills-hike-3/
LOCATION:Activity Options Community Center (Arvada)\, 7401 W 59th Ave\, Arvada\, Colorado\, 80003
ATTACH;FMTTYPE=image/png:https://www.activityoptions.com/wp-content/uploads/2025/02/FoothillsHike.png
ORGANIZER;CN="Activity Options LLC /Project World PBC":MAILTO:signup@activityoptions.com
END:VEVENT
END:VCALENDAR