BEGIN:VCALENDAR
VERSION:2.0
PRODID:-//Activity Options - ECPv6.15.20//NONSGML v1.0//EN
CALSCALE:GREGORIAN
METHOD:PUBLISH
X-WR-CALNAME:Activity Options
X-ORIGINAL-URL:https://www.activityoptions.com
X-WR-CALDESC:Events for Activity Options
REFRESH-INTERVAL;VALUE=DURATION:PT1H
X-Robots-Tag:noindex
X-PUBLISHED-TTL:PT1H
BEGIN:VTIMEZONE
TZID:UTC
BEGIN:STANDARD
TZOFFSETFROM:+0000
TZOFFSETTO:+0000
TZNAME:UTC
DTSTART:20180101T000000
END:STANDARD
END:VTIMEZONE
BEGIN:VEVENT
DTSTART;TZID=UTC:20190704T120000
DTEND;TZID=UTC:20190704T150000
DTSTAMP:20260423T210354
CREATED:20190404T045048Z
LAST-MODIFIED:20190404T045048Z
UID:10000085-1562241600-1562252400@www.activityoptions.com
SUMMARY:• BBQ and Party at West Community Center
DESCRIPTION:Celebrate the Nations birthday with friends\, food and fun. Games\, music and celebration. Free for Denver residents. $6 or $25 w/ transportation for non residents. Medicaid waiver restrictions may apply. \nRegister Onine
URL:https://www.activityoptions.com/event/%e2%80%a2-bbq-party-west-community-center/
LOCATION:Activity Options West Community Center\, 1315 Nelson\, Unit 3\, Lakewood\, CO\, 80215
ATTACH;FMTTYPE=image/jpeg:https://www.activityoptions.com/wp-content/uploads/2019/04/July4thBBQ.jpg
ORGANIZER;CN="Activity Options LLC /Project World PBC":MAILTO:signup@activityoptions.com
GEO:39.7376326;-105.1172671
X-APPLE-STRUCTURED-LOCATION;VALUE=URI;X-ADDRESS=Activity Options West Community Center 1315 Nelson Unit 3 Lakewood CO 80215;X-APPLE-RADIUS=500;X-TITLE=1315 Nelson\, Unit 3:geo:-105.1172671,39.7376326
END:VEVENT
BEGIN:VEVENT
DTSTART;TZID=UTC:20190628T090000
DTEND;TZID=UTC:20190628T140000
DTSTAMP:20260423T210354
CREATED:20190404T034758Z
LAST-MODIFIED:20190624T060930Z
UID:10000081-1561712400-1561730400@www.activityoptions.com
SUMMARY:• Horse Back Riding at Bear Creek Lake Park
DESCRIPTION:Join an experienced wrangler for a trail ride at Bear Creek Lake Park. No experience necessary but must be able to sit upright on a horse and hold the reins. This is not therapy riding! Includes lunch in Morrison or other local spots. Free for Denver residents. $99 for non residents. Medicaid waiver restrictions may apply. \nRegister Online
URL:https://www.activityoptions.com/event/%e2%80%a2-horse-back-riding-bear-creek-lake-park/2019-06-28/
LOCATION:Bear Creek Lake Park\, 15600 W Morrison Rd\, Lakewood\, CO\, 80228
ATTACH;FMTTYPE=image/jpeg:https://www.activityoptions.com/wp-content/uploads/2018/03/Horseback-sq.jpg
ORGANIZER;CN="Activity Options LLC /Project World PBC":MAILTO:signup@activityoptions.com
GEO:39.653228;-105.1760166
X-APPLE-STRUCTURED-LOCATION;VALUE=URI;X-ADDRESS=Bear Creek Lake Park 15600 W Morrison Rd Lakewood CO 80228;X-APPLE-RADIUS=500;X-TITLE=15600 W Morrison Rd:geo:-105.1760166,39.653228
END:VEVENT
BEGIN:VEVENT
DTSTART;TZID=UTC:20190614T090000
DTEND;TZID=UTC:20190614T140000
DTSTAMP:20260423T210354
CREATED:20190404T033938Z
LAST-MODIFIED:20190624T021609Z
UID:10000077-1560502800-1560520800@www.activityoptions.com
SUMMARY:• Summer Days Boating at Chatfield Lake
DESCRIPTION:Board a speed boat for a water adventure on Chatfield Lake. Tubing optional! All safety equipment and training provided. Weather permitting. Includes snacks and beverages. Free for Denver residents. $79/date for non residents. Medicaid waiver restrictions may apply. \nRegister Online\n 
URL:https://www.activityoptions.com/event/%e2%80%a2-summer-days-boating-standley-lake/2019-06-14/
LOCATION:Chatfield Reservoir\, 11500 N. Roxborough Park Rd.\, Littleton\, CO\, 80125
ATTACH;FMTTYPE=image/jpeg:https://www.activityoptions.com/wp-content/uploads/2018/03/Chatfield-Boat-sq.jpg
ORGANIZER;CN="Activity Options LLC /Project World PBC":MAILTO:signup@activityoptions.com
GEO:39.5297091;-105.0543226
X-APPLE-STRUCTURED-LOCATION;VALUE=URI;X-ADDRESS=Chatfield Reservoir 11500 N. Roxborough Park Rd. Littleton CO 80125;X-APPLE-RADIUS=500;X-TITLE=11500 N. Roxborough Park Rd.:geo:-105.0543226,39.5297091
END:VEVENT
BEGIN:VEVENT
DTSTART;TZID=UTC:20190607T170000
DTEND;TZID=UTC:20190607T220000
DTSTAMP:20260423T210354
CREATED:20190106T201358Z
LAST-MODIFIED:20190415T221331Z
UID:10000023-1559926800-1559944800@www.activityoptions.com
SUMMARY:• First Friday Dance Party at Grant St Community Center
DESCRIPTION:Rock out with this on-going Dance community! DJ\, theme decorations and dessert. Includes dinner beforehand. Free for Denver residents. $25 for non residents\, Medicaid waiver restrictions may apply. \nRegister Online\n 
URL:https://www.activityoptions.com/event/%e2%80%a2first-friday-dance-party-grant-st-community-center-2019-05-03/2019-06-07/
LOCATION:Grant Street Community Center
ATTACH;FMTTYPE=image/jpeg:https://www.activityoptions.com/wp-content/uploads/2017/11/Dance-Party-sq.jpg
ORGANIZER;CN="Activity Options LLC /Project World PBC":MAILTO:signup@activityoptions.com
END:VEVENT
BEGIN:VEVENT
DTSTART;TZID=UTC:20190602T140000
DTEND;TZID=UTC:20190602T200000
DTSTAMP:20260423T210354
CREATED:20190404T042154Z
LAST-MODIFIED:20190404T042154Z
UID:10000084-1559484000-1559505600@www.activityoptions.com
SUMMARY:• TobyMac LIVE at Fiddlers Green
DESCRIPTION:Relax in reserved seats at Fiddler’s Green and enjoy the music of TobyMac. This 7 time Grammy award winning hip-hop band focuses on an encouraging\, hope based message. Free for Denver residents. $129 for non residents. Medicaid waiver restrictions may apply. \nRegister Online
URL:https://www.activityoptions.com/event/%e2%80%a2-tobymac-live-fiddlers-green/
LOCATION:Fiddlers Green Amphitheater\, 6350 Greenwood Plaza Blvd\, Greenwood Village\, CO\, 80111\, United States
ORGANIZER;CN="Activity Options LLC /Project World PBC":MAILTO:signup@activityoptions.com
END:VEVENT
BEGIN:VEVENT
DTSTART;TZID=UTC:20190531T090000
DTEND;TZID=UTC:20190531T140000
DTSTAMP:20260423T210354
CREATED:20190404T034758Z
LAST-MODIFIED:20190624T060930Z
UID:10000080-1559293200-1559311200@www.activityoptions.com
SUMMARY:• Horse Back Riding at Bear Creek Lake Park
DESCRIPTION:Join an experienced wrangler for a trail ride at Bear Creek Lake Park. No experience necessary but must be able to sit upright on a horse and hold the reins. This is not therapy riding! Includes lunch in Morrison or other local spots. Free for Denver residents. $99 for non residents. Medicaid waiver restrictions may apply. \nRegister Online
URL:https://www.activityoptions.com/event/%e2%80%a2-horse-back-riding-bear-creek-lake-park/2019-05-31/
LOCATION:Bear Creek Lake Park\, 15600 W Morrison Rd\, Lakewood\, CO\, 80228
ATTACH;FMTTYPE=image/jpeg:https://www.activityoptions.com/wp-content/uploads/2018/03/Horseback-sq.jpg
ORGANIZER;CN="Activity Options LLC /Project World PBC":MAILTO:signup@activityoptions.com
GEO:39.653228;-105.1760166
X-APPLE-STRUCTURED-LOCATION;VALUE=URI;X-ADDRESS=Bear Creek Lake Park 15600 W Morrison Rd Lakewood CO 80228;X-APPLE-RADIUS=500;X-TITLE=15600 W Morrison Rd:geo:-105.1760166,39.653228
END:VEVENT
BEGIN:VEVENT
DTSTART;TZID=UTC:20190529T090000
DTEND;TZID=UTC:20190529T140000
DTSTAMP:20260423T210354
CREATED:20190404T033938Z
LAST-MODIFIED:20190624T021609Z
UID:10000076-1559120400-1559138400@www.activityoptions.com
SUMMARY:• Summer Days Boating at Chatfield Lake
DESCRIPTION:Board a speed boat for a water adventure on Chatfield Lake. Tubing optional! All safety equipment and training provided. Weather permitting. Includes snacks and beverages. Free for Denver residents. $79/date for non residents. Medicaid waiver restrictions may apply. \nRegister Online\n 
URL:https://www.activityoptions.com/event/%e2%80%a2-summer-days-boating-standley-lake/2019-05-29/
LOCATION:Chatfield Reservoir\, 11500 N. Roxborough Park Rd.\, Littleton\, CO\, 80125
ATTACH;FMTTYPE=image/jpeg:https://www.activityoptions.com/wp-content/uploads/2018/03/Chatfield-Boat-sq.jpg
ORGANIZER;CN="Activity Options LLC /Project World PBC":MAILTO:signup@activityoptions.com
GEO:39.5297091;-105.0543226
X-APPLE-STRUCTURED-LOCATION;VALUE=URI;X-ADDRESS=Chatfield Reservoir 11500 N. Roxborough Park Rd. Littleton CO 80125;X-APPLE-RADIUS=500;X-TITLE=11500 N. Roxborough Park Rd.:geo:-105.0543226,39.5297091
END:VEVENT
BEGIN:VEVENT
DTSTART;TZID=UTC:20190527T100000
DTEND;TZID=UTC:20190527T150000
DTSTAMP:20260423T210354
CREATED:20190128T024419Z
LAST-MODIFIED:20190404T031258Z
UID:10000072-1558951200-1558969200@www.activityoptions.com
SUMMARY:• Memorial Day BBQ & Party at West Community Center
DESCRIPTION:Join the BBQ and Barn Party at West Community Center (1315 Nelson\, Lakewood)  for Country fun on this national holiday!  Country music\, line dancing\, games\, lemonade bar\, great food\, photo booth.  Free for Denver residents. $6 or $25 w/ transportation for non residents. Medicaid waiver restrictions may apply. \nRegister Online
URL:https://www.activityoptions.com/event/memorial-day-party/
LOCATION:Activity Options West Community Center\, 1315 Nelson\, Unit 3\, Lakewood\, CO\, 80215
ATTACH;FMTTYPE=image/jpeg:https://www.activityoptions.com/wp-content/uploads/2018/03/Memorial-Day-2018-sq.jpg
ORGANIZER;CN="Activity Options LLC /Project World PBC":MAILTO:signup@activityoptions.com
GEO:39.7376326;-105.1172671
X-APPLE-STRUCTURED-LOCATION;VALUE=URI;X-ADDRESS=Activity Options West Community Center 1315 Nelson Unit 3 Lakewood CO 80215;X-APPLE-RADIUS=500;X-TITLE=1315 Nelson\, Unit 3:geo:-105.1172671,39.7376326
END:VEVENT
BEGIN:VEVENT
DTSTART;TZID=UTC:20190525T100000
DTEND;TZID=UTC:20190525T150000
DTSTAMP:20260423T210354
CREATED:20190404T031019Z
LAST-MODIFIED:20190404T031019Z
UID:10000075-1558778400-1558796400@www.activityoptions.com
SUMMARY:Phamaly Theater Company 30th Anniversary Concert
DESCRIPTION:Experience their award winning talent for\, performing plays and musicals that exclusively feature actors with all nature of disabilities: physical\, cognitive\, intellectual\, emotional\, and neurodiverse. Phamaly’s mission is to inspire people to re-envision disability through professional theatre. Free for Denver residents. $6 or $25 w/ transportation for non residents. Medicaid waiver restrictions may apply. \nRegister Online
URL:https://www.activityoptions.com/event/phamaly-theater-company-30th-anniversary-concert/
LOCATION:Phamaly Theater Company\, 711 Park Avenue West\, Denver\, CO\, 80205\, United States
ORGANIZER;CN="Activity Options LLC /Project World PBC":MAILTO:signup@activityoptions.com
END:VEVENT
BEGIN:VEVENT
DTSTART;TZID=UTC:20190510T170000
DTEND;TZID=UTC:20190510T220000
DTSTAMP:20260423T210354
CREATED:20190127T213609Z
LAST-MODIFIED:20190301T055946Z
UID:10000002-1557507600-1557525600@www.activityoptions.com
SUMMARY:• Wicked at the Buell Theater
DESCRIPTION:From the first electrifying note to the final breathtaking moment\, Wicked\, the Broadway sensation— tells the untold true story of the Witches of Oz and transfixes audiences with its wildly inventive story. It will send your spirits soaring to heights you’ll never forget. Free for Denver residents. $149 for non residents\, Medicaid waivers may apply. \nRegister Online *Registration Opens March 15th*\n 
URL:https://www.activityoptions.com/event/wicked-buell-theater/
LOCATION:Denver Center for the Performing Arts\, 1101 13th St\, Denver\, CO\, 80204
ATTACH;FMTTYPE=image/jpeg:https://www.activityoptions.com/wp-content/uploads/2019/01/WickedatBuell.jpg
ORGANIZER;CN="Activity Options LLC /Project World PBC":MAILTO:signup@activityoptions.com
GEO:39.7453475;-104.998331
X-APPLE-STRUCTURED-LOCATION;VALUE=URI;X-ADDRESS=Denver Center for the Performing Arts 1101 13th St Denver CO 80204;X-APPLE-RADIUS=500;X-TITLE=1101 13th St:geo:-104.998331,39.7453475
END:VEVENT
BEGIN:VEVENT
DTSTART;TZID=UTC:20190504T080000
DTEND;TZID=UTC:20190505T200000
DTSTAMP:20260423T210354
CREATED:20190128T004537Z
LAST-MODIFIED:20190301T060328Z
UID:10000037-1556956800-1557086400@www.activityoptions.com
SUMMARY:• Glenwood Springs by train & car
DESCRIPTION:Ride the train through the mountain of Colorado to historic Glenwood Springs. Soak in the Iron Mountain Hot Springs and visit the Caverns Adventure Park. Optional car transportation one or both ways. Free for Denver residents. $349 with train / $249 without train for non residents\, Medicaid waiver restrictions may apply. \nRegister Online
URL:https://www.activityoptions.com/event/glenwood-springs-train-car/
LOCATION:Glenwood Springs\, Colorado\, Glenwood Springs\, Colorado
ATTACH;FMTTYPE=image/jpeg:https://www.activityoptions.com/wp-content/uploads/2018/07/Iron-Mountain-Caverns-Adventure.jpg
ORGANIZER;CN="Activity Options LLC /Project World PBC":MAILTO:signup@activityoptions.com
GEO:39.5505376;-107.3247762
END:VEVENT
BEGIN:VEVENT
DTSTART;TZID=UTC:20190503T170000
DTEND;TZID=UTC:20190503T220000
DTSTAMP:20260423T210354
CREATED:20190106T201358Z
LAST-MODIFIED:20190415T221331Z
UID:10000022-1556902800-1556920800@www.activityoptions.com
SUMMARY:• First Friday Dance Party at Grant St Community Center
DESCRIPTION:Rock out with this on-going Dance community! DJ\, theme decorations and dessert. Includes dinner beforehand. Free for Denver residents. $25 for non residents\, Medicaid waiver restrictions may apply. \nRegister Online\n 
URL:https://www.activityoptions.com/event/%e2%80%a2first-friday-dance-party-grant-st-community-center-2019-05-03/2019-05-03/
LOCATION:Grant Street Community Center
ATTACH;FMTTYPE=image/jpeg:https://www.activityoptions.com/wp-content/uploads/2017/11/Dance-Party-sq.jpg
ORGANIZER;CN="Activity Options LLC /Project World PBC":MAILTO:signup@activityoptions.com
END:VEVENT
BEGIN:VEVENT
DTSTART;TZID=UTC:20190427T170000
DTEND;TZID=UTC:20190427T230000
DTSTAMP:20260423T210354
CREATED:20190301T053852Z
LAST-MODIFIED:20190404T023158Z
UID:10000073-1556384400-1556406000@www.activityoptions.com
SUMMARY:• DCPA presents Andrew Lloyd Webber's CATS
DESCRIPTION:As of 4/4 we are accepting WAIT LIST REGISTRATION ONLY. Rediscover Cats including one of the most treasured songs in musical theater\, “Memory.” Featuring new sound design\, direction and choreography for a new generation — experience Cats for the first time as it begins a new life\, or let it thrill you all over again! Free for Denver residents. $149 for non residents\, Medicaid waiver restrictions may apply. \nRegister Online
URL:https://www.activityoptions.com/event/dcpa-presents-andrew-lloyd-webbers-cats/
LOCATION:Denver Center for the Performing Arts\, 1101 13th St\, Denver\, CO\, 80204
ORGANIZER;CN="Activity Options LLC /Project World PBC":MAILTO:signup@activityoptions.com
GEO:39.7453475;-104.998331
X-APPLE-STRUCTURED-LOCATION;VALUE=URI;X-ADDRESS=Denver Center for the Performing Arts 1101 13th St Denver CO 80204;X-APPLE-RADIUS=500;X-TITLE=1101 13th St:geo:-104.998331,39.7453475
END:VEVENT
BEGIN:VEVENT
DTSTART;TZID=UTC:20190427T170000
DTEND;TZID=UTC:20190427T220000
DTSTAMP:20260423T210354
CREATED:20190404T023926Z
LAST-MODIFIED:20190404T023926Z
UID:10000074-1556384400-1556402400@www.activityoptions.com
SUMMARY:Rockabilly Roadhouse at the Forney Museum
DESCRIPTION:Celebrate with The Wayfaring Band at this 50’s music party. Food\, fun\, festivities! Enjoy the historic Forney Museum in 50’s style! Free for Denver residents. $39 for non residents. Medicaid waiver restrictions may apply. \nRegister Online
URL:https://www.activityoptions.com/event/rockabilly-roadhouse-forney-museum/
LOCATION:Forney Museum of Transportation\, 4303 Brighton Blvd\, Denver\, CO\, 80216\, United States
ATTACH;FMTTYPE=image/jpeg:https://www.activityoptions.com/wp-content/uploads/2019/04/RockabillyRoadhouse.jpg
ORGANIZER;CN="Activity Options LLC /Project World PBC":MAILTO:signup@activityoptions.com
END:VEVENT
BEGIN:VEVENT
DTSTART;TZID=UTC:20190409T080000
DTEND;TZID=UTC:20190413T200000
DTSTAMP:20260423T210354
CREATED:20190128T004108Z
LAST-MODIFIED:20190404T042547Z
UID:10000004-1554796800-1555185600@www.activityoptions.com
SUMMARY:• Orlando Florida
DESCRIPTION:THIS EVENT IS FULL. See the best of Orlando! Stay at B Resort and Spa in Disney Springs and visit Disney World\, Coco Beach\, Kennedy Space Center and Universal Studios with a possible visit to Harry Potter World. Free for Denver residents. $2\,795 for non residents\, Medicaid waiver restrictions may apply. \n 
URL:https://www.activityoptions.com/event/orlando-florida/
LOCATION:Orlando Florida
ATTACH;FMTTYPE=image/jpeg:https://www.activityoptions.com/wp-content/uploads/2019/01/Orlando.jpg
ORGANIZER;CN="Activity Options LLC /Project World PBC":MAILTO:signup@activityoptions.com
END:VEVENT
BEGIN:VEVENT
DTSTART;TZID=UTC:20190407T133000
DTEND;TZID=UTC:20190407T183000
DTSTAMP:20260423T210354
CREATED:20190127T212835Z
LAST-MODIFIED:20190404T022639Z
UID:10000030-1554643800-1554661800@www.activityoptions.com
SUMMARY:• Disney on Ice 'Worlds of Enchantment' at the Denver Coliseum
DESCRIPTION:THIS EVENT IS FULL. Be dazzled by favorite Disney stories See the Disney Pixar’s Cars crew race across the ice; dive into undersea fun with The Little Mermaid’s Ariel; join the adventures of Buzz\, Woody and the Toy Story gang; and journey with Anna\, Elsa and Olaf of Disney’s Frozen. Free for Denver residents. $149 for non residents\, Medicaid waivers may apply.
URL:https://www.activityoptions.com/event/disney-ice-worlds-enchantment-denver-coliseum/
LOCATION:Denver Coliseum\, 4600 Humboldt St\, Denver\, CO\, 80216\, United States
ORGANIZER;CN="Activity Options LLC /Project World PBC":MAILTO:signup@activityoptions.com
END:VEVENT
BEGIN:VEVENT
DTSTART;TZID=UTC:20190405T170000
DTEND;TZID=UTC:20190405T220000
DTSTAMP:20260423T210354
CREATED:20190106T201358Z
LAST-MODIFIED:20190415T221331Z
UID:10000021-1554483600-1554501600@www.activityoptions.com
SUMMARY:• First Friday Dance Party at Grant St Community Center
DESCRIPTION:Rock out with this on-going Dance community! DJ\, theme decorations and dessert. Includes dinner beforehand. Free for Denver residents. $25 for non residents\, Medicaid waiver restrictions may apply. \nRegister Online\n 
URL:https://www.activityoptions.com/event/%e2%80%a2first-friday-dance-party-grant-st-community-center-2019-05-03/2019-04-05/
LOCATION:Grant Street Community Center
ATTACH;FMTTYPE=image/jpeg:https://www.activityoptions.com/wp-content/uploads/2017/11/Dance-Party-sq.jpg
ORGANIZER;CN="Activity Options LLC /Project World PBC":MAILTO:signup@activityoptions.com
END:VEVENT
BEGIN:VEVENT
DTSTART;TZID=UTC:20190301T170000
DTEND;TZID=UTC:20190301T220000
DTSTAMP:20260423T210354
CREATED:20190106T201358Z
LAST-MODIFIED:20190415T221331Z
UID:10000020-1551459600-1551477600@www.activityoptions.com
SUMMARY:• First Friday Dance Party at Grant St Community Center
DESCRIPTION:Rock out with this on-going Dance community! DJ\, theme decorations and dessert. Includes dinner beforehand. Free for Denver residents. $25 for non residents\, Medicaid waiver restrictions may apply. \nRegister Online\n 
URL:https://www.activityoptions.com/event/%e2%80%a2first-friday-dance-party-grant-st-community-center-2019-05-03/2019-03-01/
LOCATION:Grant Street Community Center
ATTACH;FMTTYPE=image/jpeg:https://www.activityoptions.com/wp-content/uploads/2017/11/Dance-Party-sq.jpg
ORGANIZER;CN="Activity Options LLC /Project World PBC":MAILTO:signup@activityoptions.com
END:VEVENT
BEGIN:VEVENT
DTSTART;TZID=UTC:20190201T170000
DTEND;TZID=UTC:20190201T220000
DTSTAMP:20260423T210354
CREATED:20190106T201358Z
LAST-MODIFIED:20190415T221331Z
UID:10000019-1549040400-1549058400@www.activityoptions.com
SUMMARY:• First Friday Dance Party at Grant St Community Center
DESCRIPTION:Rock out with this on-going Dance community! DJ\, theme decorations and dessert. Includes dinner beforehand. Free for Denver residents. $25 for non residents\, Medicaid waiver restrictions may apply. \nRegister Online\n 
URL:https://www.activityoptions.com/event/%e2%80%a2first-friday-dance-party-grant-st-community-center-2019-05-03/2019-02-01/
LOCATION:Grant Street Community Center
ATTACH;FMTTYPE=image/jpeg:https://www.activityoptions.com/wp-content/uploads/2017/11/Dance-Party-sq.jpg
ORGANIZER;CN="Activity Options LLC /Project World PBC":MAILTO:signup@activityoptions.com
END:VEVENT
END:VCALENDAR