BEGIN:VCALENDAR
VERSION:2.0
PRODID:-//Activity Options - ECPv6.15.20//NONSGML v1.0//EN
CALSCALE:GREGORIAN
METHOD:PUBLISH
X-ORIGINAL-URL:https://www.activityoptions.com
X-WR-CALDESC:Events for Activity Options
REFRESH-INTERVAL;VALUE=DURATION:PT1H
X-Robots-Tag:noindex
X-PUBLISHED-TTL:PT1H
BEGIN:VTIMEZONE
TZID:UTC
BEGIN:STANDARD
TZOFFSETFROM:+0000
TZOFFSETTO:+0000
TZNAME:UTC
DTSTART:20250101T000000
END:STANDARD
END:VTIMEZONE
BEGIN:VEVENT
DTSTART;TZID=UTC:20260618T080000
DTEND;TZID=UTC:20260622T200000
DTSTAMP:20260423T105019
CREATED:20260105T052810Z
LAST-MODIFIED:20260316T202743Z
UID:10000810-1781769600-1782158400@www.activityoptions.com
SUMMARY:•Road Trip! - So Colo\, Taos and Santa Fe
DESCRIPTION:4 day/3 night ROAD TRIP through Southern Colorado and northern New Mexico.  Visit Sand Dunes National Park with possible side trip to the Royal Gorge.  First night at the Lodge Motel in Fort Garland and then on through Taos\, NM with two nights at the Old Santa Fe Inn.  Explore the history and beauty of this area with visits to the indiginous historical sights\, museums and great southwestern food!  Take in Santa Fe music or theater.  Denver residents be eligible for Mill Levy funding. Private pay $1\,249.  If the activity is full please join the waitlist so we know you are interested. \nRegister Online
URL:https://www.activityoptions.com/event/annual-camping-trip-3/
LOCATION:Colorado National Monument\, Grand Junction\, CO
ATTACH;FMTTYPE=image/png:https://www.activityoptions.com/wp-content/uploads/2021/06/Roadtrip.png
ORGANIZER;CN="Activity Options LLC /Project World PBC":MAILTO:signup@activityoptions.com
END:VEVENT
END:VCALENDAR