BEGIN:VCALENDAR
VERSION:2.0
PRODID:-//Activity Options - ECPv6.15.20//NONSGML v1.0//EN
CALSCALE:GREGORIAN
METHOD:PUBLISH
X-WR-CALNAME:Activity Options
X-ORIGINAL-URL:https://www.activityoptions.com
X-WR-CALDESC:Events for Activity Options
REFRESH-INTERVAL;VALUE=DURATION:PT1H
X-Robots-Tag:noindex
X-PUBLISHED-TTL:PT1H
BEGIN:VTIMEZONE
TZID:UTC
BEGIN:STANDARD
TZOFFSETFROM:+0000
TZOFFSETTO:+0000
TZNAME:UTC
DTSTART:20240101T000000
END:STANDARD
END:VTIMEZONE
BEGIN:VEVENT
DTSTART;TZID=UTC:20250928T080000
DTEND;TZID=UTC:20251002T170000
DTSTAMP:20260423T165353
CREATED:20250519T154704Z
LAST-MODIFIED:20250519T154704Z
UID:10000761-1759046400-1759424400@www.activityoptions.com
SUMMARY:•South Dakota Road Trip
DESCRIPTION:Drive to So Dakota and stay 4 nights at the Ponderosa Lodge in Custer State Park.  Wldlife Safari and  cook out.  Drive the Threads Road\,  visit the Crazy Horse Memorial and Mt Rushmore. Spend a day exploring the national forest via UTV side by side. Possible visit to Wild Horse Sanctuary. Denver residents use your free IML membership or inquire to set one up. Private pay $1\,800. If the activity is full please join the wait list so we know you are interested. \nRegister Online
URL:https://www.activityoptions.com/event/south-dakota-road-trip/
LOCATION:South Dakota
ATTACH;FMTTYPE=image/png:https://www.activityoptions.com/wp-content/uploads/2020/08/South-Dakota-Rushmore.png
ORGANIZER;CN="Activity Options LLC /Project World PBC":MAILTO:signup@activityoptions.com
END:VEVENT
BEGIN:VEVENT
DTSTART;TZID=UTC:20251003T170000
DTEND;TZID=UTC:20251003T220000
DTSTAMP:20260423T165353
CREATED:20250821T043705Z
LAST-MODIFIED:20250821T063719Z
UID:10000771-1759510800-1759528800@www.activityoptions.com
SUMMARY:•Bowling Party
DESCRIPTION:Bowling and dinner buffet at Bolero. Denver residents use your free IML membership or inquire to set one up. Private pay $99. If the activity is full please join the waitlist so we know you are interested. \nRegister Online
URL:https://www.activityoptions.com/event/bowling-party-4/
LOCATION:Bowlero
ATTACH;FMTTYPE=image/png:https://www.activityoptions.com/wp-content/uploads/2025/02/Bowlero.png
ORGANIZER;CN="Activity Options LLC /Project World PBC":MAILTO:signup@activityoptions.com
END:VEVENT
BEGIN:VEVENT
DTSTART;TZID=UTC:20251005T110000
DTEND;TZID=UTC:20251005T170000
DTSTAMP:20260423T165353
CREATED:20250821T044130Z
LAST-MODIFIED:20250821T044130Z
UID:10000772-1759662000-1759683600@www.activityoptions.com
SUMMARY:•Fall Leaf Hike
DESCRIPTION:Enjoy the fall leaves up close and personal on this last hike of the season. Denver residents use your free IML membership or inquire to set one up. Private pay $35. If the activity is full please join the waitlist so we know you are interested. \nRegister Online
URL:https://www.activityoptions.com/event/fall-leaf-hike-2/
LOCATION:Colorado
ATTACH;FMTTYPE=image/png:https://www.activityoptions.com/wp-content/uploads/2024/09/FallHike.png
ORGANIZER;CN="Activity Options LLC /Project World PBC":MAILTO:signup@activityoptions.com
END:VEVENT
BEGIN:VEVENT
DTSTART;TZID=UTC:20251011T170000
DTEND;TZID=UTC:20251011T230000
DTSTAMP:20260423T165353
CREATED:20250821T044515Z
LAST-MODIFIED:20250821T044515Z
UID:10000773-1760202000-1760223600@www.activityoptions.com
SUMMARY:•SNL Saturday Night Club
DESCRIPTION:Join Saturday Night Club (SNL) and enjoy the company of friends. Enjoy a movie and dinner at our Center. Denver residents use your free IML membership or inquire to set one up. Private pay $59. If the activity is full please join the waitlist so we know you are interested. \nRegister Online
URL:https://www.activityoptions.com/event/snl-saturday-night-club-2/
LOCATION:Activity Options Community Center (Arvada)\, 7401 W 59th Ave\, Arvada\, Colorado\, 80003
ATTACH;FMTTYPE=image/png:https://www.activityoptions.com/wp-content/uploads/2021/04/SNL-sq.png
ORGANIZER;CN="Activity Options LLC /Project World PBC":MAILTO:signup@activityoptions.com
END:VEVENT
BEGIN:VEVENT
DTSTART;TZID=UTC:20251017T170000
DTEND;TZID=UTC:20251017T210000
DTSTAMP:20260423T165353
CREATED:20250821T045016Z
LAST-MODIFIED:20250821T045016Z
UID:10000774-1760720400-1760734800@www.activityoptions.com
SUMMARY:•Buck Center Dance
DESCRIPTION:Meet up with friends for the monthly community rec center dance. Denver residents use your free IML membership or inquire to set one up. Private pay $35. If the activity is full please join the waitlist so we know you are interested. \nRegister Online
URL:https://www.activityoptions.com/event/buck-center-dance-7/
LOCATION:Buck Recreation Center\, 2004 W Powers Ave\, Littleton\, CO\, 80120
ATTACH;FMTTYPE=image/jpeg:https://www.activityoptions.com/wp-content/uploads/2017/11/Dance-Party-sq.jpg
ORGANIZER;CN="Activity Options LLC /Project World PBC":MAILTO:signup@activityoptions.com
END:VEVENT
BEGIN:VEVENT
DTSTART;TZID=UTC:20251019T120000
DTEND;TZID=UTC:20251019T170000
DTSTAMP:20260423T165353
CREATED:20250821T045407Z
LAST-MODIFIED:20250821T045407Z
UID:10000775-1760875200-1760893200@www.activityoptions.com
SUMMARY:•Football Party at Center West
DESCRIPTION:You don’t have to be a football fan to enjoy this one. Broncos vs the Chargers upstairs\, movie downstairs. Denver residents use your free IML membership or inquire to set one up. Private pay $39. If the activity is full please join the waitlist so we know you are interested. \nRegister Online
URL:https://www.activityoptions.com/event/football-party-at-center-west-5/
LOCATION:Activity Options Community Center (Arvada)\, 7401 W 59th Ave\, Arvada\, Colorado\, 80003
ATTACH;FMTTYPE=image/png:https://www.activityoptions.com/wp-content/uploads/2022/01/Broncos-Football-1.png
ORGANIZER;CN="Activity Options LLC /Project World PBC":MAILTO:signup@activityoptions.com
END:VEVENT
BEGIN:VEVENT
DTSTART;TZID=UTC:20251024T080000
DTEND;TZID=UTC:20251024T140000
DTSTAMP:20260423T165353
CREATED:20250821T045812Z
LAST-MODIFIED:20250821T045812Z
UID:10000776-1761292800-1761314400@www.activityoptions.com
SUMMARY:•Top Golf
DESCRIPTION:You don’t have to know how to swing a club to join us for the\, first ever\, Top Golf Party! Come and enjoy this unique venue and the fresh evening air. Denver residents use your free IML membership or inquire to set one up. Private pay $99. If the activity is full please join the waitlist so we know you are interested. \nRegister Online
URL:https://www.activityoptions.com/event/top-golf-12/
LOCATION:Top Golf Denver\, 10601 E Easter Ave\, Centennial\, CO\, 80112\, United States
ATTACH;FMTTYPE=image/png:https://www.activityoptions.com/wp-content/uploads/2022/04/TopGolf.png
ORGANIZER;CN="Activity Options LLC /Project World PBC":MAILTO:signup@activityoptions.com
END:VEVENT
BEGIN:VEVENT
DTSTART;TZID=UTC:20251025T160000
DTEND;TZID=UTC:20251025T220000
DTSTAMP:20260423T165353
CREATED:20250821T051136Z
LAST-MODIFIED:20250923T005314Z
UID:10000777-1761408000-1761429600@www.activityoptions.com
SUMMARY:•Boo at the Zoo!
DESCRIPTION:Visit the Denver Zoo Haloween Lights after dinner at Spaghetti Factory. Denver residents use your free IML membership or inquire to set one up. Private pay $99. If the activity is full please join the waitlist so we know you are interested. \nRegister Online
URL:https://www.activityoptions.com/event/boo-at-the-zoo/
LOCATION:Denver Zoo\, 2300 Steele St\, Denver\, 80205\, United States
ATTACH;FMTTYPE=image/png:https://www.activityoptions.com/wp-content/uploads/2025/08/ZopoBoo.png
ORGANIZER;CN="Activity Options LLC /Project World PBC":MAILTO:signup@activityoptions.com
END:VEVENT
END:VCALENDAR