BEGIN:VCALENDAR
VERSION:2.0
PRODID:-//Activity Options - ECPv6.15.20//NONSGML v1.0//EN
CALSCALE:GREGORIAN
METHOD:PUBLISH
X-WR-CALNAME:Activity Options
X-ORIGINAL-URL:https://www.activityoptions.com
X-WR-CALDESC:Events for Activity Options
REFRESH-INTERVAL;VALUE=DURATION:PT1H
X-Robots-Tag:noindex
X-PUBLISHED-TTL:PT1H
BEGIN:VTIMEZONE
TZID:UTC
BEGIN:STANDARD
TZOFFSETFROM:+0000
TZOFFSETTO:+0000
TZNAME:UTC
DTSTART:20240101T000000
END:STANDARD
END:VTIMEZONE
BEGIN:VEVENT
DTSTART;TZID=UTC:20250801T080000
DTEND;TZID=UTC:20250801T180000
DTSTAMP:20260423T195620
CREATED:20250709T164702Z
LAST-MODIFIED:20250709T164702Z
UID:10000763-1754035200-1754071200@www.activityoptions.com
SUMMARY:Horse Back Riding - Rocky Mountain National Park
DESCRIPTION:1/2 DAY ride in Rocky Mtn National Park.  You don’t need to be an expert but a little experience is good.  225 weight limit. Denver residents use your free IML membership or inquire to set one up. Private pay $300. If the activity is full please join the waitlist so we know you are interested. \nRegister Online
URL:https://www.activityoptions.com/event/horse-back-riding-rocky-mountain-national-park/
LOCATION:Rocky Mountain National Park\, Colorado
ATTACH;FMTTYPE=image/png:https://www.activityoptions.com/wp-content/uploads/2025/05/Princeton.png
ORGANIZER;CN="Activity Options LLC /Project World PBC":MAILTO:signup@activityoptions.com
END:VEVENT
BEGIN:VEVENT
DTSTART;TZID=UTC:20250802T160000
DTEND;TZID=UTC:20250802T220000
DTSTAMP:20260423T195620
CREATED:20250514T053831Z
LAST-MODIFIED:20250514T053831Z
UID:10000751-1754150400-1754172000@www.activityoptions.com
SUMMARY:•SNL Movie Night
DESCRIPTION:Join Saturday Night Club (SNL) and enjoy the company of friends. Denver residents use your free IML membership or inquire to set one up. Private pay $39. If the activity is full please join the waitlist so we know you are interested. \nRegister Online
URL:https://www.activityoptions.com/event/snl-movie-night-6/
LOCATION:Activity Options Community Center (Arvada)\, 7401 W 59th Ave\, Arvada\, Colorado\, 80003
ATTACH;FMTTYPE=image/png:https://www.activityoptions.com/wp-content/uploads/2021/04/SNL-sq.png
ORGANIZER;CN="Activity Options LLC /Project World PBC":MAILTO:signup@activityoptions.com
END:VEVENT
BEGIN:VEVENT
DTSTART;TZID=UTC:20250803T110000
DTEND;TZID=UTC:20250803T180000
DTSTAMP:20260423T195620
CREATED:20250514T054343Z
LAST-MODIFIED:20250514T054343Z
UID:10000752-1754218800-1754244000@www.activityoptions.com
SUMMARY:•Rockies at Coors Field
DESCRIPTION:Rockies vs. Pittsburgh Pirates live at Coors Field. Denver residents use your free IML membership or inquire to set one up. Private pay $159. If the activity is full please join the waitlist so we know you are interested. \nRegister Online
URL:https://www.activityoptions.com/event/rockies-at-coors-field-3/
LOCATION:COORS FIELD\, 2001 Blake St\, Denver\, CO\, 80205
ATTACH;FMTTYPE=image/png:https://www.activityoptions.com/wp-content/uploads/2022/06/Rockies.png
ORGANIZER;CN="Activity Options LLC /Project World PBC":MAILTO:signup@activityoptions.com
GEO:39.7559779;-104.9933491
X-APPLE-STRUCTURED-LOCATION;VALUE=URI;X-ADDRESS=COORS FIELD 2001 Blake St Denver CO 80205;X-APPLE-RADIUS=500;X-TITLE=2001 Blake St:geo:-104.9933491,39.7559779
END:VEVENT
BEGIN:VEVENT
DTSTART;TZID=UTC:20250808T000000
DTEND;TZID=UTC:20250813T233000
DTSTAMP:20260423T195620
CREATED:20241111T222457Z
LAST-MODIFIED:20250422T015133Z
UID:10000680-1754611200-1755127800@www.activityoptions.com
SUMMARY:•NEW DATES & REDUCED PRICING! Iceland Viking Journey
DESCRIPTION:Six day\, five night private tour to the LAND OF FIRE AND ICE with a native guide. Visit the unique natural features of this amazing island including waterfalls\, beaches\, geysers\, icebergs and natural hot springs. Tour from Reykjavik to Akureyri to the South Coast and onto the Golden Circle. NOT ELIGIBLE FOR MILL LEVY FUNDING. Cost $6\,900. *$1\,500 deposit due to confirm registration; balance due June 1\, 2025. WAIT LIST ONLY\, please join the wait list so we know you are interested. \nRegister Online
URL:https://www.activityoptions.com/event/iceland-viking-journey/
LOCATION:Iceland\, Iceland
ATTACH;FMTTYPE=image/png:https://www.activityoptions.com/wp-content/uploads/2024/11/Iceland.png
ORGANIZER;CN="Activity Options LLC /Project World PBC":MAILTO:signup@activityoptions.com
END:VEVENT
BEGIN:VEVENT
DTSTART;TZID=UTC:20250808T170000
DTEND;TZID=UTC:20250808T230000
DTSTAMP:20260423T195620
CREATED:20250514T054927Z
LAST-MODIFIED:20250514T054927Z
UID:10000753-1754672400-1754694000@www.activityoptions.com
SUMMARY:•Rocky Mtn. Pro Wrestling
DESCRIPTION:New location\, new talent! Now at Jeffco Fair Grounds see live local professional wrestling. Denver residents use your free IML membership or inquire to set one up. Private pay $79. If the activity is full please join the waitlist so we know you are interested. \nRegister Online
URL:https://www.activityoptions.com/event/rocky-mtn-pro-wrestling-4/
LOCATION:Jeffco Fair Grounds\, 15200 W 6th Ave\, Golden\, CO\, 80401
ATTACH;FMTTYPE=image/png:https://www.activityoptions.com/wp-content/uploads/2022/04/RMProWresstling.png
ORGANIZER;CN="Activity Options LLC /Project World PBC":MAILTO:signup@activityoptions.com
END:VEVENT
BEGIN:VEVENT
DTSTART;TZID=UTC:20250810T090000
DTEND;TZID=UTC:20250810T150000
DTSTAMP:20260423T195620
CREATED:20250514T055530Z
LAST-MODIFIED:20250514T055530Z
UID:10000754-1754816400-1754838000@www.activityoptions.com
SUMMARY:•SPLASH Water Park
DESCRIPTION:Soak up the su and fun at SPLASH! Waterpark in Golden. Slides\, fountains\, pool or relax on the side. Denver residents use your free IML membership or inquire to set one up. Private pay $99. If the activity is full please join the waitlist so we know you are interested. \nRegister Online
URL:https://www.activityoptions.com/event/splash-water-park/
LOCATION:Splash Water Park\, 3151 Illinois Street\, Golden\, CO\, 80401
ATTACH;FMTTYPE=image/png:https://www.activityoptions.com/wp-content/uploads/2022/07/Splash.png
ORGANIZER;CN="Activity Options LLC /Project World PBC":MAILTO:signup@activityoptions.com
END:VEVENT
BEGIN:VEVENT
DTSTART;TZID=UTC:20250815T170000
DTEND;TZID=UTC:20250815T220000
DTSTAMP:20260423T195620
CREATED:20250514T060457Z
LAST-MODIFIED:20250514T060457Z
UID:10000755-1755277200-1755295200@www.activityoptions.com
SUMMARY:•Main Event
DESCRIPTION:Laser tag and arcade at Laser Tag. Dinner included. Denver residents use your free IML membership or inquire to set one up. Private pay $99. If the activity is full please join the waitlist so we know you are interested. \nRegister Online
URL:https://www.activityoptions.com/event/main-event/
LOCATION:Main Event\, 580 E 144th Ave\, Thornton\, Colorado\, 80023
ATTACH;FMTTYPE=image/png:https://www.activityoptions.com/wp-content/uploads/2025/05/MainEvent.png
ORGANIZER;CN="Activity Options LLC /Project World PBC":MAILTO:signup@activityoptions.com
END:VEVENT
BEGIN:VEVENT
DTSTART;TZID=UTC:20250817T090000
DTEND;TZID=UTC:20250817T150000
DTSTAMP:20260423T195620
CREATED:20250514T061013Z
LAST-MODIFIED:20250514T061013Z
UID:10000756-1755421200-1755442800@www.activityoptions.com
SUMMARY:•Day Hike Foothills
DESCRIPTION:Easy hike at a close-in mountain park or trail head. Lunch provided. Denver residents use your free IML membership or inquire to set one up. Private pay $59. If the activity is full please join the waitlist so we know you are interested. \nRegister Online
URL:https://www.activityoptions.com/event/day-hike-foothills/
LOCATION:Colorado Outdoors\, CO
ATTACH;FMTTYPE=image/png:https://www.activityoptions.com/wp-content/uploads/2025/02/FoothillsHike.png
ORGANIZER;CN="Activity Options LLC /Project World PBC":MAILTO:signup@activityoptions.com
GEO:39.5500507;-105.7820674
END:VEVENT
BEGIN:VEVENT
DTSTART;TZID=UTC:20250823T170000
DTEND;TZID=UTC:20250823T230000
DTSTAMP:20260423T195620
CREATED:20250514T061524Z
LAST-MODIFIED:20250514T063140Z
UID:10000757-1755968400-1755990000@www.activityoptions.com
SUMMARY:•Pippin The Musical - Phamaly Theater
DESCRIPTION:Phamaly Theater performance of the great American Musician Pippin. Performance at the Kilstrom Theater at the DCPA. Denver residents use your free IML membership or inquire to set one up. Private pay $99. If the activity is full please join the waitlist so we know you are interested. \nRegister Online
URL:https://www.activityoptions.com/event/pippin-the-musical-phamaly-theater/
LOCATION:Phamaly Theater Company\, 711 Park Avenue West\, Denver\, CO\, 80205\, United States
ATTACH;FMTTYPE=image/jpeg:https://www.activityoptions.com/wp-content/uploads/2025/05/Phamaly.jpeg
ORGANIZER;CN="Activity Options LLC /Project World PBC":MAILTO:signup@activityoptions.com
END:VEVENT
BEGIN:VEVENT
DTSTART;TZID=UTC:20250824T080000
DTEND;TZID=UTC:20250824T170000
DTSTAMP:20260423T195620
CREATED:20250514T062129Z
LAST-MODIFIED:20250514T062129Z
UID:10000758-1756022400-1756054800@www.activityoptions.com
SUMMARY:•Pontoon Boating on Dillon Reservoir
DESCRIPTION:Enjoy the best of this beautiful mountain area. Ride a pontoon boat on Dillon Reservoir and explore the area. Denver residents use your free IML membership or inquire to set one up. Private pay $225. If the activity is full please join the waitlist so we know you are interested. \nRegister Online
URL:https://www.activityoptions.com/event/pontoon-boating-on-dillon-reservoir-3/
LOCATION:Dillon Reservoir
ATTACH;FMTTYPE=image/png:https://www.activityoptions.com/wp-content/uploads/2022/07/PontoonDillon.png
ORGANIZER;CN="Activity Options LLC /Project World PBC":MAILTO:signup@activityoptions.com
END:VEVENT
BEGIN:VEVENT
DTSTART;TZID=UTC:20250829T170000
DTEND;TZID=UTC:20250829T210000
DTSTAMP:20260423T195620
CREATED:20250514T062546Z
LAST-MODIFIED:20250514T062546Z
UID:10000759-1756486800-1756501200@www.activityoptions.com
SUMMARY:•Top Golf
DESCRIPTION:You don’t have to know how to swing a club to join us for the\, first ever\, Top Golf Party! Come and enjoy this unique venue and the fresh evening air. Denver residents use your free IML membership or inquire to set one up. Private pay $99. If the activity is full please join the waitlist so we know you are interested. \nRegister Online
URL:https://www.activityoptions.com/event/top-golf-11/
LOCATION:Top Golf Denver\, 10601 E Easter Ave\, Centennial\, CO\, 80112\, United States
ATTACH;FMTTYPE=image/png:https://www.activityoptions.com/wp-content/uploads/2022/04/TopGolf.png
ORGANIZER;CN="Activity Options LLC /Project World PBC":MAILTO:signup@activityoptions.com
END:VEVENT
BEGIN:VEVENT
DTSTART;TZID=UTC:20250830T170000
DTEND;TZID=UTC:20250830T210000
DTSTAMP:20260423T195620
CREATED:20250514T063004Z
LAST-MODIFIED:20250514T063004Z
UID:10000760-1756573200-1756587600@www.activityoptions.com
SUMMARY:•Monthly Dinner Group
DESCRIPTION:Have dinner with friends at one of our favorite restaurants. Denver residents use your free IML membership or inquire to set one up. Private pay $79. If the activity is full please join the waitlist so we know you are interested. \nRegister Online
URL:https://www.activityoptions.com/event/monthly-dinner-group-14/
LOCATION:Activity Options Community Center (Arvada)\, 7401 W 59th Ave\, Arvada\, Colorado\, 80003
ATTACH;FMTTYPE=image/png:https://www.activityoptions.com/wp-content/uploads/2022/03/Dinner-Group.png
ORGANIZER;CN="Activity Options LLC /Project World PBC":MAILTO:signup@activityoptions.com
END:VEVENT
END:VCALENDAR